BEGIN:VCALENDAR
VERSION:2.0
PRODID:-//NEW Atlanta Parent - ECPv6.15.11//NONSGML v1.0//EN
CALSCALE:GREGORIAN
METHOD:PUBLISH
X-WR-CALNAME:NEW Atlanta Parent
X-ORIGINAL-URL:https://www.atlantaparent.com
X-WR-CALDESC:Events for NEW Atlanta Parent
REFRESH-INTERVAL;VALUE=DURATION:PT1H
X-Robots-Tag:noindex
X-PUBLISHED-TTL:PT1H
BEGIN:VTIMEZONE
TZID:America/New_York
BEGIN:DAYLIGHT
TZOFFSETFROM:-0500
TZOFFSETTO:-0400
TZNAME:EDT
DTSTART:20230312T070000
END:DAYLIGHT
BEGIN:STANDARD
TZOFFSETFROM:-0400
TZOFFSETTO:-0500
TZNAME:EST
DTSTART:20231105T060000
END:STANDARD
BEGIN:DAYLIGHT
TZOFFSETFROM:-0500
TZOFFSETTO:-0400
TZNAME:EDT
DTSTART:20240310T070000
END:DAYLIGHT
BEGIN:STANDARD
TZOFFSETFROM:-0400
TZOFFSETTO:-0500
TZNAME:EST
DTSTART:20241103T060000
END:STANDARD
BEGIN:DAYLIGHT
TZOFFSETFROM:-0500
TZOFFSETTO:-0400
TZNAME:EDT
DTSTART:20250309T070000
END:DAYLIGHT
BEGIN:STANDARD
TZOFFSETFROM:-0400
TZOFFSETTO:-0500
TZNAME:EST
DTSTART:20251102T060000
END:STANDARD
BEGIN:DAYLIGHT
TZOFFSETFROM:-0500
TZOFFSETTO:-0400
TZNAME:EDT
DTSTART:20260308T070000
END:DAYLIGHT
BEGIN:STANDARD
TZOFFSETFROM:-0400
TZOFFSETTO:-0500
TZNAME:EST
DTSTART:20261101T060000
END:STANDARD
END:VTIMEZONE
BEGIN:VTIMEZONE
TZID:UTC
BEGIN:STANDARD
TZOFFSETFROM:+0000
TZOFFSETTO:+0000
TZNAME:UTC
DTSTART:20230101T000000
END:STANDARD
END:VTIMEZONE
BEGIN:VEVENT
DTSTART;VALUE=DATE:20240419
DTEND;VALUE=DATE:20240506
DTSTAMP:20260425T172042
CREATED:20240319T131751Z
LAST-MODIFIED:20240506T123725Z
UID:10007954-1713484800-1714953599@www.atlantaparent.com
SUMMARY:Heart Strings: Creating Connection with the World’s Children
DESCRIPTION:With UNICEF USA and Moment Factory\, be transported through eight interactive zones to highlight the lives of children from around the world for a special experience-for-good. $18-$28; ages 7-12\, $0-$23.25.
URL:https://www.atlantaparent.com/event/heart-strings-creating-connection-with-the-worlds-children/
LOCATION:Pullman Yards\, Rogers St. NE\, Atlanta
ATTACH;FMTTYPE=image/jpeg:https://www.atlantaparent.com/wp-content/uploads/2024/03/UNICEF-Moment-Factory-4779-scaled-e1710854241556.jpg
GEO:33.7567288;-84.3291736
X-APPLE-STRUCTURED-LOCATION;VALUE=URI;X-ADDRESS=Pullman Yards Rogers St. NE Atlanta;X-APPLE-RADIUS=500;X-TITLE=Rogers St. NE:geo:-84.3291736,33.7567288
END:VEVENT
BEGIN:VEVENT
DTSTART;VALUE=DATE:20240420
DTEND;VALUE=DATE:20240422
DTSTAMP:20260425T172042
CREATED:20240317T173418Z
LAST-MODIFIED:20240321T185831Z
UID:10001033-1713571200-1713743999@www.atlantaparent.com
SUMMARY:Peter and the Wolf
DESCRIPTION:Suwanee Ballet presents Peter and the Wolf for families. April 20\, 2:30 and 6 p.m. and April 21\, 2:30 p.m. $18.50.
URL:https://www.atlantaparent.com/event/musical-animals-family-concert/
LOCATION:Sylvia Beard Theatre\, 2200 Buford Hwy NE\, Buford\, GA
GEO:34.1147117;-83.9964971
X-APPLE-STRUCTURED-LOCATION;VALUE=URI;X-ADDRESS=Sylvia Beard Theatre 2200 Buford Hwy NE Buford GA;X-APPLE-RADIUS=500;X-TITLE=2200 Buford Hwy NE:geo:-83.9964971,34.1147117
END:VEVENT
BEGIN:VEVENT
DTSTART;TZID=America/New_York:20240420T090000
DTEND;TZID=America/New_York:20240420T090000
DTSTAMP:20260425T172042
CREATED:20240319T133620Z
LAST-MODIFIED:20240319T133620Z
UID:10007957-1713603600-1713603600@www.atlantaparent.com
SUMMARY:Kendall Rae’s Earth Day Parade & Learning Fair
DESCRIPTION:This year’s theme\, “Plastic vs. Everyone\,” shines a spotlight on the urgent issue of plastic pollution with a parade\, vendors\, a sustainable fashion show\, a DJ\, a kids’ zone with a reading corner for little ones and more. Free admission.
URL:https://www.atlantaparent.com/event/kendall-raes-earth-day-parade-learning-fair/
LOCATION:City of South Fulton\, Old National Hwy.\, South Fulton
GEO:33.7302298;-84.5415079
X-APPLE-STRUCTURED-LOCATION;VALUE=URI;X-ADDRESS=City of South Fulton Old National Hwy. South Fulton;X-APPLE-RADIUS=500;X-TITLE=Old National Hwy.:geo:-84.5415079,33.7302298
END:VEVENT
BEGIN:VEVENT
DTSTART;TZID=America/New_York:20240420T090000
DTEND;TZID=America/New_York:20240420T120000
DTSTAMP:20260425T172042
CREATED:20240409T124452Z
LAST-MODIFIED:20240409T124452Z
UID:10007989-1713603600-1713614400@www.atlantaparent.com
SUMMARY:Earth Day
DESCRIPTION:Bring your recyclables\, documents for shredding and old electronics for disposal\, enjoy music from a DJ\, and pick up a bee-friendly mini plant. Free admission.
URL:https://www.atlantaparent.com/event/earth-day-2/
LOCATION:The Avenue West Cobb\, 3625 Dallas Hwy.\, Marietta
GEO:33.9523107;-84.6599349
X-APPLE-STRUCTURED-LOCATION;VALUE=URI;X-ADDRESS=The Avenue West Cobb 3625 Dallas Hwy. Marietta;X-APPLE-RADIUS=500;X-TITLE=3625 Dallas Hwy.:geo:-84.6599349,33.9523107
END:VEVENT
BEGIN:VEVENT
DTSTART;TZID=America/New_York:20240420T113000
DTEND;TZID=America/New_York:20240420T113000
DTSTAMP:20260425T172042
CREATED:20240321T184745Z
LAST-MODIFIED:20240321T184745Z
UID:10007973-1713612600-1713612600@www.atlantaparent.com
SUMMARY:Books Alive
DESCRIPTION:Childhood classics come to life with master storyteller and children’s author Mama Koku. $7.
URL:https://www.atlantaparent.com/event/books-alive/
LOCATION: Aurora Theatre\, 128 East Pike St.\, Lawrenceville
END:VEVENT
BEGIN:VEVENT
DTSTART;TZID=America/New_York:20240420T130000
DTEND;TZID=America/New_York:20240420T170000
DTSTAMP:20260425T172042
CREATED:20240319T135116Z
LAST-MODIFIED:20240319T135116Z
UID:10007963-1713618000-1713632400@www.atlantaparent.com
SUMMARY:Waterfest
DESCRIPTION:Listen to local talent while exploring the Environmental Expo with local organizations highlighting their good work and family-friendly activities. Free admission. \n 
URL:https://www.atlantaparent.com/event/waterfest/
LOCATION:Midland Greenway\, 682 Grove St.\, Gainesville
GEO:34.2928607;-83.8253379
X-APPLE-STRUCTURED-LOCATION;VALUE=URI;X-ADDRESS=Midland Greenway 682 Grove St. Gainesville;X-APPLE-RADIUS=500;X-TITLE=682 Grove St.:geo:-83.8253379,34.2928607
END:VEVENT
BEGIN:VEVENT
DTSTART;TZID=America/New_York:20240420T130000
DTEND;TZID=America/New_York:20240420T170000
DTSTAMP:20260425T172042
CREATED:20240319T135327Z
LAST-MODIFIED:20240319T135327Z
UID:10007964-1713618000-1713632400@www.atlantaparent.com
SUMMARY:Earth Day Open House
DESCRIPTION:Tour the facility\, learn how wastewater is treated\, and enjoy family activities and information from community agencies. Free admission.
URL:https://www.atlantaparent.com/event/earth-day-open-house/
LOCATION:Northwest Water Reclamation Facility\, 3740 Old 41 Hwy. NW\, Kennesaw
END:VEVENT
BEGIN:VEVENT
DTSTART;TZID=America/New_York:20240421T130000
DTEND;TZID=America/New_York:20240421T170000
DTSTAMP:20260425T172042
CREATED:20240321T181304Z
LAST-MODIFIED:20240321T181304Z
UID:10007969-1713704400-1713718800@www.atlantaparent.com
SUMMARY:SkyHigh Car Show
DESCRIPTION:View a variety of classic\, muscle and super cars on display\, listen to live music\, play in the kids’ zone and more. $5. \n 
URL:https://www.atlantaparent.com/event/skyhigh-car-show/
LOCATION:Aviation History & Technology Center\, 555 Perrin Rd.\, Marietta
END:VEVENT
BEGIN:VEVENT
DTSTART;TZID=UTC:20240425T190000
DTEND;TZID=UTC:20240427T190000
DTSTAMP:20260425T172042
CREATED:20240311T221706Z
LAST-MODIFIED:20240321T184948Z
UID:10001264-1714071600-1714244400@www.atlantaparent.com
SUMMARY:Roald Dahl’s Matilda the Musical
DESCRIPTION:East Coweta High School On Stage presents this favorite children’s tale as a musical. April 25-27\, 7 p.m. $15. \n 
URL:https://www.atlantaparent.com/event/matilda-the-musical/
LOCATION:The Nixon Centre for the Arts\, 1523 Lower Fayetteville Rd.\, Newnan
END:VEVENT
BEGIN:VEVENT
DTSTART;VALUE=DATE:20240426
DTEND;VALUE=DATE:20240429
DTSTAMP:20260425T172042
CREATED:20240415T125723Z
LAST-MODIFIED:20240415T125723Z
UID:10008283-1714089600-1714348799@www.atlantaparent.com
SUMMARY:Little House on the Prairie: The Musical
DESCRIPTION:Camelot Theatre Company presents Laura Ingalls’ westward adventures as a musical. April 26\, 7 p.m.; April 27\, 2 and 7 p.m. and April 28\, 2 p.m. $10.
URL:https://www.atlantaparent.com/event/little-house-on-the-prairie-the-musical/
LOCATION:GSCS Enrichment Center Stage\, 205 Spalding Dr.\, Griffin
END:VEVENT
BEGIN:VEVENT
DTSTART;VALUE=DATE:20240427
DTEND;VALUE=DATE:20250428
DTSTAMP:20260425T172042
CREATED:20240415T125339Z
LAST-MODIFIED:20250401T144411Z
UID:10008282-1714176000-1745798399@www.atlantaparent.com
SUMMARY:Horizon of Khufu
DESCRIPTION:This immersive journey transports visitors back to Ancient Egypt with views of the Great Pyramid of Giza\, exploring the intricate tombs of Pharoah Khufu and more. For ages 8 and older. $30-$38; ages 8-17\, $26-$34.
URL:https://www.atlantaparent.com/event/horizon-of-khufu/
LOCATION:Eclipso Atlanta\, 550 Somerset Terrace NE\, Atlanta
ATTACH;FMTTYPE=image/jpeg:https://www.atlantaparent.com/wp-content/uploads/2024/04/Pyramid-Panorama-Horizon-of-Khufu-16-9-©-Excurio-scaled.jpg
GEO:33.7688859;-84.3615505
X-APPLE-STRUCTURED-LOCATION;VALUE=URI;X-ADDRESS=Eclipso Atlanta 550 Somerset Terrace NE Atlanta;X-APPLE-RADIUS=500;X-TITLE=550 Somerset Terrace NE:geo:-84.3615505,33.7688859
END:VEVENT
BEGIN:VEVENT
DTSTART;TZID=America/New_York:20240427T070000
DTEND;TZID=America/New_York:20240427T140000
DTSTAMP:20260425T172042
CREATED:20240409T124157Z
LAST-MODIFIED:20240409T124157Z
UID:10007988-1714201200-1714226400@www.atlantaparent.com
SUMMARY:Move for Grady
DESCRIPTION:This annual ride/run/walk fundraiser supports Grady Health System\, and at the Pop-Up on the Plaza finish line celebration\, participate in fun games\, enjoy food and more. $30-$75; guest ticket\, $40.
URL:https://www.atlantaparent.com/event/move-for-grady/
LOCATION:Center Parc Stadium\, 755 Hank Aaron Dr.\, Atlanta
ATTACH;FMTTYPE=image/jpeg:https://www.atlantaparent.com/wp-content/uploads/2024/04/City-Riders-e1712666370710.jpg
GEO:33.7365043;-84.3897931
X-APPLE-STRUCTURED-LOCATION;VALUE=URI;X-ADDRESS=Center Parc Stadium 755 Hank Aaron Dr. Atlanta;X-APPLE-RADIUS=500;X-TITLE=755 Hank Aaron Dr.:geo:-84.3897931,33.7365043
END:VEVENT
BEGIN:VEVENT
DTSTART;TZID=America/New_York:20240427T090000
DTEND;TZID=America/New_York:20240427T180000
DTSTAMP:20260425T172042
CREATED:20240324T172039Z
LAST-MODIFIED:20240325T161422Z
UID:10004051-1714208400-1714240800@www.atlantaparent.com
SUMMARY:Strawberry Festival at Mitcham Farm
DESCRIPTION:Pick strawberries\, enjoy live music\, ride helicopters\, see farm animals\, play in the kid’s area\, and more. Admission price TBA.
URL:https://www.atlantaparent.com/event/strawberry-festival-at-mitcham-farm/
LOCATION:Mitcham Farm\, 797 Macedonia Church Rd.\, Oxford
END:VEVENT
BEGIN:VEVENT
DTSTART;TZID=America/New_York:20240427T100000
DTEND;TZID=America/New_York:20240427T140000
DTSTAMP:20260425T172043
CREATED:20240306T163728Z
LAST-MODIFIED:20240321T181518Z
UID:10005872-1714212000-1714226400@www.atlantaparent.com
SUMMARY:Gwinnett Kids Expo
DESCRIPTION:This family fun event includes face painting\, LEGO building\, a book mobile and more. The first 300 kids in line will receive a string backpack\, and bring non-perishable food items to donate to receive a ticket for special prize drawings. Registration requested. Free admission.
URL:https://www.atlantaparent.com/event/gwinnett-health-fair-and-all-about-kids-expo/
LOCATION:Gwinnett County Fairgrounds\, 2405 Sugarloaf Pkwy.\, Lawrenceville
END:VEVENT
BEGIN:VEVENT
DTSTART;TZID=America/New_York:20240428T100000
DTEND;TZID=America/New_York:20240428T183000
DTSTAMP:20260425T172043
CREATED:20240425T203716Z
LAST-MODIFIED:20240425T203716Z
UID:10008299-1714298400-1714329000@www.atlantaparent.com
SUMMARY:Wishes! Interactive Princess Ball
DESCRIPTION:Watch fairy tale stories come to life with a princess sash\, keepsake buttons\, dazzling stage performances\, meeting your favorite characters and more. Special sensory areas are available when quiet time is needed. Reservation required. $22.75-$95.
URL:https://www.atlantaparent.com/event/wishes-interactive-princess-ball/
LOCATION:Atlanta Marriott Perimeter Center\, 246 Perimeter Center Pkwy. NE\, Atlanta
GEO:33.9173062;-84.3446633
X-APPLE-STRUCTURED-LOCATION;VALUE=URI;X-ADDRESS=Atlanta Marriott Perimeter Center 246 Perimeter Center Pkwy. NE Atlanta;X-APPLE-RADIUS=500;X-TITLE=246 Perimeter Center Pkwy. NE:geo:-84.3446633,33.9173062
END:VEVENT
BEGIN:VEVENT
DTSTART;TZID=America/New_York:20240428T170000
DTEND;TZID=America/New_York:20240428T170000
DTSTAMP:20260425T172043
CREATED:20240423T130901Z
LAST-MODIFIED:20240423T130901Z
UID:10008297-1714323600-1714323600@www.atlantaparent.com
SUMMARY:Atlanta Interfaith Hunger Seder
DESCRIPTION:Rabbi Jason Holtz and other interfaith clergy will lead participants through a seder program focused on alleviating food insecurity. $54; ages 6-18\, $18; ages 5 and younger\, free.
URL:https://www.atlantaparent.com/event/atlanta-interfaith-hunger-seder/
LOCATION:The Selig Center\, 1440 Spring St. NW\, Atlanta
END:VEVENT
BEGIN:VEVENT
DTSTART;TZID=America/New_York:20240501T180000
DTEND;TZID=America/New_York:20240501T200000
DTSTAMP:20260425T172043
CREATED:20240507T195748Z
LAST-MODIFIED:20240507T195807Z
UID:10008416-1714586400-1714593600@www.atlantaparent.com
SUMMARY:Weekly Wednesday Night Music Series
DESCRIPTION:Enjoy fresh air\, fun and great music at the Amphitheater next to Whole Foods.
URL:https://www.atlantaparent.com/event/weekly-wednesday-night-music-series/2024-05-01/
LOCATION:North Decatur Station\, Church St. & N Decatur Rd.\, Decatur
END:VEVENT
BEGIN:VEVENT
DTSTART;VALUE=DATE:20240502
DTEND;VALUE=DATE:20240601
DTSTAMP:20260425T172043
CREATED:20240502T142905Z
LAST-MODIFIED:20240502T142905Z
UID:10008309-1714608000-1717199999@www.atlantaparent.com
SUMMARY:LEGO Activities at Georgia Aquarium
DESCRIPTION:Build bricktastic memories during this partnership with LEGO Discovery Center Atlanta featuring a three-foot LEGO whale shark and special crab-building LEGO workshops on Fridays at 10 and 11:30 a.m. and 2 p.m. $39.99+; ages 2 and younger\, free.
URL:https://www.atlantaparent.com/event/lego-activities-at-georgia-aquarium/
LOCATION:Georgia Aquarium\, 225 Baker St.\, Atlanta
ATTACH;FMTTYPE=image/jpeg:https://www.atlantaparent.com/wp-content/uploads/2024/05/LEGO-Whale-Shark-at-Georgia-Aquarium-built-by-LEGO-Discovery-Center-Atlantas-Master-Model-Builder-NR-scaled-e1714659850483.jpg
GEO:33.7634237;-84.394891
X-APPLE-STRUCTURED-LOCATION;VALUE=URI;X-ADDRESS=Georgia Aquarium 225 Baker St. Atlanta;X-APPLE-RADIUS=500;X-TITLE=225 Baker St.:geo:-84.394891,33.7634237
END:VEVENT
BEGIN:VEVENT
DTSTART;TZID=America/New_York:20240502T193000
DTEND;TZID=America/New_York:20240502T223000
DTSTAMP:20260425T172043
CREATED:20240429T153223Z
LAST-MODIFIED:20240429T153223Z
UID:10008307-1714678200-1714689000@www.atlantaparent.com
SUMMARY:Celebrate Freedom Rodeo
DESCRIPTION:Saddle up for this top-notch rodeo with competitions in Bareback Bronc Riding\, Bull Riding\, Calf Roping and more\, along with fun for the family with BBQ\, mechanical bull riding\, a marketplace\, pony rides and more. Gates open at 6 p.m. $10-$20; ages 4 and younger\, free.
URL:https://www.atlantaparent.com/event/celebrate-freedom-rodeo/
LOCATION:Wills Park\, 1825 Old Milton Parkway\, Alpharetta
ATTACH;FMTTYPE=image/jpeg:https://www.atlantaparent.com/wp-content/uploads/2024/04/JTP_1661-scaled-e1714404727648.jpg
GEO:34.072459;-84.3052249
X-APPLE-STRUCTURED-LOCATION;VALUE=URI;X-ADDRESS=Wills Park 1825 Old Milton Parkway Alpharetta;X-APPLE-RADIUS=500;X-TITLE=1825 Old Milton Parkway:geo:-84.3052249,34.072459
END:VEVENT
BEGIN:VEVENT
DTSTART;VALUE=DATE:20240503
DTEND;VALUE=DATE:20240504
DTSTAMP:20260425T172043
CREATED:20250203T150544Z
LAST-MODIFIED:20250217T164523Z
UID:10007877-1714694400-1714780799@www.atlantaparent.com
SUMMARY:Spin The District
DESCRIPTION:These three family-friendly festivals feature bike racing\, food and free neighborhood fun in Union City\, Hapeville and College Park. Registration required to ride.
URL:https://www.atlantaparent.com/event/spin-the-district/2024-05-03/
END:VEVENT
BEGIN:VEVENT
DTSTART;TZID=America/New_York:20240503T180000
DTEND;TZID=America/New_York:20240503T200000
DTSTAMP:20260425T172043
CREATED:20230508T151349Z
LAST-MODIFIED:20240503T133246Z
UID:10008311-1714759200-1714766400@www.atlantaparent.com
SUMMARY:Friday Night Live
DESCRIPTION:Enjoy music from local acts every other week. 6-8 p.m.
URL:https://www.atlantaparent.com/event/thursday-night-live/2024-05-03/
LOCATION:The Forum Peachtree Corners\, 5155 Peachtree Pkwy.\, Peachtree Corners
GEO:33.9811887;-84.2179168
X-APPLE-STRUCTURED-LOCATION;VALUE=URI;X-ADDRESS=The Forum Peachtree Corners 5155 Peachtree Pkwy. Peachtree Corners;X-APPLE-RADIUS=500;X-TITLE=5155 Peachtree Pkwy.:geo:-84.2179168,33.9811887
END:VEVENT
BEGIN:VEVENT
DTSTART;TZID=America/New_York:20240503T180000
DTEND;TZID=America/New_York:20240503T210000
DTSTAMP:20260425T172043
CREATED:20210306T115406Z
LAST-MODIFIED:20240503T141438Z
UID:10008387-1714759200-1714770000@www.atlantaparent.com
SUMMARY:First Friday in Downtown Canton
DESCRIPTION:Live music\, food trucks\, extended hours of shopping and more. 6-9 p.m.
URL:https://www.atlantaparent.com/event/first-friday-in-downtown-canton/2024-05-03/
LOCATION:Downtown Canton\, 250 E Main St.\, Canton
END:VEVENT
BEGIN:VEVENT
DTSTART;TZID=America/New_York:20240503T190000
DTEND;TZID=America/New_York:20240503T190000
DTSTAMP:20260425T172043
CREATED:20210305T113707Z
LAST-MODIFIED:20240503T141019Z
UID:10008381-1714762800-1714762800@www.atlantaparent.com
SUMMARY:Summer Concert Series at Newtown Park
DESCRIPTION:Free concert series with food trucks\, beer and wine available. Gates open at 6 p.m.; concerts start at 7 p.m.
URL:https://www.atlantaparent.com/event/summer-concert-series-at-newtown-park/2024-05-03/
LOCATION:Burkhalter Park Ampitheater\, 3150 Old Alabama Rd.\, Johns Creek
END:VEVENT
BEGIN:VEVENT
DTSTART;TZID=America/New_York:20240503T190000
DTEND;TZID=America/New_York:20240503T190000
DTSTAMP:20260425T172043
CREATED:20240522T130908Z
LAST-MODIFIED:20240522T130908Z
UID:10008446-1714762800-1714762800@www.atlantaparent.com
SUMMARY:First Friday Concert Series
DESCRIPTION:Enjoy live music the first Friday of each month. Concerts begin at 7 p.m.\, but the public is welcome to set up beginning at 5:30 p.m.
URL:https://www.atlantaparent.com/event/first-friday-concert-series/2024-05-03/
LOCATION:Church Street Greenspace\, 4316 Church St.\, Tucker
END:VEVENT
BEGIN:VEVENT
DTSTART;TZID=America/New_York:20240504T140000
DTEND;TZID=America/New_York:20240505T170000
DTSTAMP:20260425T172043
CREATED:20240425T164237Z
LAST-MODIFIED:20240425T164237Z
UID:10008298-1714831200-1714928400@www.atlantaparent.com
SUMMARY:Water Safety Day
DESCRIPTION:Free water safety lessons are available at Goldfish Swim School locations. \n\nSandy Springs: May 4\, 2-4 p.m.\nRoswell Village and Johns Creek: May 5\, 3-5 p.m.
URL:https://www.atlantaparent.com/event/water-safety-day-2/
LOCATION:Goldfish Swim School
GEO:34.0315367;-84.188235
END:VEVENT
BEGIN:VEVENT
DTSTART;TZID=America/New_York:20240505T090000
DTEND;TZID=America/New_York:20240505T120000
DTSTAMP:20260425T172043
CREATED:20240424T154650Z
LAST-MODIFIED:20240425T164834Z
UID:10002733-1714899600-1714910400@www.atlantaparent.com
SUMMARY:Swim Stroke Clinic
DESCRIPTION:Eight-time Olympic medalist Jason Lezak will combine an in-pool training session with an inspirational seminar for swimmers ages 11 and older. $100.
URL:https://www.atlantaparent.com/event/water-safety-day/
LOCATION:Marcus Jewish Community Center of Atlanta\, 5342 Tilly Mill Rd.\, Dunwoody
GEO:33.9463766;-84.3047851
X-APPLE-STRUCTURED-LOCATION;VALUE=URI;X-ADDRESS=Marcus Jewish Community Center of Atlanta 5342 Tilly Mill Rd. Dunwoody;X-APPLE-RADIUS=500;X-TITLE=5342 Tilly Mill Rd.:geo:-84.3047851,33.9463766
END:VEVENT
BEGIN:VEVENT
DTSTART;TZID=UTC:20240505T130000
DTEND;TZID=UTC:20240505T130000
DTSTAMP:20260425T172043
CREATED:20240221T235647Z
LAST-MODIFIED:20240417T140519Z
UID:10001632-1714914000-1714914000@www.atlantaparent.com
SUMMARY:Wild Kratts Live 2.0: Activate Creature Power!
DESCRIPTION:Embark on an extraordinary adventure with the Kratts brothers with this interactive experience. $30+.
URL:https://www.atlantaparent.com/event/wild-kratts-live/
LOCATION:Fox Theatre\, 660 Peachtree St. NE\,  Atlanta
GEO:33.7726196;-84.3855612
X-APPLE-STRUCTURED-LOCATION;VALUE=URI;X-ADDRESS=Fox Theatre 660 Peachtree St. NE  Atlanta;X-APPLE-RADIUS=500;X-TITLE=660 Peachtree St. NE:geo:-84.3855612,33.7726196
END:VEVENT
BEGIN:VEVENT
DTSTART;TZID=America/New_York:20240505T193000
DTEND;TZID=America/New_York:20240505T193000
DTSTAMP:20260425T172043
CREATED:20210602T201944Z
LAST-MODIFIED:20240503T141903Z
UID:10008393-1714937400-1714937400@www.atlantaparent.com
SUMMARY:Concerts by the Springs
DESCRIPTION:The City Green opens at 5 p.m. Festivities begin at 5:30 p.m.; music starts at 7:30 p.m.
URL:https://www.atlantaparent.com/event/concerts-by-the-springs/2024-05-05/
LOCATION: City Springs\, 1 Galambos Way\, Sandy Springs
GEO:33.9249799;-84.3805709
X-APPLE-STRUCTURED-LOCATION;VALUE=URI;X-ADDRESS= City Springs 1 Galambos Way Sandy Springs;X-APPLE-RADIUS=500;X-TITLE=1 Galambos Way:geo:-84.3805709,33.9249799
END:VEVENT
BEGIN:VEVENT
DTSTART;TZID=America/New_York:20240509T173000
DTEND;TZID=America/New_York:20240509T200000
DTSTAMP:20260425T172043
CREATED:20240503T135845Z
LAST-MODIFIED:20240503T135845Z
UID:10008366-1715275800-1715284800@www.atlantaparent.com
SUMMARY:Sundown Social
DESCRIPTION:Neighborhood gathering with food\, yard games and live music. Doors open at 5:30 p.m.
URL:https://www.atlantaparent.com/event/sundown-social/2024-05-09/
LOCATION:City Green\, 1 Galambos Way\, Sandy Springs
END:VEVENT
BEGIN:VEVENT
DTSTART;VALUE=DATE:20240510
DTEND;VALUE=DATE:20241028
DTSTAMP:20260425T172043
CREATED:20240521T165422Z
LAST-MODIFIED:20240606T191229Z
UID:10008442-1715299200-1730073599@www.atlantaparent.com
SUMMARY:Down in Fraggle Rock Special Exhibition
DESCRIPTION:Take a deep dive into the “Fraggle Rock” universe with this behind-the-scenes look into the history and making of the classic 1980s TV show. Museum only ticket: $16; ages 2-12\, $12; ages 1 and younger\, free.
URL:https://www.atlantaparent.com/event/down-in-fraggle-rock-special-exhibition/
LOCATION:Center for Puppetry Arts\, 1404 Spring Street NW\, Atlanta
ATTACH;FMTTYPE=image/webp:https://www.atlantaparent.com/wp-content/uploads/2024/05/FraggleRock-GorgsFraggles-e1716309986842.webp
GEO:33.7928692;-84.3895974
X-APPLE-STRUCTURED-LOCATION;VALUE=URI;X-ADDRESS=Center for Puppetry Arts 1404 Spring Street NW Atlanta;X-APPLE-RADIUS=500;X-TITLE=1404 Spring Street NW:geo:-84.3895974,33.7928692
END:VEVENT
END:VCALENDAR