BEGIN:VCALENDAR
VERSION:2.0
PRODID:-//NEW Atlanta Parent - ECPv6.15.11//NONSGML v1.0//EN
CALSCALE:GREGORIAN
METHOD:PUBLISH
X-WR-CALNAME:NEW Atlanta Parent
X-ORIGINAL-URL:https://www.atlantaparent.com
X-WR-CALDESC:Events for NEW Atlanta Parent
REFRESH-INTERVAL;VALUE=DURATION:PT1H
X-Robots-Tag:noindex
X-PUBLISHED-TTL:PT1H
BEGIN:VTIMEZONE
TZID:America/New_York
BEGIN:DAYLIGHT
TZOFFSETFROM:-0500
TZOFFSETTO:-0400
TZNAME:EDT
DTSTART:20230312T070000
END:DAYLIGHT
BEGIN:STANDARD
TZOFFSETFROM:-0400
TZOFFSETTO:-0500
TZNAME:EST
DTSTART:20231105T060000
END:STANDARD
BEGIN:DAYLIGHT
TZOFFSETFROM:-0500
TZOFFSETTO:-0400
TZNAME:EDT
DTSTART:20240310T070000
END:DAYLIGHT
BEGIN:STANDARD
TZOFFSETFROM:-0400
TZOFFSETTO:-0500
TZNAME:EST
DTSTART:20241103T060000
END:STANDARD
BEGIN:DAYLIGHT
TZOFFSETFROM:-0500
TZOFFSETTO:-0400
TZNAME:EDT
DTSTART:20250309T070000
END:DAYLIGHT
BEGIN:STANDARD
TZOFFSETFROM:-0400
TZOFFSETTO:-0500
TZNAME:EST
DTSTART:20251102T060000
END:STANDARD
END:VTIMEZONE
BEGIN:VTIMEZONE
TZID:UTC
BEGIN:STANDARD
TZOFFSETFROM:+0000
TZOFFSETTO:+0000
TZNAME:UTC
DTSTART:20230101T000000
END:STANDARD
END:VTIMEZONE
BEGIN:VEVENT
DTSTART;VALUE=DATE:20240302
DTEND;VALUE=DATE:20240304
DTSTAMP:20260425T122804
CREATED:20250217T161257Z
LAST-MODIFIED:20250324T123958Z
UID:10009164-1709337600-1709510399@www.atlantaparent.com
SUMMARY:Tulip Festival
DESCRIPTION:Celebrate the season of spring with a u-pick tulip field\, farm animals\, an artist market\, food trucks and tons of family-friendly activities. March 8-30. Sat.-Sun. 10 a.m.-6 p.m. $17.95; ages 2 and younger\, free.
URL:https://www.atlantaparent.com/event/tulip-festival-3/2024-03-02/
LOCATION:Yule Forest\, 3565 Hwy. 155 N.\, Stockbridge
ATTACH;FMTTYPE=image/jpeg:https://www.atlantaparent.com/wp-content/uploads/2022/02/In-the-Tulip-Field-e1645718575946.jpg
GEO:33.546463;-84.13941
X-APPLE-STRUCTURED-LOCATION;VALUE=URI;X-ADDRESS=Yule Forest 3565 Hwy. 155 N. Stockbridge;X-APPLE-RADIUS=500;X-TITLE=3565 Hwy. 155 N.:geo:-84.13941,33.546463
END:VEVENT
BEGIN:VEVENT
DTSTART;TZID=America/New_York:20240302T110000
DTEND;TZID=America/New_York:20240302T160000
DTSTAMP:20260425T122804
CREATED:20240223T134230Z
LAST-MODIFIED:20240223T134230Z
UID:10007907-1709377200-1709395200@www.atlantaparent.com
SUMMARY:Music Family Fun Day
DESCRIPTION:Presented by School of Rock\, enjoy live musical performances\, snacks\, musical activities\, giveaways and more. Free admission.
URL:https://www.atlantaparent.com/event/music-family-fun-day/
LOCATION:Coal Mountain Park Community Center\, 3560 Settingdown Rd.\, Cumming
END:VEVENT
BEGIN:VEVENT
DTSTART;TZID=UTC:20240302T113000
DTEND;TZID=UTC:20240302T113000
DTSTAMP:20260425T122804
CREATED:20240124T000807Z
LAST-MODIFIED:20240222T151547Z
UID:10001826-1709379000-1709379000@www.atlantaparent.com
SUMMARY:Air Up There
DESCRIPTION:Big Thinkers Science Exploration dazzles and informs with an exploration on the properties of air and pressure. $7.
URL:https://www.atlantaparent.com/event/air-up-there/
LOCATION:Aurora Theatre\, 128 E. Pike St.\, Lawrenceville
GEO:33.9569793;-83.9872763
X-APPLE-STRUCTURED-LOCATION;VALUE=URI;X-ADDRESS=Aurora Theatre 128 E. Pike St. Lawrenceville;X-APPLE-RADIUS=500;X-TITLE=128 E. Pike St.:geo:-83.9872763,33.9569793
END:VEVENT
BEGIN:VEVENT
DTSTART;VALUE=DATE:20240303
DTEND;VALUE=DATE:20240304
DTSTAMP:20260425T122804
CREATED:20250218T151614Z
LAST-MODIFIED:20250227T144658Z
UID:10005652-1709424000-1709510399@www.atlantaparent.com
SUMMARY:Celebrate Purim
DESCRIPTION:Make your own noisemaker in the Art Studio. March 9\, 9:30 a.m.-4:30 p.m. $19.95; ages 11 months and younger\, free.
URL:https://www.atlantaparent.com/event/celebrate-purim/
LOCATION:Children’s Museum of Atlanta\, 275 Centennial Olympic Park Dr. NW\, Atlanta\, GA
END:VEVENT
BEGIN:VEVENT
DTSTART;VALUE=DATE:20240307
DTEND;VALUE=DATE:20240318
DTSTAMP:20260425T122804
CREATED:20240214T174623Z
LAST-MODIFIED:20240222T151912Z
UID:10006262-1709769600-1710719999@www.atlantaparent.com
SUMMARY:Into the Woods JR.
DESCRIPTION:This adventurous story weaves together multiple storybook characters to search for Happily Ever Afters as presented by Jerry’s Habima Theatre (an inclusive theater company with actors with disabilities). March 7\, 7:30 p.m.; March 9\, 8:30 p.m.; March 10\, 1 p.m.; March 14\, 7:30 p.m.; March 16\, 8:30 p.m. and March 17\, 1 and 6 p.m. $36; ages 12 and younger\, $15.
URL:https://www.atlantaparent.com/event/into-the-woods-jr/
LOCATION:MJCCA at Zaban Park\, 5342 Tilly Mill Road\, Dunwoody
GEO:33.9463766;-84.3047851
X-APPLE-STRUCTURED-LOCATION;VALUE=URI;X-ADDRESS=MJCCA at Zaban Park 5342 Tilly Mill Road Dunwoody;X-APPLE-RADIUS=500;X-TITLE=5342 Tilly Mill Road:geo:-84.3047851,33.9463766
END:VEVENT
BEGIN:VEVENT
DTSTART;VALUE=DATE:20240308
DTEND;VALUE=DATE:20240325
DTSTAMP:20260425T122804
CREATED:20240219T193055Z
LAST-MODIFIED:20240222T152139Z
UID:10007897-1709902800-1711285200@www.atlantaparent.com
SUMMARY:Disney’s Beauty and the Beast
DESCRIPTION:Step into this enchanted fairytale as Belle helps The Beast\, who is trapped under the spell of an enchantress. March 8-24. See website for showtimes. $38-$98.
URL:https://www.atlantaparent.com/event/disneys-beauty-beast-kids/2024-03-08/
LOCATION:Byers Theatre\, 1 Galambos Way\, Sandy Springs
END:VEVENT
BEGIN:VEVENT
DTSTART;VALUE=DATE:20240309
DTEND;VALUE=DATE:20240310
DTSTAMP:20260425T122804
CREATED:20240222T152607Z
LAST-MODIFIED:20240222T152607Z
UID:10007898-1709942400-1710028799@www.atlantaparent.com
SUMMARY:Charlie and The Dance Factory
DESCRIPTION:Step into a world of pure imagination with fun choreography\, vibrant costumes and delightful magic presented by Roswell Dance Starz. March 9\, 2 and 7 p.m. $16.50.
URL:https://www.atlantaparent.com/event/charlie-and-the-dance-factory/
LOCATION:Roswell Cultural Arts Center\, 950 Forrest St.\, Roswell
END:VEVENT
BEGIN:VEVENT
DTSTART;VALUE=DATE:20240309
DTEND;VALUE=DATE:20240325
DTSTAMP:20260425T122804
CREATED:20240222T160329Z
LAST-MODIFIED:20240222T160329Z
UID:10007901-1709942400-1711324799@www.atlantaparent.com
SUMMARY:The Merchant of Venice (A LadyShakes Production)
DESCRIPTION:Daniel Parvis \nShylock\, Antonio and Portia face off in this complicated story that’s challenged audiences for centuries. March 9-24. See website for showtimes. $24.
URL:https://www.atlantaparent.com/event/the-merchant-of-venice/
LOCATION:Shakespeare Tavern Playhouse\, 499 Peachtree Street\, Atlanta
ATTACH;FMTTYPE=image/jpeg:https://www.atlantaparent.com/wp-content/uploads/2024/02/Shakespeare-Merchant-Photography-by-Daniel-Parvis-e1708617775278.jpg
GEO:33.7681947;-84.3849252
X-APPLE-STRUCTURED-LOCATION;VALUE=URI;X-ADDRESS=Shakespeare Tavern Playhouse 499 Peachtree Street Atlanta;X-APPLE-RADIUS=500;X-TITLE=499 Peachtree Street:geo:-84.3849252,33.7681947
END:VEVENT
BEGIN:VEVENT
DTSTART;TZID=America/New_York:20240310T180000
DTEND;TZID=America/New_York:20240310T180000
DTSTAMP:20260425T122804
CREATED:20240222T150247Z
LAST-MODIFIED:20240222T150247Z
UID:10007895-1710093600-1710093600@www.atlantaparent.com
SUMMARY:Atlanta Symphony Youth Orchestra Crescendo Concert
DESCRIPTION:Watch the youth orchestra perform their second concert of the season. Registration required. Free admission. \n 
URL:https://www.atlantaparent.com/event/atlanta-symphony-youth-orchestra-crescendo-concert-2/
LOCATION:Atlanta Symphony Hall\, 1280 Peachtree Street\, Atlanta
END:VEVENT
BEGIN:VEVENT
DTSTART;TZID=America/New_York:20240311T120000
DTEND;TZID=America/New_York:20240311T150000
DTSTAMP:20260425T122804
CREATED:20240216T183212Z
LAST-MODIFIED:20240216T183212Z
UID:10007881-1710158400-1710169200@www.atlantaparent.com
SUMMARY:Main Street “Egg-travagant” Hunt
DESCRIPTION:Search for hidden treasures throughout the park\, and enjoy face painting\, balloon animals\, photos with the Easter Bunny and more. Free admission.
URL:https://www.atlantaparent.com/event/main-street-egg-travagant-hunt/
LOCATION:Worthan Park\, Parker St.\, Douglasville
END:VEVENT
BEGIN:VEVENT
DTSTART;VALUE=DATE:20240312
DTEND;VALUE=DATE:20240325
DTSTAMP:20260425T122804
CREATED:20240222T153522Z
LAST-MODIFIED:20240222T153522Z
UID:10007899-1710201600-1711324799@www.atlantaparent.com
SUMMARY:The Emperor’s New Clothes
DESCRIPTION:In this take on the Hans Christian Andersen tale\, the pig Emperor falls for the tailors’ story about a magic cloth. March 12-24. See website for showtimes. $22-$27; ages 1 and younger\, free.
URL:https://www.atlantaparent.com/event/the-emperors-new-clothes/
LOCATION:Center for Puppetry Arts\, 1404 Spring Street NW\, Atlanta
GEO:33.7928692;-84.3895974
X-APPLE-STRUCTURED-LOCATION;VALUE=URI;X-ADDRESS=Center for Puppetry Arts 1404 Spring Street NW Atlanta;X-APPLE-RADIUS=500;X-TITLE=1404 Spring Street NW:geo:-84.3895974,33.7928692
END:VEVENT
BEGIN:VEVENT
DTSTART;TZID=America/New_York:20240313T190000
DTEND;TZID=America/New_York:20240313T203000
DTSTAMP:20260425T122804
CREATED:20240228T165537Z
LAST-MODIFIED:20240228T165537Z
UID:10007909-1710356400-1710361800@www.atlantaparent.com
SUMMARY:Dealing with Mom Guilt and How to Overcome It - Talk and Happy Hour
DESCRIPTION:Explore strategies\, share stories and empower each other to embrace imperfection in the journey of motherhood as you meet new people. $25.
URL:https://www.atlantaparent.com/event/dealing-with-mom-guilt-and-how-to-overcome-it-talk-and-happy-hour/
LOCATION:Heinsch House\, 457 Flat Shoals Ave. SE\, Atlanta
END:VEVENT
BEGIN:VEVENT
DTSTART;VALUE=DATE:20240314
DTEND;VALUE=DATE:20240318
DTSTAMP:20260425T122804
CREATED:20240222T160600Z
LAST-MODIFIED:20240222T160600Z
UID:10007902-1710374400-1710719999@www.atlantaparent.com
SUMMARY:A Midsummer Night’s Dream
DESCRIPTION:Lisa Anne Photography \n  \n  \nThis comedy is performed as a ballet by The Georgia Ballet. The sensory-friendly performance is held on March 14. March 14\, 7 p.m.; March 15\, 8 p.m.; March 16\, 2 and 8 p.m. and March 17\, 3 and 7 p.m. $21-$39.
URL:https://www.atlantaparent.com/event/a-midsummer-nights-dream-2/
LOCATION:Jennie T. Anderson Theatre\, 548 S. Marietta Parkway\, Marietta
ATTACH;FMTTYPE=image/jpeg:https://www.atlantaparent.com/wp-content/uploads/2024/02/DSC_2951-copy-scaled-e1708617900351.jpg
GEO:33.9425688;-84.536834
X-APPLE-STRUCTURED-LOCATION;VALUE=URI;X-ADDRESS=Jennie T. Anderson Theatre 548 S. Marietta Parkway Marietta;X-APPLE-RADIUS=500;X-TITLE=548 S. Marietta Parkway:geo:-84.536834,33.9425688
END:VEVENT
BEGIN:VEVENT
DTSTART;VALUE=DATE:20240314
DTEND;VALUE=DATE:20240513
DTSTAMP:20260425T122804
CREATED:20260421T040059Z
LAST-MODIFIED:20260423T153529Z
UID:10000946-1710374400-1715558399@www.atlantaparent.com
SUMMARY:UniverSoul Circus
DESCRIPTION:This delightful circus features daredevil acts\, comedy with the hilarious ringmaster and clowns\, dazzling performers from around the world and more. May 6-31. See website for showtimes. $39-$76+.
URL:https://www.atlantaparent.com/event/universoul-circus/
LOCATION:Old Turner Field Grey Lot\, 150 Ralph David Abernathy Blvd.\, Atlanta
ATTACH;FMTTYPE=image/jpeg:https://www.atlantaparent.com/wp-content/uploads/2017/01/X-Treme-Motorcycles-3-Universoul-Circus.jpg
GEO:33.7364784;-84.3927466
X-APPLE-STRUCTURED-LOCATION;VALUE=URI;X-ADDRESS=Old Turner Field Grey Lot 150 Ralph David Abernathy Blvd. Atlanta;X-APPLE-RADIUS=500;X-TITLE=150 Ralph David Abernathy Blvd.:geo:-84.3927466,33.7364784
END:VEVENT
BEGIN:VEVENT
DTSTART;TZID=America/New_York:20240314T180000
DTEND;TZID=America/New_York:20240314T200000
DTSTAMP:20260425T122804
CREATED:20240222T211653Z
LAST-MODIFIED:20240301T174323Z
UID:10002982-1710439200-1710446400@www.atlantaparent.com
SUMMARY:Understanding Dyslexia with Brenda Fitzgerald
DESCRIPTION:Join GRACEPOINT founder and dyslexia expert Brenda Fitzgerald for a discussion on the origin\, characteristics\, remediation and accommodations for dyslexia. Registration required. Free admission.
URL:https://www.atlantaparent.com/event/understanding-dyslexia-free-seminar/
LOCATION:GRACEPOINT School\, 1407 Cobb Pkwy. N\, Marietta\, 30062
GEO:34.0181134;-84.5338074
X-APPLE-STRUCTURED-LOCATION;VALUE=URI;X-ADDRESS=GRACEPOINT School 1407 Cobb Pkwy. N Marietta 30062;X-APPLE-RADIUS=500;X-TITLE=1407 Cobb Pkwy. N:geo:-84.5338074,34.0181134
END:VEVENT
BEGIN:VEVENT
DTSTART;VALUE=DATE:20240315
DTEND;VALUE=DATE:20240317
DTSTAMP:20260425T122804
CREATED:20240228T165212Z
LAST-MODIFIED:20240228T165212Z
UID:10007908-1710460800-1710633599@www.atlantaparent.com
SUMMARY:Love Stories
DESCRIPTION:The threads of popular love songs are weaved together through dance\, as presented by SIDEWAYS Contemporary Dance Theater. March 15\, 7:30 p.m. and March 16\, 4 and 7:30 p.m. $21.50.
URL:https://www.atlantaparent.com/event/love-stories/
LOCATION:Roswell Cultural Arts Center\, 950 Forrest St.\, Roswell
END:VEVENT
BEGIN:VEVENT
DTSTART;VALUE=DATE:20240316
DTEND;VALUE=DATE:20240318
DTSTAMP:20260425T122804
CREATED:20240220T050052Z
LAST-MODIFIED:20240222T154237Z
UID:10002481-1710547200-1710719999@www.atlantaparent.com
SUMMARY:Cinderella
DESCRIPTION:Kim Kenney \nAtlanta Ballet 2 adapts this legendary fairy tale with celebrated characters\, exquisite costumes and majestic staging. March 16-17\, 1 and 5 p.m. $12-$72.
URL:https://www.atlantaparent.com/event/cinderella/
LOCATION:Cobb Energy Centre\, 2800 Cobb Galleria Pkwy\, Atlanta
ATTACH;FMTTYPE=image/jpeg:https://www.atlantaparent.com/wp-content/uploads/2020/02/Atlanta-Ballet-Presents-Cinderella_Photo-by-Kim-Kenney_Website-Hero_2100x1400_AM1-scaled-e1708616476181.jpg
GEO:33.8847898;-84.4588515
X-APPLE-STRUCTURED-LOCATION;VALUE=URI;X-ADDRESS=Cobb Energy Centre 2800 Cobb Galleria Pkwy Atlanta;X-APPLE-RADIUS=500;X-TITLE=2800 Cobb Galleria Pkwy:geo:-84.4588515,33.8847898
END:VEVENT
BEGIN:VEVENT
DTSTART;TZID=America/New_York:20240316T113000
DTEND;TZID=America/New_York:20240316T113000
DTSTAMP:20260425T122804
CREATED:20240124T210502Z
LAST-MODIFIED:20240222T153921Z
UID:10003956-1710588600-1710588600@www.atlantaparent.com
SUMMARY:The Firebird: Fairytales of Old Russia
DESCRIPTION:Journey with Prince Ivan to find the dazzling Firebird through this journey of Old Russia. $7.
URL:https://www.atlantaparent.com/event/the-firebird-fairytales-of-old-russia/
LOCATION: Aurora Theatre\, 128 East Pike St.\, Lawrenceville
END:VEVENT
BEGIN:VEVENT
DTSTART;VALUE=DATE:20240317
DTEND;VALUE=DATE:20240318
DTSTAMP:20260425T122804
CREATED:20240222T174625Z
LAST-MODIFIED:20240222T174625Z
UID:10007906-1710633600-1710719999@www.atlantaparent.com
SUMMARY:The Luck of the Irish
DESCRIPTION:Explore the whimsical world of Yeats’ fairy tales with mischievous Irish pipers\, fairies and the Atlanta Symphony Orchestra to celebrate St. Patrick’s Day. March 17\, 1:30 and 3 p.m. $16-$23+.
URL:https://www.atlantaparent.com/event/the-luck-of-the-irish/
LOCATION:Atlanta Symphony Hall\, 1280 Peachtree Street\, Atlanta
END:VEVENT
BEGIN:VEVENT
DTSTART;TZID=America/New_York:20240317T140000
DTEND;TZID=America/New_York:20240317T160000
DTSTAMP:20260425T122804
CREATED:20240311T194712Z
LAST-MODIFIED:20240311T194712Z
UID:10007922-1710684000-1710691200@www.atlantaparent.com
SUMMARY:Turtle Rocks Book Launch
DESCRIPTION:Local author Audrey Galex has released her first children’s book\, “Turtle Rocks\,” featuring a timeless message about the power of perspective\, curiosity and hope.
URL:https://www.atlantaparent.com/event/turtle-rocks-book-launch/
LOCATION:Virginia Highland Books\, 1034 N. Highland Ave.\, Atlanta
END:VEVENT
BEGIN:VEVENT
DTSTART;TZID=America/New_York:20240317T150000
DTEND;TZID=America/New_York:20240317T170000
DTSTAMP:20260425T122804
CREATED:20240229T173422Z
LAST-MODIFIED:20240229T173422Z
UID:10007917-1710687600-1710694800@www.atlantaparent.com
SUMMARY:Tea & Stories: Celebrating Women's History Month
DESCRIPTION:Celebrate women’s contributions to society with local women storytellers’ captivating tales. $10.
URL:https://www.atlantaparent.com/event/tea-stories-celebrating-womens-history-month/
LOCATION:The Wren’s Nest\, 1050 Ralph D. Abernathy Blvd.\, Atlanta
GEO:33.7375619;-84.422393
X-APPLE-STRUCTURED-LOCATION;VALUE=URI;X-ADDRESS=The Wren’s Nest 1050 Ralph D. Abernathy Blvd. Atlanta;X-APPLE-RADIUS=500;X-TITLE=1050 Ralph D. Abernathy Blvd.:geo:-84.422393,33.7375619
END:VEVENT
BEGIN:VEVENT
DTSTART;TZID=America/New_York:20240317T160000
DTEND;TZID=America/New_York:20240317T160000
DTSTAMP:20260425T122804
CREATED:20240222T174434Z
LAST-MODIFIED:20240222T174434Z
UID:10007905-1710691200-1710691200@www.atlantaparent.com
SUMMARY:St. Patrick’s Day with Atlanta Concert Band
DESCRIPTION:Celebrate St. Patrick’s Day with the music of the Emerald Isle. $15-$20.
URL:https://www.atlantaparent.com/event/st-patricks-day-with-atlanta-concert-band/
LOCATION:Roswell Cultural Arts Center\, 950 Forrest St.\, Roswell
END:VEVENT
BEGIN:VEVENT
DTSTART;VALUE=DATE:20240321
DTEND;VALUE=DATE:20240401
DTSTAMP:20260425T122805
CREATED:20240222T142838Z
LAST-MODIFIED:20240320T153504Z
UID:10007890-1710979200-1711929599@www.atlantaparent.com
SUMMARY:Germany’s Great Bavarian Circus
DESCRIPTION:See one of Europe’s oldest circus show families\, dating back nine generations. Appearing for the first time in the U.S.\, this circus includes unique ground\, aerial and animal acts\, hand-to-hand juggling\, acrobatics\, clowning and more. March 21-31. See website for showtimes. $24.99-$39.99; ages 3-12\, $19.99; ages 2 and younger\, free.
URL:https://www.atlantaparent.com/event/germanys-great-bavarian-circus/
LOCATION:Stone Mountain Park\, 1000 Robert E Lee Blvd\, Stone Mountain\, GA\, 30083\, United States
ATTACH;FMTTYPE=image/jpeg:https://www.atlantaparent.com/wp-content/uploads/2024/02/Young-Girl-on-the-Lyra-scaled-e1709227389204.jpg
GEO:33.8126209;-84.1458788
X-APPLE-STRUCTURED-LOCATION;VALUE=URI;X-ADDRESS=Stone Mountain Park 1000 Robert E Lee Blvd Stone Mountain GA 30083 United States;X-APPLE-RADIUS=500;X-TITLE=1000 Robert E Lee Blvd:geo:-84.1458788,33.8126209
END:VEVENT
BEGIN:VEVENT
DTSTART;TZID=America/New_York:20240321T100000
DTEND;TZID=America/New_York:20240321T123000
DTSTAMP:20260425T122805
CREATED:20240318T122013Z
LAST-MODIFIED:20240730T150405Z
UID:10007925-1711015200-1711024200@www.atlantaparent.com
SUMMARY:Homeschool Days
DESCRIPTION:Designed for elementary to middle school students and their families\, explore various subjects through engaging hands-on experiences\, performances\, historical simulations and activities. $9-$15; ages 3 and younger\, free.
URL:https://www.atlantaparent.com/event/homeschool-day-2/2024-03-21/
LOCATION:Atlanta History Center\, 130 W. Paces Ferry Rd.\, Atlanta\, GA
ATTACH;FMTTYPE=image/jpeg:https://www.atlantaparent.com/wp-content/uploads/2021/09/IMG-0001-25-scaled-e1689626358952.jpg
GEO:33.8413097;-84.3857926
X-APPLE-STRUCTURED-LOCATION;VALUE=URI;X-ADDRESS=Atlanta History Center 130 W. Paces Ferry Rd. Atlanta GA;X-APPLE-RADIUS=500;X-TITLE=130 W. Paces Ferry Rd.:geo:-84.3857926,33.8413097
END:VEVENT
BEGIN:VEVENT
DTSTART;VALUE=DATE:20240322
DTEND;VALUE=DATE:20240325
DTSTAMP:20260425T122805
CREATED:20240216T173201Z
LAST-MODIFIED:20240222T154732Z
UID:10005630-1711065600-1711324799@www.atlantaparent.com
SUMMARY:Alice in Wonderland
DESCRIPTION:Follow Alice’s thrilling adventure through an enchanted land in this storybook ballet where she attends a mad tea party and joins a royal croquet match. March 22-24. See website for showtimes. $25-$30; ages 15 and younger\, $15-$30.
URL:https://www.atlantaparent.com/event/alice-in-wonderland/
LOCATION:Pearce Auditorium at Brenau University\, 202 Blvd.\, Gainesville
GEO:29.6516344;-82.3248262
X-APPLE-STRUCTURED-LOCATION;VALUE=URI;X-ADDRESS=Pearce Auditorium at Brenau University 202 Blvd. Gainesville;X-APPLE-RADIUS=500;X-TITLE=202 Blvd.:geo:-82.3248262,29.6516344
END:VEVENT
BEGIN:VEVENT
DTSTART;VALUE=DATE:20240322
DTEND;VALUE=DATE:20240325
DTSTAMP:20260425T122805
CREATED:20240207T025630Z
LAST-MODIFIED:20240222T154436Z
UID:10002648-1711065600-1711324799@www.atlantaparent.com
SUMMARY:Peter Pan
DESCRIPTION:The Southern Ballet Theatre adapts this story of a boy who never grows up. March 22\, 7 p.m.; March 23\, 11 a.m.\, 3 and 7 p.m.; and March 24\, 2 p.m. $15-$17.
URL:https://www.atlantaparent.com/event/peter-pan/
LOCATION:Lawrenceville Arts Center\, 125 North Clayton St.\, Lawrenceville
GEO:33.956993;-83.9879364
X-APPLE-STRUCTURED-LOCATION;VALUE=URI;X-ADDRESS=Lawrenceville Arts Center 125 North Clayton St. Lawrenceville;X-APPLE-RADIUS=500;X-TITLE=125 North Clayton St.:geo:-83.9879364,33.956993
END:VEVENT
BEGIN:VEVENT
DTSTART;VALUE=DATE:20240323
DTEND;VALUE=DATE:20240325
DTSTAMP:20260425T122805
CREATED:20240215T182250Z
LAST-MODIFIED:20240222T154954Z
UID:10006393-1711152000-1711324799@www.atlantaparent.com
SUMMARY:Beauty & the Beast
DESCRIPTION:Presented by Atlanta Dance Theatre\, Beauty sees the man behind the Beast and breaks the evil curse. March 23\, 7 p.m. and March 24\, 2 p.m. $26-$34. \n 
URL:https://www.atlantaparent.com/event/beauty-and-the-beast-9/
LOCATION:Roswell Cultural Arts Center\, 950 Forrest St.\, Roswell
END:VEVENT
BEGIN:VEVENT
DTSTART;VALUE=DATE:20240323
DTEND;VALUE=DATE:20240624
DTSTAMP:20260425T122805
CREATED:20240208T141455Z
LAST-MODIFIED:20240624T123705Z
UID:10006906-1711152000-1719187199@www.atlantaparent.com
SUMMARY:Flora\, Fauna & Flight
DESCRIPTION:Walk the nature walkways in WildWoods to discover how plants and animals defy gravity through flight with this artistic outdoor exhibit. $25.95; ages 3-12\, $23.95; ages 2 and younger\, free.
URL:https://www.atlantaparent.com/event/flora-fauna-flight/
LOCATION:Fernbank Museum of Natural History\, 767 Clifton Road\, Atlanta
ATTACH;FMTTYPE=image/jpeg:https://www.atlantaparent.com/wp-content/uploads/2023/05/JTP_9134-scaled-e1683744823581.jpg
GEO:33.7739167;-84.3277484
X-APPLE-STRUCTURED-LOCATION;VALUE=URI;X-ADDRESS=Fernbank Museum of Natural History 767 Clifton Road Atlanta;X-APPLE-RADIUS=500;X-TITLE=767 Clifton Road:geo:-84.3277484,33.7739167
END:VEVENT
BEGIN:VEVENT
DTSTART;TZID=America/New_York:20240323T073000
DTEND;TZID=America/New_York:20240323T073000
DTSTAMP:20260425T122805
CREATED:20240131T162720Z
LAST-MODIFIED:20240318T121807Z
UID:10006770-1711179000-1711179000@www.atlantaparent.com
SUMMARY:Northside Hospital Atlanta Women's 5K
DESCRIPTION:Celebrate women and fitness at this 5K race designed for women with finishers medals\, flowers at the finish line and more for women and girls ages 8 and older. $45-$50.
URL:https://www.atlantaparent.com/event/northside-hospital-atlanta-womens-5k/
LOCATION:Cheney Stadium\, 741 Connally St. SE\, Atlanta
ATTACH;FMTTYPE=image/jpeg:https://www.atlantaparent.com/wp-content/uploads/2023/01/3M8A9209-scaled.jpg
GEO:33.7343324;-84.3809669
X-APPLE-STRUCTURED-LOCATION;VALUE=URI;X-ADDRESS=Cheney Stadium 741 Connally St. SE Atlanta;X-APPLE-RADIUS=500;X-TITLE=741 Connally St. SE:geo:-84.3809669,33.7343324
END:VEVENT
BEGIN:VEVENT
DTSTART;TZID=America/New_York:20240323T100000
DTEND;TZID=America/New_York:20240323T120000
DTSTAMP:20260425T122805
CREATED:20240220T162716Z
LAST-MODIFIED:20240229T142743Z
UID:10006307-1711188000-1711195200@www.atlantaparent.com
SUMMARY:Easter Jam!
DESCRIPTION:Bring your Easter basket for an egg hunt\, get your face painted\, bounce on inflatables\, visit with the Easter Bunny and more. $20 per family.
URL:https://www.atlantaparent.com/event/alpharetta-methodists-annual-easter-egg-hunt/
LOCATION:Alpharetta Methodist Church\, 69 N Main St.\, Alpharetta
END:VEVENT
END:VCALENDAR