BEGIN:VCALENDAR
VERSION:2.0
PRODID:-//NEW Atlanta Parent - ECPv6.15.11//NONSGML v1.0//EN
CALSCALE:GREGORIAN
METHOD:PUBLISH
X-ORIGINAL-URL:https://www.atlantaparent.com
X-WR-CALDESC:Events for NEW Atlanta Parent
REFRESH-INTERVAL;VALUE=DURATION:PT1H
X-Robots-Tag:noindex
X-PUBLISHED-TTL:PT1H
BEGIN:VTIMEZONE
TZID:America/New_York
BEGIN:DAYLIGHT
TZOFFSETFROM:-0500
TZOFFSETTO:-0400
TZNAME:EDT
DTSTART:20210314T070000
END:DAYLIGHT
BEGIN:STANDARD
TZOFFSETFROM:-0400
TZOFFSETTO:-0500
TZNAME:EST
DTSTART:20211107T060000
END:STANDARD
BEGIN:DAYLIGHT
TZOFFSETFROM:-0500
TZOFFSETTO:-0400
TZNAME:EDT
DTSTART:20220313T070000
END:DAYLIGHT
BEGIN:STANDARD
TZOFFSETFROM:-0400
TZOFFSETTO:-0500
TZNAME:EST
DTSTART:20221106T060000
END:STANDARD
BEGIN:DAYLIGHT
TZOFFSETFROM:-0500
TZOFFSETTO:-0400
TZNAME:EDT
DTSTART:20230312T070000
END:DAYLIGHT
BEGIN:STANDARD
TZOFFSETFROM:-0400
TZOFFSETTO:-0500
TZNAME:EST
DTSTART:20231105T060000
END:STANDARD
BEGIN:DAYLIGHT
TZOFFSETFROM:-0500
TZOFFSETTO:-0400
TZNAME:EDT
DTSTART:20240310T070000
END:DAYLIGHT
BEGIN:STANDARD
TZOFFSETFROM:-0400
TZOFFSETTO:-0500
TZNAME:EST
DTSTART:20241103T060000
END:STANDARD
END:VTIMEZONE
BEGIN:VTIMEZONE
TZID:UTC
BEGIN:STANDARD
TZOFFSETFROM:+0000
TZOFFSETTO:+0000
TZNAME:UTC
DTSTART:20210101T000000
END:STANDARD
END:VTIMEZONE
BEGIN:VEVENT
DTSTART;VALUE=DATE:20221118
DTEND;VALUE=DATE:20221121
DTSTAMP:20260423T181518
CREATED:20251004T175908Z
LAST-MODIFIED:20251104T193111Z
UID:10004558-1668729600-1668988799@www.atlantaparent.com
SUMMARY:The Nutcracker: Land of the Sweets
DESCRIPTION:Presented by the Dance & Music Academy\, get into the holiday spirit with this classic adventure through the Land of Sweets. Nov. 22\, 4 and 7 p.m. and Nov. 23\, 3 and 6 p.m. $18.
URL:https://www.atlantaparent.com/event/the-nutcracker-land-of-the-sweets/
LOCATION:Blessed Trinity High School\, 11320 Woodstock Rd.\, Roswell\, GA
END:VEVENT
BEGIN:VEVENT
DTSTART;VALUE=DATE:20221118
DTEND;VALUE=DATE:20230215
DTSTAMP:20260423T181518
CREATED:20241002T142906Z
LAST-MODIFIED:20251020T164538Z
UID:10006092-1668729600-1676419199@www.atlantaparent.com
SUMMARY:Sweetland on Ice
DESCRIPTION:Practice your moves at this outdoor rink. Nov. 14-Feb. 7. See website for schedule. $9-15.
URL:https://www.atlantaparent.com/event/holidays-at-sweetland/
LOCATION:Sweetland Amphitheatre\, 110 Smith St.\, LaGrange
GEO:33.0439045;-85.0318921
X-APPLE-STRUCTURED-LOCATION;VALUE=URI;X-ADDRESS=Sweetland Amphitheatre 110 Smith St. LaGrange;X-APPLE-RADIUS=500;X-TITLE=110 Smith St.:geo:-85.0318921,33.0439045
END:VEVENT
BEGIN:VEVENT
DTSTART;VALUE=DATE:20221118
DTEND;VALUE=DATE:20230410
DTSTAMP:20260423T181518
CREATED:20221014T131901Z
LAST-MODIFIED:20221014T131901Z
UID:10006605-1668729600-1681084799@www.atlantaparent.com
SUMMARY:Monir Farmanfarmaian: A Mirror Garden
DESCRIPTION:See gorgeous geometric mirror sculptures combining mathematical order and ancient Persian architectural motifs\, along with drawings\, textiles and collages. $16.50; ages 5 and younger\, free.
URL:https://www.atlantaparent.com/event/monir-farmanfarmaian-a-mirror-garden/
LOCATION:High Museum of Art\, 1280 Peachtree Street\, Atlanta
ATTACH;FMTTYPE=image/jpeg:https://www.atlantaparent.com/wp-content/uploads/2022/10/2019.174-Farmanfarmaian_o2-scaled-e1665753459239.jpg
GEO:33.7891582;-84.3849351
X-APPLE-STRUCTURED-LOCATION;VALUE=URI;X-ADDRESS=High Museum of Art 1280 Peachtree Street Atlanta;X-APPLE-RADIUS=500;X-TITLE=1280 Peachtree Street:geo:-84.3849351,33.7891582
END:VEVENT
BEGIN:VEVENT
DTSTART;TZID=America/New_York:20221118T170000
DTEND;TZID=America/New_York:20221118T170000
DTSTAMP:20260423T181518
CREATED:20211021T153437Z
LAST-MODIFIED:20221013T185541Z
UID:10006059-1668790800-1668790800@www.atlantaparent.com
SUMMARY:The Stuffing featuring Manchester Orchestra
DESCRIPTION:This annual event celebrates the spirit of Thanksgiving. Nov. 18\, 4:50 p.m. $35+.
URL:https://www.atlantaparent.com/event/the-stuffing-featuring-manchester-orchestra/
LOCATION:Fox Theatre\, 660 Peachtree St. NE\, Atlanta
GEO:33.772731;-84.385022
X-APPLE-STRUCTURED-LOCATION;VALUE=URI;X-ADDRESS=Fox Theatre 660 Peachtree St. NE Atlanta;X-APPLE-RADIUS=500;X-TITLE=660 Peachtree St. NE:geo:-84.385022,33.772731
END:VEVENT
BEGIN:VEVENT
DTSTART;VALUE=DATE:20221119
DTEND;VALUE=DATE:20230117
DTSTAMP:20260423T181518
CREATED:20251004T040001Z
LAST-MODIFIED:20251027T133608Z
UID:10003256-1668816000-1673913599@www.atlantaparent.com
SUMMARY:Magical Nights of Lights
DESCRIPTION:Lanier Islands Resort transforms into a festive escape this holiday season\, full of family fun and heartwarming traditions. Guests can drive through 6 miles of dazzling displays\, then head to Holiday Headquarters inside Game Changer\, home to Clark’s Holiday Pop-Up Bar for cozy drinks and seasonal cheer. Turn the magic into memories with overnight packages\, featuring Breakfast with Santa\, where little ones share wish lists and enjoy a festive meal\, and Elf Tuck-Ins\, a bedtime visit with cookies\, a holiday story and keepsake. Whether for a day or a weekend\, Lanier Islands Resort delivers the ultimate Christmas experience for all ages. \n\nGo on a magical drive through an amazing light show set to seasonal festive music. Nov. 15-Jan. 4. See website for schedule. $25-$35+.
URL:https://www.atlantaparent.com/event/lakeside-lights-spectacular/
LOCATION:Margaritaville at Lanier Islands\, 7650 Lanier Islands Pkwy.\, Buford
GEO:34.1783323;-84.030304
X-APPLE-STRUCTURED-LOCATION;VALUE=URI;X-ADDRESS=Margaritaville at Lanier Islands 7650 Lanier Islands Pkwy. Buford;X-APPLE-RADIUS=500;X-TITLE=7650 Lanier Islands Pkwy.:geo:-84.030304,34.1783323
END:VEVENT
BEGIN:VEVENT
DTSTART;TZID=America/New_York:20221119T130000
DTEND;TZID=America/New_York:20221119T160000
DTSTAMP:20260423T181518
CREATED:20201023T040000Z
LAST-MODIFIED:20220930T141442Z
UID:10003289-1668862800-1668873600@www.atlantaparent.com
SUMMARY:Santa Arrives on the Train
DESCRIPTION:Santa Claus arrives by train for photos with friends and family. Advance ticket purchase recommended. Nov. 19\, 1-4 p.m. $18; ages 2-12\, $12; ages 1 and younger\, free.
URL:https://www.atlantaparent.com/event/santas-arrival/
LOCATION:Southeastern Railway Museum\, 3595 Buford Hwy.\, Duluth
ATTACH;FMTTYPE=image/jpeg:https://www.atlantaparent.com/wp-content/uploads/2017/10/16Christmas-fb5.jpg
GEO:33.989078;-84.1558636
X-APPLE-STRUCTURED-LOCATION;VALUE=URI;X-ADDRESS=Southeastern Railway Museum 3595 Buford Hwy. Duluth;X-APPLE-RADIUS=500;X-TITLE=3595 Buford Hwy.:geo:-84.1558636,33.989078
END:VEVENT
BEGIN:VEVENT
DTSTART;TZID=America/New_York:20221120T140000
DTEND;TZID=America/New_York:20221120T180000
DTSTAMP:20260423T181519
CREATED:20220930T135730Z
LAST-MODIFIED:20220930T135730Z
UID:10006579-1668952800-1668967200@www.atlantaparent.com
SUMMARY:Baby Shark Live! The Christmas Show
DESCRIPTION:Splash along with Baby Shark and Pinkfong as they journey into the sea to sing and dance to holiday songs and kids’ favorites. Nov. 20\, 2 and 6 p.m. $26-$66+.
URL:https://www.atlantaparent.com/event/baby-shark-live-the-christmas-show/
LOCATION:Atlanta Symphony Hall\, 1280 Peachtree St. NE\, Atlanta
GEO:33.7891582;-84.3849351
X-APPLE-STRUCTURED-LOCATION;VALUE=URI;X-ADDRESS=Atlanta Symphony Hall 1280 Peachtree St. NE Atlanta;X-APPLE-RADIUS=500;X-TITLE=1280 Peachtree St. NE:geo:-84.3849351,33.7891582
END:VEVENT
BEGIN:VEVENT
DTSTART;VALUE=DATE:20221123
DTEND;VALUE=DATE:20230216
DTSTAMP:20260423T181519
CREATED:20221128T182042Z
LAST-MODIFIED:20221128T182042Z
UID:10006697-1669161600-1676505599@www.atlantaparent.com
SUMMARY:Skate Nights at Pullman Yards
DESCRIPTION:This ice skating rink will be sided by a toasty marshmallow bar. Fri.-Sat. ages 16+ from 8-11 p.m. Tues.-Thur. 4-10 p.m.; Fri.-Sat. 11 a.m.-11 p.m. and Sun. 11 a.m.-10 p.m. $15; ages 5 and younger\, $12.
URL:https://www.atlantaparent.com/event/skate-nights-at-pullman-yards/
LOCATION:Pullman Yards\, Rogers St. NE\, Atlanta
ATTACH;FMTTYPE=image/png:https://www.atlantaparent.com/wp-content/uploads/2022/11/image2.png
GEO:33.7567288;-84.3291736
X-APPLE-STRUCTURED-LOCATION;VALUE=URI;X-ADDRESS=Pullman Yards Rogers St. NE Atlanta;X-APPLE-RADIUS=500;X-TITLE=Rogers St. NE:geo:-84.3291736,33.7567288
END:VEVENT
BEGIN:VEVENT
DTSTART;VALUE=DATE:20221125
DTEND;VALUE=DATE:20230102
DTSTAMP:20260423T181519
CREATED:20201119T193331Z
LAST-MODIFIED:20221014T145037Z
UID:10005535-1669334400-1672617599@www.atlantaparent.com
SUMMARY:ATL Holiday Lights
DESCRIPTION:See incredible lights at this drive-thru display. Nov. 25-Jan. 1. Mon.-Wed. 6-10 p.m.; Fri.-Sat. 6-11 p.m. and Sun. 6-10 p.m. $25-$40; Walking Nights\, $15-$20; ages 15 and younger\, free.
URL:https://www.atlantaparent.com/event/atlanta-festival-of-lights/
LOCATION:Lakewood Amphitheater\, 2002 Lakewood Way SW\, Atlanta
GEO:33.70393;-84.3982238
X-APPLE-STRUCTURED-LOCATION;VALUE=URI;X-ADDRESS=Lakewood Amphitheater 2002 Lakewood Way SW Atlanta;X-APPLE-RADIUS=500;X-TITLE=2002 Lakewood Way SW:geo:-84.3982238,33.70393
END:VEVENT
BEGIN:VEVENT
DTSTART;VALUE=DATE:20221125
DTEND;VALUE=DATE:20230227
DTSTAMP:20260423T181519
CREATED:20231001T173446Z
LAST-MODIFIED:20231020T161920Z
UID:10006156-1669334400-1677455999@www.atlantaparent.com
SUMMARY:Athens on Ice
DESCRIPTION:Go ice skating at this indoor rink that’s National Hockey League regulation sized. Reservation required. $15.
URL:https://www.atlantaparent.com/event/athens-on-ice/
LOCATION:The Classic Center\, 300 N. Thomas St.\, Athens
GEO:33.9600749;-83.3726366
X-APPLE-STRUCTURED-LOCATION;VALUE=URI;X-ADDRESS=The Classic Center 300 N. Thomas St. Athens;X-APPLE-RADIUS=500;X-TITLE=300 N. Thomas St.:geo:-83.3726366,33.9600749
END:VEVENT
BEGIN:VEVENT
DTSTART;VALUE=DATE:20221126
DTEND;VALUE=DATE:20230101
DTSTAMP:20260423T181519
CREATED:20221118T142118Z
LAST-MODIFIED:20221118T142118Z
UID:10006692-1669420800-1672531199@www.atlantaparent.com
SUMMARY:Holiday Tours
DESCRIPTION:Explore garland-lined hallways\, holiday décor\, Mighty Mo and more\, and enjoy complimentary hot cocoa under the starry-skied auditorium. Nov. 26-Dec. 31. See website for schedule. $25-$50.
URL:https://www.atlantaparent.com/event/holiday-tours/
LOCATION:Fox Theatre\, 660 Peachtree St. NE\, Atlanta
GEO:33.772731;-84.385022
X-APPLE-STRUCTURED-LOCATION;VALUE=URI;X-ADDRESS=Fox Theatre 660 Peachtree St. NE Atlanta;X-APPLE-RADIUS=500;X-TITLE=660 Peachtree St. NE:geo:-84.385022,33.772731
END:VEVENT
BEGIN:VEVENT
DTSTART;TZID=UTC:20221126T100000
DTEND;TZID=UTC:20221126T140000
DTSTAMP:20260423T181519
CREATED:20191023T040054Z
LAST-MODIFIED:20220930T142935Z
UID:10000604-1669456800-1669471200@www.atlantaparent.com
SUMMARY:Botanical St. Nick
DESCRIPTION:Tell your holiday wishes to this green\, botanical-inspired Santa. Nov. 26\, and Dec. 3\, 10 and 17\, 10 a.m.-2 p.m. $27.95; ages 3-12\, $24.95; ages 2 and younger\, free.
URL:https://www.atlantaparent.com/event/botanical-st-nick/2022-11-26/
LOCATION:Atlanta Botanical Garden\, 1345 Piedmont Ave.\, Atlanta
GEO:33.7900091;-84.3738585
X-APPLE-STRUCTURED-LOCATION;VALUE=URI;X-ADDRESS=Atlanta Botanical Garden 1345 Piedmont Ave. Atlanta;X-APPLE-RADIUS=500;X-TITLE=1345 Piedmont Ave.:geo:-84.3738585,33.7900091
END:VEVENT
BEGIN:VEVENT
DTSTART;TZID=America/New_York:20221126T160000
DTEND;TZID=America/New_York:20221126T160000
DTSTAMP:20260423T181519
CREATED:20191002T021315Z
LAST-MODIFIED:20221128T134459Z
UID:10004551-1669478400-1669478400@www.atlantaparent.com
SUMMARY:Disney Junior Live On Tour: Costume Palooza
DESCRIPTION:Disney/Phil McCarten \nWatch your favorite Disney Junior characters and Marvel Super Heroes perform with singing\, dancing\, acrobatics and more at this huge costume party. $29.50-$49.50.
URL:https://www.atlantaparent.com/event/disney-junior-holiday-party/
LOCATION:Fox Theatre\, 660 Peachtree St. NE\, Atlanta
ATTACH;FMTTYPE=image/jpeg:https://www.atlantaparent.com/wp-content/uploads/2019/10/165076_0397-scaled-e1665687486493.jpg
GEO:33.772731;-84.385022
X-APPLE-STRUCTURED-LOCATION;VALUE=URI;X-ADDRESS=Fox Theatre 660 Peachtree St. NE Atlanta;X-APPLE-RADIUS=500;X-TITLE=660 Peachtree St. NE:geo:-84.385022,33.772731
END:VEVENT
BEGIN:VEVENT
DTSTART;VALUE=DATE:20221128
DTEND;VALUE=DATE:20230102
DTSTAMP:20260423T181519
CREATED:20251101T150337Z
LAST-MODIFIED:20251110T143437Z
UID:10004788-1669593600-1672617599@www.atlantaparent.com
SUMMARY:Holidays Happenings at World of Coca-Cola
DESCRIPTION:Presented by Georgia Aquarium and World of Coca‑Cola\, the immersive holiday experience is back for a limited-time. Step into festive photo moments with some holiday cheer. Available Sat.-Sun. in December. $23-$27.95; ages 3-12\, $19-$23.95; ages 2 and younger\, free.
URL:https://www.atlantaparent.com/event/holidays-at-world-of-coca-cola/2022-11-28/
LOCATION:World of Coca-Cola\, 121 Baker Street NW\, Atlanta\, GA\, 30313
ATTACH;FMTTYPE=image/jpeg:https://www.atlantaparent.com/wp-content/uploads/2025/11/WOCC_Holiday_24_1312-1-scaled-e1762785203700.jpg
GEO:33.7630392;-84.3940574
X-APPLE-STRUCTURED-LOCATION;VALUE=URI;X-ADDRESS=World of Coca-Cola 121 Baker Street NW Atlanta GA 30313;X-APPLE-RADIUS=500;X-TITLE=121 Baker Street NW:geo:-84.3940574,33.7630392
END:VEVENT
BEGIN:VEVENT
DTSTART;TZID=America/New_York:20221130T170000
DTEND;TZID=America/New_York:20221130T190000
DTSTAMP:20260423T181519
CREATED:20221109T170815Z
LAST-MODIFIED:20221109T170815Z
UID:10006670-1669827600-1669834800@www.atlantaparent.com
SUMMARY:Visits with Santa
DESCRIPTION:See Santa and play in a life-size snow globe. On Dec. 14\, enjoy a Christmas concert.
URL:https://www.atlantaparent.com/event/visits-with-santa/2022-11-30/
LOCATION:The Avenue West Cobb\, 3625 Dallas Hwy.\, Marietta
GEO:33.9523107;-84.6599349
X-APPLE-STRUCTURED-LOCATION;VALUE=URI;X-ADDRESS=The Avenue West Cobb 3625 Dallas Hwy. Marietta;X-APPLE-RADIUS=500;X-TITLE=3625 Dallas Hwy.:geo:-84.6599349,33.9523107
END:VEVENT
BEGIN:VEVENT
DTSTART;VALUE=DATE:20221201
DTEND;VALUE=DATE:20221231
DTSTAMP:20260423T181519
CREATED:20191121T191550Z
LAST-MODIFIED:20221014T152633Z
UID:10004768-1669852800-1672444799@www.atlantaparent.com
SUMMARY:Winter Wonderland Train
DESCRIPTION:View more than four miles of lights\, enjoy train rides\, listen to music\, shop for gifts and treat yourself to delicious food. Dec. 1-30. See website for schedule. Ticket price TBA.
URL:https://www.atlantaparent.com/event/the-winter-wonderland-train/
LOCATION:Pine Mountain Gold Museum\, 1881 Stockmar Rd.\, Villa Rica\, GA\, 30180
ATTACH;FMTTYPE=image/jpeg:https://www.atlantaparent.com/wp-content/uploads/2019/11/PMGM-Train-e1574363732930.jpg
GEO:33.7525288;-84.8852611
X-APPLE-STRUCTURED-LOCATION;VALUE=URI;X-ADDRESS=Pine Mountain Gold Museum 1881 Stockmar Rd. Villa Rica GA 30180;X-APPLE-RADIUS=500;X-TITLE=1881 Stockmar Rd.:geo:-84.8852611,33.7525288
END:VEVENT
BEGIN:VEVENT
DTSTART;TZID=America/New_York:20221201T160000
DTEND;TZID=America/New_York:20221201T200000
DTSTAMP:20260423T181519
CREATED:20201013T142301Z
LAST-MODIFIED:20221017T150650Z
UID:10004766-1669910400-1669924800@www.atlantaparent.com
SUMMARY:Christmas Tree Lighting & Santa’s Arrival
DESCRIPTION:Celebrate the holiday season with local choir performances\, an ugly holiday sweater walking parade\, letter writing stations to Santa\, a tree lighting ceremony and Santa’s arrival. Free admission.
URL:https://www.atlantaparent.com/event/christmas-tree-lighting-3/
LOCATION: Glover Park\, 50 N. Park Sq.\,\, Marietta
GEO:33.9532312;-84.5498936
X-APPLE-STRUCTURED-LOCATION;VALUE=URI;X-ADDRESS= Glover Park 50 N. Park Sq. Marietta;X-APPLE-RADIUS=500;X-TITLE=50 N. Park Sq.\,:geo:-84.5498936,33.9532312
END:VEVENT
BEGIN:VEVENT
DTSTART;TZID=America/New_York:20221201T190000
DTEND;TZID=America/New_York:20221201T190000
DTSTAMP:20260423T181519
CREATED:20201018T165947Z
LAST-MODIFIED:20221020T165334Z
UID:10002483-1669921200-1669921200@www.atlantaparent.com
SUMMARY:Hometown Holidays Parade
DESCRIPTION:This lighted parade spreads holiday cheer with decorations and music for the 33rd year.
URL:https://www.atlantaparent.com/event/hometown-holidays-parade/
LOCATION:Downtown Forsyth\, Forsyth\, GA
ATTACH;FMTTYPE=image/jpeg:https://www.atlantaparent.com/wp-content/uploads/2018/11/forsyth-monroe-e1573159136232.jpg
GEO:33.0347598;-83.9396983
END:VEVENT
BEGIN:VEVENT
DTSTART;VALUE=DATE:20221202
DTEND;VALUE=DATE:20221204
DTSTAMP:20260423T181519
CREATED:20251101T045426Z
LAST-MODIFIED:20251121T145427Z
UID:10005500-1669939200-1670111999@www.atlantaparent.com
SUMMARY:A Sugarloaf Ballet Christmas
DESCRIPTION:This celebration features works performed by Sugarloaf Youth Ballet and Gwinnett Ballet Theatre and a performance of The Nativity Ballet. Dec. 7\, 2 and 7 p.m. Free admission.
URL:https://www.atlantaparent.com/event/a-sugarloaf-ballet-christmas/
LOCATION:Gas South District\, 6400 Sugarloaf Parkway\, Duluth
GEO:33.9913579;-84.0938603
X-APPLE-STRUCTURED-LOCATION;VALUE=URI;X-ADDRESS=Gas South District 6400 Sugarloaf Parkway Duluth;X-APPLE-RADIUS=500;X-TITLE=6400 Sugarloaf Parkway:geo:-84.0938603,33.9913579
END:VEVENT
BEGIN:VEVENT
DTSTART;VALUE=DATE:20221202
DTEND;VALUE=DATE:20221205
DTSTAMP:20260423T181519
CREATED:20211117T202044Z
LAST-MODIFIED:20221014T174538Z
UID:10006141-1669939200-1670198399@www.atlantaparent.com
SUMMARY:Smyrna Handmade Holiday Market
DESCRIPTION:Shop local and small businesses from more than 40 different vendors. Dec. 2\, 4-8 p.m.; Dec. 3\, 10 a.m.-5 p.m. and Dec. 4\, 11 a.m.-4 p.m.
URL:https://www.atlantaparent.com/event/smyrna-handmade-holiday-market/
LOCATION:Brawner Hall\, 3180 Atlanta Rd.\, Smyrna
GEO:33.8757784;-84.5061886
X-APPLE-STRUCTURED-LOCATION;VALUE=URI;X-ADDRESS=Brawner Hall 3180 Atlanta Rd. Smyrna;X-APPLE-RADIUS=500;X-TITLE=3180 Atlanta Rd.:geo:-84.5061886,33.8757784
END:VEVENT
BEGIN:VEVENT
DTSTART;VALUE=DATE:20221202
DTEND;VALUE=DATE:20221205
DTSTAMP:20260423T181519
CREATED:20221027T141813Z
LAST-MODIFIED:20221027T141813Z
UID:10006705-1669939200-1670198399@www.atlantaparent.com
SUMMARY:Historic Norcross Christmas Village
DESCRIPTION:Enjoy old-fashioned fun for everyone with costumed characters\, street vendors\, face-painters\, a live animal petting zoo and holiday specials at your favorite businesses. Free admission.
URL:https://www.atlantaparent.com/event/historic-norcross-christmas-village/
LOCATION:Historic Downtown Norcross
END:VEVENT
BEGIN:VEVENT
DTSTART;VALUE=DATE:20221202
DTEND;VALUE=DATE:20221219
DTSTAMP:20260423T181519
CREATED:20171127T050042Z
LAST-MODIFIED:20221115T135909Z
UID:10003284-1669939200-1671407999@www.atlantaparent.com
SUMMARY:A Christmas Story\, the Musical
DESCRIPTION:Based on the beloved and hilarious holiday film\, 9-year-old Ralphie plots numerous schemes to achieve his desire for a BB gun for Christmas. Dec. 2-18. Fri.-Sat. 8 p.m. and Sun. 2 p.m. $20-$25.
URL:https://www.atlantaparent.com/event/a-christmas-story-2/
LOCATION:ACT1 Theater\, 180 Academy St.\, Alpharetta\, GA
END:VEVENT
BEGIN:VEVENT
DTSTART;VALUE=DATE:20221202
DTEND;VALUE=DATE:20221219
DTSTAMP:20260423T181519
CREATED:20211012T175201Z
LAST-MODIFIED:20221012T162408Z
UID:10006040-1669939200-1671407999@www.atlantaparent.com
SUMMARY:A Christmas Carol
DESCRIPTION:Enjoy a special performance of this timeless tale of a miserly man learning the spirit of giving with six actors playing 40 characters. Dec. 2-18. Fri.-Sat. 8 p.m. and Sun. 3 p.m. $20-$26.
URL:https://www.atlantaparent.com/event/a-christmas-carol-an-osa-limited-special-event/
LOCATION:OnStage Atlanta\, 2969 East Ponce de Leon Avenue\, Decatur
GEO:33.7829602;-84.2715521
X-APPLE-STRUCTURED-LOCATION;VALUE=URI;X-ADDRESS=OnStage Atlanta 2969 East Ponce de Leon Avenue Decatur;X-APPLE-RADIUS=500;X-TITLE=2969 East Ponce de Leon Avenue:geo:-84.2715521,33.7829602
END:VEVENT
BEGIN:VEVENT
DTSTART;VALUE=DATE:20221202
DTEND;VALUE=DATE:20230103
DTSTAMP:20260423T181519
CREATED:20251101T145210Z
LAST-MODIFIED:20251121T155359Z
UID:10006675-1669939200-1672703999@www.atlantaparent.com
SUMMARY:Deck the Square
DESCRIPTION:See decorated six-foot trees from different organizations.
URL:https://www.atlantaparent.com/event/deck-the-square/
LOCATION:Roswell Town Square\, 610 Atlanta Street\, Roswell
GEO:34.0151195;-84.3629018
X-APPLE-STRUCTURED-LOCATION;VALUE=URI;X-ADDRESS=Roswell Town Square 610 Atlanta Street Roswell;X-APPLE-RADIUS=500;X-TITLE=610 Atlanta Street:geo:-84.3629018,34.0151195
END:VEVENT
BEGIN:VEVENT
DTSTART;TZID=America/New_York:20221202T180000
DTEND;TZID=America/New_York:20221202T200000
DTSTAMP:20260423T181519
CREATED:20221130T183916Z
LAST-MODIFIED:20221130T183916Z
UID:10006704-1670004000-1670011200@www.atlantaparent.com
SUMMARY:Christmas Tree Lighting Festival
DESCRIPTION:This festive evening includes a live nativity\, snowy winter wonderland\, food trucks\, a scavenger hunt and the lighting of the Christmas tree. Free admission; registration requested.
URL:https://www.atlantaparent.com/event/christmas-tree-lighting-festival/
LOCATION:Mount Pisgah Church\, 2850 Old Alabama Rd.\, Johns Creek
GEO:34.0212243;-84.2760303
X-APPLE-STRUCTURED-LOCATION;VALUE=URI;X-ADDRESS=Mount Pisgah Church 2850 Old Alabama Rd. Johns Creek;X-APPLE-RADIUS=500;X-TITLE=2850 Old Alabama Rd.:geo:-84.2760303,34.0212243
END:VEVENT
BEGIN:VEVENT
DTSTART;TZID=America/New_York:20221202T200000
DTEND;TZID=America/New_York:20221202T200000
DTSTAMP:20260423T181519
CREATED:20221027T135042Z
LAST-MODIFIED:20221027T135042Z
UID:10006700-1670011200-1670011200@www.atlantaparent.com
SUMMARY:One Christmas Night in Memphis
DESCRIPTION:Get ready for a holiday night of rockabilly\, country\, gospel and 1950s’ rock and roll. $35-$45.
URL:https://www.atlantaparent.com/event/one-christmas-night-in-memphis/
LOCATION:Sylvia Beard Theatre\, 2200 Buford Hwy NE\, Buford\, GA
GEO:34.1147117;-83.9964971
X-APPLE-STRUCTURED-LOCATION;VALUE=URI;X-ADDRESS=Sylvia Beard Theatre 2200 Buford Hwy NE Buford GA;X-APPLE-RADIUS=500;X-TITLE=2200 Buford Hwy NE:geo:-83.9964971,34.1147117
END:VEVENT
BEGIN:VEVENT
DTSTART;VALUE=DATE:20221203
DTEND;VALUE=DATE:20221204
DTSTAMP:20260423T181519
CREATED:20201026T154427Z
LAST-MODIFIED:20221103T132105Z
UID:10005478-1670025600-1670111999@www.atlantaparent.com
SUMMARY:Safari Santa
DESCRIPTION:Safari Santa will visit the animals and the people for an exciting zoo visit. $24.99; ages 2-11\, $22.99; ages 1 and younger\, free; Safari Santa\, $10.
URL:https://www.atlantaparent.com/event/santa-at-the-zoo/2022-12-03/
LOCATION:North Georgia Wildlife Park\, 2912 Paradise Valley Road\, Cleveland
GEO:34.6223675;-83.8656005
X-APPLE-STRUCTURED-LOCATION;VALUE=URI;X-ADDRESS=North Georgia Wildlife Park 2912 Paradise Valley Road Cleveland;X-APPLE-RADIUS=500;X-TITLE=2912 Paradise Valley Road:geo:-83.8656005,34.6223675
END:VEVENT
BEGIN:VEVENT
DTSTART;VALUE=DATE:20221203
DTEND;VALUE=DATE:20221204
DTSTAMP:20260423T181519
CREATED:20221019T150352Z
LAST-MODIFIED:20221020T140043Z
UID:10006077-1670025600-1670111999@www.atlantaparent.com
SUMMARY:Christmas on Main
DESCRIPTION:Visit Villa Rica for holiday fun at Christmas on Main at The MILL Amphitheater December 3. Join the Reindeer Run 5K and Fun Run\, shop at the Mistletoe Market\, enjoy the Christmas parade\, tree lighting and pictures with Santa! Afterward\, visit Pine Mountain Gold Museum for the Winter Wonderland Train\, Christmas lights\, carolers and more.
URL:https://www.atlantaparent.com/event/christmas-on-main/
LOCATION:Villa Rica Civic Center\, 1605 GA-61\, Villa Rica\, GA\, 30180
ATTACH;FMTTYPE=image/jpeg:https://www.atlantaparent.com/wp-content/uploads/2020/10/VillaRica1-scaled.jpg
GEO:33.689654;-84.9478971
X-APPLE-STRUCTURED-LOCATION;VALUE=URI;X-ADDRESS=Villa Rica Civic Center 1605 GA-61 Villa Rica GA 30180;X-APPLE-RADIUS=500;X-TITLE=1605 GA-61:geo:-84.9478971,33.689654
END:VEVENT
BEGIN:VEVENT
DTSTART;VALUE=DATE:20221203
DTEND;VALUE=DATE:20221205
DTSTAMP:20260423T181519
CREATED:20221116T145448Z
LAST-MODIFIED:20221116T145448Z
UID:10006693-1670025600-1670198399@www.atlantaparent.com
SUMMARY:Snowfest
DESCRIPTION:Enjoy wintery fun with a snow play area\, a tubing slide\, a synthetic skating rink and more\, along with festive activities\, such as visits from Santa and a magical light display. $22.95-$29.95; ages 4-12\, $14.95-$19.95; ages 3 and younger\, free; some activities\, extra.
URL:https://www.atlantaparent.com/event/snowfest/
LOCATION:Gwinnett County Fairgrounds\, 2405 Sugarloaf Parkway\, Lawrenceville
GEO:33.9191538;-83.9884978
X-APPLE-STRUCTURED-LOCATION;VALUE=URI;X-ADDRESS=Gwinnett County Fairgrounds 2405 Sugarloaf Parkway Lawrenceville;X-APPLE-RADIUS=500;X-TITLE=2405 Sugarloaf Parkway:geo:-83.9884978,33.9191538
END:VEVENT
BEGIN:VEVENT
DTSTART;VALUE=DATE:20221203
DTEND;VALUE=DATE:20221219
DTSTAMP:20260423T181519
CREATED:20251001T180555Z
LAST-MODIFIED:20251027T153503Z
UID:10003333-1670025600-1671407999@www.atlantaparent.com
SUMMARY:Gwinnett Ballet Theatre's The Nutcracker
DESCRIPTION:This performance features a cast of more than 100 professional and student dancers from the Gwinnett Ballet Theatre and Sugarloaf Youth Ballet. Dec. 12-21. See website for showtimes. $32+.
URL:https://www.atlantaparent.com/event/gwinnett-ballet-theatres-nutcracker/
LOCATION:Gas South District\, 6400 Sugarloaf Parkway\, Duluth
ATTACH;FMTTYPE=image/jpeg:https://www.atlantaparent.com/wp-content/uploads/2023/10/8Y0A9916-scaled-e1700067807499.jpg
GEO:33.9913579;-84.0938603
X-APPLE-STRUCTURED-LOCATION;VALUE=URI;X-ADDRESS=Gas South District 6400 Sugarloaf Parkway Duluth;X-APPLE-RADIUS=500;X-TITLE=6400 Sugarloaf Parkway:geo:-84.0938603,33.9913579
END:VEVENT
END:VCALENDAR