BEGIN:VCALENDAR
VERSION:2.0
PRODID:-//NEW Atlanta Parent - ECPv6.15.11//NONSGML v1.0//EN
CALSCALE:GREGORIAN
METHOD:PUBLISH
X-ORIGINAL-URL:https://www.atlantaparent.com
X-WR-CALDESC:Events for NEW Atlanta Parent
REFRESH-INTERVAL;VALUE=DURATION:PT1H
X-Robots-Tag:noindex
X-PUBLISHED-TTL:PT1H
BEGIN:VTIMEZONE
TZID:America/New_York
BEGIN:DAYLIGHT
TZOFFSETFROM:-0500
TZOFFSETTO:-0400
TZNAME:EDT
DTSTART:20190310T070000
END:DAYLIGHT
BEGIN:STANDARD
TZOFFSETFROM:-0400
TZOFFSETTO:-0500
TZNAME:EST
DTSTART:20191103T060000
END:STANDARD
BEGIN:DAYLIGHT
TZOFFSETFROM:-0500
TZOFFSETTO:-0400
TZNAME:EDT
DTSTART:20200308T070000
END:DAYLIGHT
BEGIN:STANDARD
TZOFFSETFROM:-0400
TZOFFSETTO:-0500
TZNAME:EST
DTSTART:20201101T060000
END:STANDARD
BEGIN:DAYLIGHT
TZOFFSETFROM:-0500
TZOFFSETTO:-0400
TZNAME:EDT
DTSTART:20210314T070000
END:DAYLIGHT
BEGIN:STANDARD
TZOFFSETFROM:-0400
TZOFFSETTO:-0500
TZNAME:EST
DTSTART:20211107T060000
END:STANDARD
BEGIN:DAYLIGHT
TZOFFSETFROM:-0500
TZOFFSETTO:-0400
TZNAME:EDT
DTSTART:20220313T070000
END:DAYLIGHT
BEGIN:STANDARD
TZOFFSETFROM:-0400
TZOFFSETTO:-0500
TZNAME:EST
DTSTART:20221106T060000
END:STANDARD
BEGIN:DAYLIGHT
TZOFFSETFROM:-0500
TZOFFSETTO:-0400
TZNAME:EDT
DTSTART:20230312T070000
END:DAYLIGHT
BEGIN:STANDARD
TZOFFSETFROM:-0400
TZOFFSETTO:-0500
TZNAME:EST
DTSTART:20231105T060000
END:STANDARD
END:VTIMEZONE
BEGIN:VEVENT
DTSTART;VALUE=DATE:20201107
DTEND;VALUE=DATE:20211025
DTSTAMP:20260421T212207
CREATED:20201208T170203Z
LAST-MODIFIED:20201208T170203Z
UID:10005615-1604707200-1635119999@www.atlantaparent.com
SUMMARY:Out Of This World! Jewelry In The Space Age
DESCRIPTION:Explore more than 200 pieces of vintage and contemporary jewelry with celestial and Space Age designs. Reservation required. $15.95; ages 3-17\, $11.95; ages 2 and younger\, free.
URL:https://www.atlantaparent.com/event/out-of-this-world-jewelry-in-the-space-age/
LOCATION:Tellus Science Museum\, 100 Tellus Drive\, Cartersville
GEO:34.2418518;-84.7706004
X-APPLE-STRUCTURED-LOCATION;VALUE=URI;X-ADDRESS=Tellus Science Museum 100 Tellus Drive Cartersville;X-APPLE-RADIUS=500;X-TITLE=100 Tellus Drive:geo:-84.7706004,34.2418518
END:VEVENT
BEGIN:VEVENT
DTSTART;VALUE=DATE:20210116
DTEND;VALUE=DATE:20210510
DTSTAMP:20260421T212207
CREATED:20201208T170439Z
LAST-MODIFIED:20210510T124329Z
UID:10005572-1610755200-1620604799@www.atlantaparent.com
SUMMARY:The Pigeon Comes to Atlanta! A Mo Willems Exhibit
DESCRIPTION:Celebrate your favorite stories by having conversations as Elephant Gerald and Piggie\, dressing up Naked Mole Rat\, uncovering Knuffle Bunny\, launching foam hot dogs at The Pigeon and more. Reservation required. $12.95-$18.95; ages 11 months and younger\, free.
URL:https://www.atlantaparent.com/event/the-pigeon-comes-to-atlanta-a-mo-willems-exhibit/
LOCATION:Children’s Museum of Atlanta\, 275 Centennial Olympic Park Dr. NW\, Atlanta\, GA
ATTACH;FMTTYPE=image/jpeg:https://www.atlantaparent.com/wp-content/uploads/2020/12/180425_ChildrensMuseum_Pigeon_087-scaled-e1607447174212.jpg
END:VEVENT
BEGIN:VEVENT
DTSTART;VALUE=DATE:20210123
DTEND;VALUE=DATE:20210907
DTSTAMP:20260421T212207
CREATED:20210105T144821Z
LAST-MODIFIED:20210105T144821Z
UID:10005625-1611360000-1630972799@www.atlantaparent.com
SUMMARY:Zoo in You
DESCRIPTION:View the world of inner microorganisms and the microbiome to learn more about personal health with engaging\, interactive and bilingual exhibits. Reservation required. $15.95; ages 3-17\, $11.95; ages 2 and younger\, free.
URL:https://www.atlantaparent.com/event/zoo-in-you/
LOCATION:Tellus Science Museum\, 100 Tellus Drive\, Cartersville
GEO:34.2418518;-84.7706004
X-APPLE-STRUCTURED-LOCATION;VALUE=URI;X-ADDRESS=Tellus Science Museum 100 Tellus Drive Cartersville;X-APPLE-RADIUS=500;X-TITLE=100 Tellus Drive:geo:-84.7706004,34.2418518
END:VEVENT
BEGIN:VEVENT
DTSTART;VALUE=DATE:20210130
DTEND;VALUE=DATE:20210503
DTSTAMP:20260421T212207
CREATED:20210114T214553Z
LAST-MODIFIED:20210201T135300Z
UID:10005587-1611964800-1619999999@www.atlantaparent.com
SUMMARY:Microsculpture
DESCRIPTION:Credit: Levon Biss \nThe tiny world of insects is magnified with portraits in this outdoor exhibit. Reservation required. $20; ages 3-12\, $18; ages 2 and younger\, free.
URL:https://www.atlantaparent.com/event/microsculpture/
LOCATION:Fernbank Museum of Natural History\, 767 Clifton Rd. NE\, Atlanta
ATTACH;FMTTYPE=image/jpeg:https://www.atlantaparent.com/wp-content/uploads/2021/01/2.-Jewel-Longhorned-Beetle-e1610660665531.jpg
GEO:33.7739166;-84.3277485
X-APPLE-STRUCTURED-LOCATION;VALUE=URI;X-ADDRESS=Fernbank Museum of Natural History 767 Clifton Rd. NE Atlanta;X-APPLE-RADIUS=500;X-TITLE=767 Clifton Rd. NE:geo:-84.3277485,33.7739166
END:VEVENT
BEGIN:VEVENT
DTSTART;VALUE=DATE:20210206
DTEND;VALUE=DATE:20210510
DTSTAMP:20260421T212207
CREATED:20210120T214402Z
LAST-MODIFIED:20210120T214402Z
UID:10005645-1612569600-1620604799@www.atlantaparent.com
SUMMARY:David Driskell: Icons of Nature and History
DESCRIPTION:Driskell’s paintings\, printmaking pieces\, collages and more combine the American landscape with the imagery and aesthetics of the African diaspora. Reservation required. $14.50; ages 5 and younger\, free.
URL:https://www.atlantaparent.com/event/david-driskell-icons-of-nature-and-history/
LOCATION:High Museum of Art\, 1280 Peachtree Street\, Atlanta
GEO:33.7891582;-84.3849351
X-APPLE-STRUCTURED-LOCATION;VALUE=URI;X-ADDRESS=High Museum of Art 1280 Peachtree Street Atlanta;X-APPLE-RADIUS=500;X-TITLE=1280 Peachtree Street:geo:-84.3849351,33.7891582
END:VEVENT
BEGIN:VEVENT
DTSTART;VALUE=DATE:20210213
DTEND;VALUE=DATE:20210510
DTSTAMP:20260421T212207
CREATED:20210120T202020Z
LAST-MODIFIED:20210215T140304Z
UID:10005591-1613174400-1620604799@www.atlantaparent.com
SUMMARY:Maya: Hidden Worlds Revealed
DESCRIPTION:Find out what archaeologists have discovered about the ancient Maya civilization that flourished in Mexico\, Belize\, Guatemala and Honduras. Reservation required. $20; ages 3-12\, $18; ages 2 and younger\, free.
URL:https://www.atlantaparent.com/event/maya-hidden-worlds-revealed/
LOCATION:Fernbank Museum of Natural History\, 767 Clifton Rd. NE\, Atlanta
ATTACH;FMTTYPE=image/jpeg:https://www.atlantaparent.com/wp-content/uploads/2021/01/mosaicearflares-scaled-e1611174099521.jpg
GEO:33.7739166;-84.3277485
X-APPLE-STRUCTURED-LOCATION;VALUE=URI;X-ADDRESS=Fernbank Museum of Natural History 767 Clifton Rd. NE Atlanta;X-APPLE-RADIUS=500;X-TITLE=767 Clifton Rd. NE:geo:-84.3277485,33.7739166
END:VEVENT
BEGIN:VEVENT
DTSTART;VALUE=DATE:20210306
DTEND;VALUE=DATE:20220221
DTSTAMP:20260421T212207
CREATED:20210304T135340Z
LAST-MODIFIED:20210304T135340Z
UID:10005658-1614988800-1645401599@www.atlantaparent.com
SUMMARY:Science Fiction\, Science Fact!
DESCRIPTION:Determine the technologies science fiction was able to predict\, along with the amazing inventions created with science fiction. $15.95; ages 3-17\, $11.95; ages 2 and younger\, free.
URL:https://www.atlantaparent.com/event/science-fiction-science-fact/
LOCATION:Tellus Science Museum\, 100 Tellus Drive\, Cartersville
GEO:34.2418518;-84.7706004
X-APPLE-STRUCTURED-LOCATION;VALUE=URI;X-ADDRESS=Tellus Science Museum 100 Tellus Drive Cartersville;X-APPLE-RADIUS=500;X-TITLE=100 Tellus Drive:geo:-84.7706004,34.2418518
END:VEVENT
BEGIN:VEVENT
DTSTART;VALUE=DATE:20210413
DTEND;VALUE=DATE:20210503
DTSTAMP:20260421T212207
CREATED:20210406T161042Z
LAST-MODIFIED:20210406T161042Z
UID:10005723-1618272000-1619999999@www.atlantaparent.com
SUMMARY:Virtual: A Hundred Words for Snow
DESCRIPTION:15-year-old Rory’s father always wanted to be an Arctic explorer\, and when he suddenly dies\, Rory decides to honor him in an expedition to the North Pole in this performance from Theatrical Outfit. $10-$30.
URL:https://www.atlantaparent.com/event/virtual-a-hundred-words-for-snow/
END:VEVENT
BEGIN:VEVENT
DTSTART;VALUE=DATE:20210416
DTEND;VALUE=DATE:20210426
DTSTAMP:20260421T212207
CREATED:20200720T153013Z
LAST-MODIFIED:20210312T183708Z
UID:10005109-1618531200-1619395199@www.atlantaparent.com
SUMMARY:The Reluctant Dragon
DESCRIPTION:Richard Parsons \nLearn the value of friendship through this tale with a dragon and a princess. April 16-25. See website for showtimes. $22.
URL:https://www.atlantaparent.com/event/the-reluctant-dragon/
LOCATION:Center for Puppetry Arts\, 1404 Spring Street NW\, Atlanta
ATTACH;FMTTYPE=image/jpeg:https://www.atlantaparent.com/wp-content/uploads/2020/07/The-Reluctant-Dragon-Photo-by-RICHARD-PARSONS.jpg
GEO:33.7928692;-84.3895974
X-APPLE-STRUCTURED-LOCATION;VALUE=URI;X-ADDRESS=Center for Puppetry Arts 1404 Spring Street NW Atlanta;X-APPLE-RADIUS=500;X-TITLE=1404 Spring Street NW:geo:-84.3895974,33.7928692
END:VEVENT
BEGIN:VEVENT
DTSTART;VALUE=DATE:20210419
DTEND;VALUE=DATE:20210425
DTSTAMP:20260421T212207
CREATED:20210326T172520Z
LAST-MODIFIED:20210426T125140Z
UID:10004037-1618790400-1619308799@www.atlantaparent.com
SUMMARY:Earth Week Programming
DESCRIPTION:Celebrate the environment with programs and activities teaching how to reduce\, reuse and recycle. Reservation required. $12.95-$18.95.
URL:https://www.atlantaparent.com/event/earth-week-programming/
LOCATION:Children’s Museum of Atlanta\, 275 Centennial Olympic Park Drive\, Atlanta\, GA
ATTACH;FMTTYPE=image/jpeg:https://www.atlantaparent.com/wp-content/uploads/2019/03/cma-earth-day-b.jpg
GEO:33.762568;-84.3914318
X-APPLE-STRUCTURED-LOCATION;VALUE=URI;X-ADDRESS=Children’s Museum of Atlanta 275 Centennial Olympic Park Drive Atlanta GA;X-APPLE-RADIUS=500;X-TITLE=275 Centennial Olympic Park Drive:geo:-84.3914318,33.762568
END:VEVENT
BEGIN:VEVENT
DTSTART;VALUE=DATE:20210422
DTEND;VALUE=DATE:20210423
DTSTAMP:20260421T212207
CREATED:20210409T170621Z
LAST-MODIFIED:20210409T170621Z
UID:10005729-1619049600-1619135999@www.atlantaparent.com
SUMMARY:Earth Day Celebration
DESCRIPTION:Join Barre3 for an outdoor fitness class\, and kids will enjoy decorating park spaces with chalk for Earth Day. Kids will receive a reusable lunch bag. Free; registration for Barre3 class required.
URL:https://www.atlantaparent.com/event/earth-day-celebration-3/
LOCATION:The Avenue East Cobb\, 4475 Roswell Rd.\, Marietta
ATTACH;FMTTYPE=image/jpeg:https://www.atlantaparent.com/wp-content/uploads/2021/04/Barre3-outdoor-CROP-e1617987940379.jpg
GEO:33.9880126;-84.4224366
X-APPLE-STRUCTURED-LOCATION;VALUE=URI;X-ADDRESS=The Avenue East Cobb 4475 Roswell Rd. Marietta;X-APPLE-RADIUS=500;X-TITLE=4475 Roswell Rd.:geo:-84.4224366,33.9880126
END:VEVENT
BEGIN:VEVENT
DTSTART;VALUE=DATE:20210422
DTEND;VALUE=DATE:20210503
DTSTAMP:20260421T212207
CREATED:20200915T203822Z
LAST-MODIFIED:20210408T124243Z
UID:10005438-1619049600-1619999999@www.atlantaparent.com
SUMMARY:Atlanta Film Festival
DESCRIPTION:The festival celebrate the region’s cinema\, featuring documentaries\, short films\, narratives\, drive-in movies\, free panels\, conferences and more. See website for full schedule and pricing.
URL:https://www.atlantaparent.com/event/atlanta-film-festival/
END:VEVENT
BEGIN:VEVENT
DTSTART;VALUE=DATE:20210422
DTEND;VALUE=DATE:20210726
DTSTAMP:20260421T212207
CREATED:20210521T143133Z
LAST-MODIFIED:20210521T143133Z
UID:10005835-1619049600-1627257599@www.atlantaparent.com
SUMMARY:Bike to the Future
DESCRIPTION:See the latest in bicycle design\, as well as cutting-edge bicycle infrastructure from projects around the world. Reservation required. $10.
URL:https://www.atlantaparent.com/event/bike-to-the-future/
LOCATION:Museum of Design Atlanta\, 1315 Peachtree St.\, Atlanta
GEO:33.7907143;-84.3845497
X-APPLE-STRUCTURED-LOCATION;VALUE=URI;X-ADDRESS=Museum of Design Atlanta 1315 Peachtree St. Atlanta;X-APPLE-RADIUS=500;X-TITLE=1315 Peachtree St.:geo:-84.3845497,33.7907143
END:VEVENT
BEGIN:VEVENT
DTSTART;TZID=America/New_York:20210422T173000
DTEND;TZID=America/New_York:20210422T183000
DTSTAMP:20260421T212207
CREATED:20200720T165253Z
LAST-MODIFIED:20210427T155245Z
UID:10005201-1619112600-1619116200@www.atlantaparent.com
SUMMARY:Yoga on the Farm
DESCRIPTION:Take a themed yoga class from a certified instructor. $10. Mon. and Thur. 5:45-6:30 p.m. Fri. 10-10:45 a.m. Sat. 10:30-11:15 a.m.
URL:https://www.atlantaparent.com/event/yoga-on-the-farm/2021-04-22/
LOCATION:Donaldson-Bannister Farm\, 4831 Chamblee Dunwoody Road\, Dunwoody
GEO:33.9328092;-84.3173467
X-APPLE-STRUCTURED-LOCATION;VALUE=URI;X-ADDRESS=Donaldson-Bannister Farm 4831 Chamblee Dunwoody Road Dunwoody;X-APPLE-RADIUS=500;X-TITLE=4831 Chamblee Dunwoody Road:geo:-84.3173467,33.9328092
END:VEVENT
BEGIN:VEVENT
DTSTART;TZID=America/New_York:20210422T190000
DTEND;TZID=America/New_York:20210422T200000
DTSTAMP:20260421T212207
CREATED:20210301T141118Z
LAST-MODIFIED:20210326T124140Z
UID:10005416-1619118000-1619121600@www.atlantaparent.com
SUMMARY:Sunset Yoga
DESCRIPTION:Celebrate Earth Day by practicing yoga outdoors under the peaceful canopy of the trees in the park. Registration required. $10.
URL:https://www.atlantaparent.com/event/soulstice-yoga/
LOCATION:Dunwoody Nature Center\, 5343 Roberts Drive\, Dunwoody
GEO:33.9567738;-84.3359325
X-APPLE-STRUCTURED-LOCATION;VALUE=URI;X-ADDRESS=Dunwoody Nature Center 5343 Roberts Drive Dunwoody;X-APPLE-RADIUS=500;X-TITLE=5343 Roberts Drive:geo:-84.3359325,33.9567738
END:VEVENT
BEGIN:VEVENT
DTSTART;VALUE=DATE:20210423
DTEND;VALUE=DATE:20210426
DTSTAMP:20260421T212207
CREATED:20210325T165027Z
LAST-MODIFIED:20210325T165027Z
UID:10005698-1619136000-1619395199@www.atlantaparent.com
SUMMARY:On Golden Pond
DESCRIPTION:Aging couple Ethel and Norman Thayer work to reconcile with their daughter Chelsea when she visits them at their summer home on Golden Pond. April 16-18 and 23-24. Fri.-Sat. 8 p.m. Sun. 3 p.m. $25.
URL:https://www.atlantaparent.com/event/on-golden-pond/2021-04-23/
LOCATION:Roberts School Community and Education Center\, 4681 School St.\, Acworth
GEO:34.068714;-84.6803995
X-APPLE-STRUCTURED-LOCATION;VALUE=URI;X-ADDRESS=Roberts School Community and Education Center 4681 School St. Acworth;X-APPLE-RADIUS=500;X-TITLE=4681 School St.:geo:-84.6803995,34.068714
END:VEVENT
BEGIN:VEVENT
DTSTART;TZID=America/New_York:20210423T180000
DTEND;TZID=America/New_York:20210423T200000
DTSTAMP:20260421T212207
CREATED:20210410T002020Z
LAST-MODIFIED:20210423T131937Z
UID:10004232-1619200800-1619208000@www.atlantaparent.com
SUMMARY:Avalon Nights Live at Avalon Plaza
DESCRIPTION:Every Friday through Oct. 22. Performances announced monthly. 6-8 p.m.
URL:https://www.atlantaparent.com/event/avalon-nights-live-at-avalon-plaza/2021-04-23/
LOCATION:Avalon\, 400 Avalon Blvd.\, Alpharetta
END:VEVENT
BEGIN:VEVENT
DTSTART;VALUE=DATE:20210428
DTEND;VALUE=DATE:20210429
DTSTAMP:20260421T212207
CREATED:20210212T155432Z
LAST-MODIFIED:20210212T155432Z
UID:10005687-1619568000-1619654399@www.atlantaparent.com
SUMMARY:National SuperHero Day
DESCRIPTION:Enjoy a Storybook Art session with the book “Brave” and Canvas Cape Designs. April 28\, 11 a.m.-noon; 1-2 p.m.; 4-5 p.m. and 6-7 p.m. For ages 3 and older. $25; registration required.
URL:https://www.atlantaparent.com/event/national-superhero-day/
LOCATION:ABC Easel\, 11130 State Bridge Rd.\, Johns Creek\, 30022
GEO:34.0554428;-84.2287852
X-APPLE-STRUCTURED-LOCATION;VALUE=URI;X-ADDRESS=ABC Easel 11130 State Bridge Rd. Johns Creek 30022;X-APPLE-RADIUS=500;X-TITLE=11130 State Bridge Rd.:geo:-84.2287852,34.0554428
END:VEVENT
BEGIN:VEVENT
DTSTART;VALUE=DATE:20210430
DTEND;VALUE=DATE:20210501
DTSTAMP:20260421T212207
CREATED:20210407T152123Z
LAST-MODIFIED:20210416T134256Z
UID:10005707-1619740800-1619827199@www.atlantaparent.com
SUMMARY:May Fair
DESCRIPTION:See a magic show\, look at fire engines\, go on a hayride\, train ride or pony ride\, and play farm games. April 30-May 31. Fri. 4-10 p.m.; Sat. 10 a.m.-10 p.m.; Sun. 10 a.m.-8 p.m. and Memorial Day\, 10-a.m.-8 p.m. $14.
URL:https://www.atlantaparent.com/event/may-fair/2021-04-30/
LOCATION:Buford Corn Maze\, 4470 Bennett Rd.\, Buford
ATTACH;FMTTYPE=image/jpeg:https://www.atlantaparent.com/wp-content/uploads/2021/04/BCM-6-e1618580568288.jpg
GEO:34.1356668;-83.9358656
X-APPLE-STRUCTURED-LOCATION;VALUE=URI;X-ADDRESS=Buford Corn Maze 4470 Bennett Rd. Buford;X-APPLE-RADIUS=500;X-TITLE=4470 Bennett Rd.:geo:-83.9358656,34.1356668
END:VEVENT
BEGIN:VEVENT
DTSTART;VALUE=DATE:20210430
DTEND;VALUE=DATE:20210502
DTSTAMP:20260421T212207
CREATED:20210216T185947Z
LAST-MODIFIED:20210325T175552Z
UID:10005637-1619740800-1619913599@www.atlantaparent.com
SUMMARY:Lore
DESCRIPTION:The Roswell Dance Starz explore Greek mythology\, Robin Hood’s story and legends about King Arthur in this performance. April 30 and May 1\, 7 p.m. $15.
URL:https://www.atlantaparent.com/event/lore/
LOCATION:Roswell Cultural Arts Center\, 950 Forest St.\, Roswell
GEO:34.0234904;-84.3578365
X-APPLE-STRUCTURED-LOCATION;VALUE=URI;X-ADDRESS=Roswell Cultural Arts Center 950 Forest St. Roswell;X-APPLE-RADIUS=500;X-TITLE=950 Forest St.:geo:-84.3578365,34.0234904
END:VEVENT
BEGIN:VEVENT
DTSTART;TZID=America/New_York:20210501T200000
DTEND;TZID=America/New_York:20210501T200000
DTSTAMP:20260421T212207
CREATED:20210412T195620Z
LAST-MODIFIED:20210412T195620Z
UID:10005728-1619899200-1619899200@www.atlantaparent.com
SUMMARY:We Are The Young
DESCRIPTION:See young musicians combine traditional Chinese instruments with contemporary pop music. $50.
URL:https://www.atlantaparent.com/event/we-are-the-young/
LOCATION: Aurora Theatre\, 128 East Pike St.\, Lawrenceville
END:VEVENT
BEGIN:VEVENT
DTSTART;TZID=America/New_York:20210502T170000
DTEND;TZID=America/New_York:20210502T190000
DTSTAMP:20260421T212207
CREATED:20210423T133033Z
LAST-MODIFIED:20210423T133033Z
UID:10005761-1619974800-1619982000@www.atlantaparent.com
SUMMARY:Sunday Sounds at Hotel at Avalon Pool Terrace
DESCRIPTION:Live jazz music. May 2\, 9\, 16 and 23\, 5-7 p.m.
URL:https://www.atlantaparent.com/event/sunday-sounds-at-hotel-at-avalon-pool-terrace/2021-05-02/
LOCATION:The Hotel at Avalon \, 9000 Avalon Blvd.\, Alpharetta
END:VEVENT
BEGIN:VEVENT
DTSTART;TZID=America/New_York:20210502T190000
DTEND;TZID=America/New_York:20210502T190000
DTSTAMP:20260421T212207
CREATED:20210426T164932Z
LAST-MODIFIED:20210426T164932Z
UID:10005742-1619982000-1619982000@www.atlantaparent.com
SUMMARY:Sunset Sessions
DESCRIPTION:Free alternative music concert series. \nMay 2 – Noonday Sons\nMay 9 – The Get Right Band\nMay 23 – Grasshounds\nJune 6 – All the Locals\nJune 13 – EG Vines\nJune 20 – The 502s\nJuly 4 – Frankly Scarlet\nJuly 11 – Carly Moffa\nJuly 18 – Ides of June\nJuly 25 – Cody Bolden\nAug. 1 – Motherfolk\nAug. 8 – The Selfless Lovers\nSept. 5 – Easy Honey
URL:https://www.atlantaparent.com/event/sunset-sessions/2021-05-02/
LOCATION:Park Tavern\, 500 10th St. NE\, Atlanta
GEO:33.7821919;-84.3691666
X-APPLE-STRUCTURED-LOCATION;VALUE=URI;X-ADDRESS=Park Tavern 500 10th St. NE Atlanta;X-APPLE-RADIUS=500;X-TITLE=500 10th St. NE:geo:-84.3691666,33.7821919
END:VEVENT
BEGIN:VEVENT
DTSTART;TZID=America/New_York:20210504T190000
DTEND;TZID=America/New_York:20210504T190000
DTSTAMP:20260421T212207
CREATED:20210331T195523Z
LAST-MODIFIED:20210331T195523Z
UID:10005701-1620154800-1620154800@www.atlantaparent.com
SUMMARY:Franklin Pond Chamber Music Concert
DESCRIPTION:Listen to live classical music from talented middle and high school musicians. May 4\, 7 p.m. and May 29\, 11 a.m. Free admission.
URL:https://www.atlantaparent.com/event/franklin-pond-chamber-music-concert/2021-05-04/
LOCATION:Peachtree Road United Methodist Church\, 3180 Peachtree Rd. NE\, Atlanta
END:VEVENT
BEGIN:VEVENT
DTSTART;VALUE=DATE:20210505
DTEND;VALUE=DATE:20210506
DTSTAMP:20260421T212207
CREATED:20210212T155648Z
LAST-MODIFIED:20210212T155648Z
UID:10005634-1620172800-1620259199@www.atlantaparent.com
SUMMARY:Celebrate Leo Lionni  
DESCRIPTION:Celebrate Leo Lionni’s “Little Blue and Little Yellow” and fidget spinner designs. May 5\, 11 a.m.-noon; 1-2 p.m.; 4-5 p.m. and 6-7 p.m. For ages 3 and older. $25; registration required.
URL:https://www.atlantaparent.com/event/celebrate-leo-lionni/
LOCATION:ABC Easel\, 11130 State Bridge Rd.\, Johns Creek\, 30022
GEO:34.0554428;-84.2287852
X-APPLE-STRUCTURED-LOCATION;VALUE=URI;X-ADDRESS=ABC Easel 11130 State Bridge Rd. Johns Creek 30022;X-APPLE-RADIUS=500;X-TITLE=11130 State Bridge Rd.:geo:-84.2287852,34.0554428
END:VEVENT
BEGIN:VEVENT
DTSTART;TZID=America/New_York:20210505T100000
DTEND;TZID=America/New_York:20210505T110000
DTSTAMP:20260421T212207
CREATED:20210416T160931Z
LAST-MODIFIED:20210416T160931Z
UID:10005736-1620208800-1620212400@www.atlantaparent.com
SUMMARY:Mommy & Me Outdoor Storytime
DESCRIPTION:Enjoy a storytime for kids followed by a DIY craft. Reservation required. May 5\, 12 and 19\, 10 a.m.
URL:https://www.atlantaparent.com/event/mommy-me-outdoor-storytime/2021-05-05/
LOCATION:The Avenue East Cobb\, 4475 Roswell Rd.\, Marietta
GEO:33.9880126;-84.4224366
X-APPLE-STRUCTURED-LOCATION;VALUE=URI;X-ADDRESS=The Avenue East Cobb 4475 Roswell Rd. Marietta;X-APPLE-RADIUS=500;X-TITLE=4475 Roswell Rd.:geo:-84.4224366,33.9880126
END:VEVENT
BEGIN:VEVENT
DTSTART;TZID=America/New_York:20210505T180000
DTEND;TZID=America/New_York:20210505T200000
DTSTAMP:20260421T212207
CREATED:20210426T165541Z
LAST-MODIFIED:20210426T170035Z
UID:10005771-1620237600-1620244800@www.atlantaparent.com
SUMMARY:Sugar Hill Live
DESCRIPTION:Wednesdays\, 6-8 p.m. Performers TBA.
URL:https://www.atlantaparent.com/event/sugar-hill-live/2021-05-05/
LOCATION:The Bowl at Sugar Hill\, 5039 West Broad St.\, Sugar Hill\, GA
GEO:34.1076789;-84.036372
X-APPLE-STRUCTURED-LOCATION;VALUE=URI;X-ADDRESS=The Bowl at Sugar Hill 5039 West Broad St. Sugar Hill GA;X-APPLE-RADIUS=500;X-TITLE=5039 West Broad St.:geo:-84.036372,34.1076789
END:VEVENT
BEGIN:VEVENT
DTSTART;VALUE=DATE:20210506
DTEND;VALUE=DATE:20210517
DTSTAMP:20260421T212207
CREATED:20210312T184253Z
LAST-MODIFIED:20210325T180040Z
UID:10005671-1620259200-1621209599@www.atlantaparent.com
SUMMARY:Songs to Grow on
DESCRIPTION:Folk music legend Woody Guthrie’s classic children’s songs are performed at this concert. Thur.-Fri.\, 11 a.m. and Sat.-Sun.\, 9:30 and 11 a.m. $20-$40.
URL:https://www.atlantaparent.com/event/songs-to-grow-on/
LOCATION:Alliance Theatre\, 1280 Peachtree Street\, Atlanta
END:VEVENT
BEGIN:VEVENT
DTSTART;TZID=America/New_York:20210506T130000
DTEND;TZID=America/New_York:20210509T180000
DTSTAMP:20260421T212207
CREATED:20210503T141212Z
LAST-MODIFIED:20210503T141212Z
UID:10005768-1620306000-1620583200@www.atlantaparent.com
SUMMARY:Mother's May Market
DESCRIPTION:Visit Walmarts for a free outdoor market with crafts\, photos\, goody bags and more. \n\nMay 6\, 1-6 p.m.: 1801 Nathan Dean Byp.\, Rockmart\nMay 7\, 1-6 p.m.: 4166 Jimmy Lee Smith Pkwy.\, Hiram\nMay 8\, 1-6 p.m.: 3615 Marietta Hwy.\, Dallas\nMay 9\, 1-6 p.m.: 3105 Cobb Pkwy. NW\, Kennesaw
URL:https://www.atlantaparent.com/event/mothers-may-market/
END:VEVENT
BEGIN:VEVENT
DTSTART;VALUE=DATE:20210507
DTEND;VALUE=DATE:20210509
DTSTAMP:20260421T212207
CREATED:20210430T124928Z
LAST-MODIFIED:20210430T124928Z
UID:10005769-1620345600-1620518399@www.atlantaparent.com
SUMMARY:Mother's Day Weekend Comedy Special
DESCRIPTION:Enjoy some laughs with Atlanta’s brightest female comedy stars and a special guest. May 7-8\, 7:15 and 9:15 p.m. $30-$60.
URL:https://www.atlantaparent.com/event/mothers-day-weekend-comedy-special/
LOCATION: Aurora Theatre\, 128 East Pike St.\, Lawrenceville
END:VEVENT
END:VCALENDAR