BEGIN:VCALENDAR
VERSION:2.0
PRODID:-//NEW Atlanta Parent - ECPv6.15.11//NONSGML v1.0//EN
CALSCALE:GREGORIAN
METHOD:PUBLISH
X-ORIGINAL-URL:https://www.atlantaparent.com
X-WR-CALDESC:Events for NEW Atlanta Parent
REFRESH-INTERVAL;VALUE=DURATION:PT1H
X-Robots-Tag:noindex
X-PUBLISHED-TTL:PT1H
BEGIN:VTIMEZONE
TZID:America/New_York
BEGIN:DAYLIGHT
TZOFFSETFROM:-0500
TZOFFSETTO:-0400
TZNAME:EDT
DTSTART:20190310T070000
END:DAYLIGHT
BEGIN:STANDARD
TZOFFSETFROM:-0400
TZOFFSETTO:-0500
TZNAME:EST
DTSTART:20191103T060000
END:STANDARD
BEGIN:DAYLIGHT
TZOFFSETFROM:-0500
TZOFFSETTO:-0400
TZNAME:EDT
DTSTART:20200308T070000
END:DAYLIGHT
BEGIN:STANDARD
TZOFFSETFROM:-0400
TZOFFSETTO:-0500
TZNAME:EST
DTSTART:20201101T060000
END:STANDARD
BEGIN:DAYLIGHT
TZOFFSETFROM:-0500
TZOFFSETTO:-0400
TZNAME:EDT
DTSTART:20210314T070000
END:DAYLIGHT
BEGIN:STANDARD
TZOFFSETFROM:-0400
TZOFFSETTO:-0500
TZNAME:EST
DTSTART:20211107T060000
END:STANDARD
BEGIN:DAYLIGHT
TZOFFSETFROM:-0500
TZOFFSETTO:-0400
TZNAME:EDT
DTSTART:20220313T070000
END:DAYLIGHT
BEGIN:STANDARD
TZOFFSETFROM:-0400
TZOFFSETTO:-0500
TZNAME:EST
DTSTART:20221106T060000
END:STANDARD
END:VTIMEZONE
BEGIN:VTIMEZONE
TZID:UTC
BEGIN:STANDARD
TZOFFSETFROM:+0000
TZOFFSETTO:+0000
TZNAME:UTC
DTSTART:20190101T000000
END:STANDARD
END:VTIMEZONE
BEGIN:VEVENT
DTSTART;TZID=America/New_York:20201221T100000
DTEND;TZID=America/New_York:20201221T120000
DTSTAMP:20260422T021250
CREATED:20201020T021750Z
LAST-MODIFIED:20201027T141346Z
UID:10004651-1608544800-1608552000@www.atlantaparent.com
SUMMARY:Cookies with Mrs. Claus
DESCRIPTION:Help Mrs. Claus decorate cookies\, listen to holiday stories\, and write letters to Santa. A very special postman will pick up Santa’s letters. For ages 4 and older. Dec. 19 and 21\, 10 a.m. and noon. Reservations required. $10.
URL:https://www.atlantaparent.com/event/cookies-with-mrs-claus/2020-12-21/
LOCATION:Barrington Hall\, 535 Barrington Drive \, Roswell
GEO:34.0133208;-84.3636171
X-APPLE-STRUCTURED-LOCATION;VALUE=URI;X-ADDRESS=Barrington Hall 535 Barrington Drive  Roswell;X-APPLE-RADIUS=500;X-TITLE=535 Barrington Drive:geo:-84.3636171,34.0133208
END:VEVENT
BEGIN:VEVENT
DTSTART;TZID=America/New_York:20201220T180000
DTEND;TZID=America/New_York:20201220T180000
DTSTAMP:20260422T021250
CREATED:20201208T164226Z
LAST-MODIFIED:20201208T164226Z
UID:10005567-1608487200-1608487200@www.atlantaparent.com
SUMMARY:Virtual: The Bert Show Holiday Live Stream Benefitting Bert's Big Adventure
DESCRIPTION:View a special reading of “The Elf on the Shelf\,” a cookie baking demonstration\, a reading of “The Polar Express\,” visit with Santa and more. Dec. 20\, 6 p.m.
URL:https://www.atlantaparent.com/event/virtual-the-bert-show-holiday-live-stream-benefitting-berts-big-adventure/
END:VEVENT
BEGIN:VEVENT
DTSTART;TZID=America/New_York:20201219T170000
DTEND;TZID=America/New_York:20201219T203000
DTSTAMP:20260422T021250
CREATED:20201204T185827Z
LAST-MODIFIED:20201204T185827Z
UID:10005560-1608397200-1608409800@www.atlantaparent.com
SUMMARY:Holiday Drive-In Movie
DESCRIPTION:See the holiday favorite “Elf” from the comfort of your own vehicle\, and purchase holiday refreshments from food trucks. Free; registration required. Movie starts at 7 p.m.
URL:https://www.atlantaparent.com/event/holiday-drive-in-movie/
LOCATION:Roswell City Hall\, 38 Hill St.\, Roswell\, United States
END:VEVENT
BEGIN:VEVENT
DTSTART;TZID=America/New_York:20201219T140000
DTEND;TZID=America/New_York:20201219T160000
DTSTAMP:20260422T021250
CREATED:20200902T153817Z
LAST-MODIFIED:20200902T153817Z
UID:10005367-1608386400-1608393600@www.atlantaparent.com
SUMMARY:Nature's Treats and Trinkets
DESCRIPTION:Drop the kids off for some holiday fun on then go do some holiday shopping while participants make nature-themed crafts and gifts\, treats for the birds and trinkets for friends or family. For ages 6-11. $10.
URL:https://www.atlantaparent.com/event/natures-treats-and-trinkets/
LOCATION:Autrey Mill Nature Preserve\,  9770 Autrey Mill Road\, Johns Creek
GEO:34.020805;-84.23265
X-APPLE-STRUCTURED-LOCATION;VALUE=URI;X-ADDRESS=Autrey Mill Nature Preserve  9770 Autrey Mill Road Johns Creek;X-APPLE-RADIUS=500;X-TITLE= 9770 Autrey Mill Road:geo:-84.23265,34.020805
END:VEVENT
BEGIN:VEVENT
DTSTART;VALUE=DATE:20201219
DTEND;VALUE=DATE:20201230
DTSTAMP:20260422T021250
CREATED:20201006T220122Z
LAST-MODIFIED:20201123T142328Z
UID:10000619-1608336000-1609286399@www.atlantaparent.com
SUMMARY:Virtual: Moscow Ballet's Great Russian Nutcracker
DESCRIPTION:Stream this holiday classic with dazzling costumes\, stunning sets\, creative puppets and soaring birds. Dec. 19-29. $24.99-$69.99.
URL:https://www.atlantaparent.com/event/moscow-ballets-great-russian-nutcracker/
ATTACH;FMTTYPE=image/jpeg:https://www.atlantaparent.com/wp-content/uploads/2016/11/great-russian-nutcracker-e1572879343432.jpg
END:VEVENT
BEGIN:VEVENT
DTSTART;TZID=America/New_York:20201218T200000
DTEND;TZID=America/New_York:20201218T200000
DTSTAMP:20260422T021250
CREATED:20201023T151539Z
LAST-MODIFIED:20201023T151539Z
UID:10005502-1608321600-1608321600@www.atlantaparent.com
SUMMARY:Jaimee Paul & Leif Shires Christmas
DESCRIPTION:Enjoy a jazz Christmas special from this talented duo. Dec. 18\, 8 p.m. $25-$35.
URL:https://www.atlantaparent.com/event/jaimee-paul-leif-shires-christmas/
LOCATION:Buford Community Center\, 2200 Buford Hwy.\, Buford
END:VEVENT
BEGIN:VEVENT
DTSTART;VALUE=DATE:20201218
DTEND;VALUE=DATE:20201231
DTSTAMP:20260422T021250
CREATED:20201123T142514Z
LAST-MODIFIED:20201123T142514Z
UID:10005539-1608249600-1609372799@www.atlantaparent.com
SUMMARY:Virtual: Ballet Chicago Presents The Nutcracker
DESCRIPTION:Watch a Historic Archival Performance and restaged dances from current performers. Dec. 18-30. See website for showtimes. $26; ages 9 and younger\, $16.
URL:https://www.atlantaparent.com/event/virtual-ballet-chicago-presents-the-nutcracker/
END:VEVENT
BEGIN:VEVENT
DTSTART;VALUE=DATE:20201218
DTEND;VALUE=DATE:20201220
DTSTAMP:20260422T021250
CREATED:20201113T191242Z
LAST-MODIFIED:20201113T191805Z
UID:10005564-1608249600-1608422399@www.atlantaparent.com
SUMMARY:Virtual: Improvised Made-for-TV Christmas Movie
DESCRIPTION:Enjoy this improvised play narrating live Christmas movies\, analyzing tropes and the love of holiday romances. Nov. 28-Dec. 19. Fri.-Sat. 8 p.m. $15.
URL:https://www.atlantaparent.com/event/virtual-improvised-made-for-tv-christmas-movie/2020-12-18/
END:VEVENT
BEGIN:VEVENT
DTSTART;TZID=America/New_York:20201217T200000
DTEND;TZID=America/New_York:20201217T200000
DTSTAMP:20260422T021250
CREATED:20201124T202421Z
LAST-MODIFIED:20201124T202421Z
UID:10005545-1608235200-1608235200@www.atlantaparent.com
SUMMARY:Virtual: Warm Wishes: A Holiday Celebration
DESCRIPTION:Enjoy classic holiday favorites and carols with vocalists Talise Trevigne and Russell Thomas. Dec. 17\, 8 p.m. $20.
URL:https://www.atlantaparent.com/event/virtual-warm-wishes-a-holiday-celebration/
END:VEVENT
BEGIN:VEVENT
DTSTART;TZID=America/New_York:20201217T163000
DTEND;TZID=America/New_York:20201217T180000
DTSTAMP:20260422T021250
CREATED:20200902T153209Z
LAST-MODIFIED:20200902T154342Z
UID:10005375-1608222600-1608228000@www.atlantaparent.com
SUMMARY:Crafts from the Past Club
DESCRIPTION:Learn how folks from the past made and adorned common household items and art. For ages 5-11. $10. \nSept. 3: Remember Me-Binding Scrapbooks\nSept. 17: Cut It Out-Decoupage Photo Frame\nOct. 8: Put Your Stamp On It-Art Gum Printer & Other Stamps\nOct. 22: Weave Your Way-Basket Weaving\nNov. 5: Hammer It Out-Leather Embossing\nNov. 12: Hard Pressed-Pressed Herbs and Flower Bookmarks\nDec. 3: Welcome Home-Cornhusk Wreath & Other Decorations\nDec 17: Come On and Play-Old Fashioned Toys & Games
URL:https://www.atlantaparent.com/event/crafts-from-the-past-club/2020-12-17/
LOCATION:Autrey Mill Nature Preserve\,  9770 Autrey Mill Road\, Johns Creek
GEO:34.020805;-84.23265
X-APPLE-STRUCTURED-LOCATION;VALUE=URI;X-ADDRESS=Autrey Mill Nature Preserve  9770 Autrey Mill Road Johns Creek;X-APPLE-RADIUS=500;X-TITLE= 9770 Autrey Mill Road:geo:-84.23265,34.020805
END:VEVENT
BEGIN:VEVENT
DTSTART;VALUE=DATE:20201217
DTEND;VALUE=DATE:20210102
DTSTAMP:20260422T021250
CREATED:20201004T181825Z
LAST-MODIFIED:20201020T174015Z
UID:10004568-1608163200-1609545599@www.atlantaparent.com
SUMMARY:This Wonderful Life
DESCRIPTION:Stream this adaptation of “It’s a Wonderful Life” as performed by one actor. Dec. 17-Jan. 1. $25.
URL:https://www.atlantaparent.com/event/this-wonderful-life/
LOCATION: Aurora Theatre\, 128 East Pike St.\, Lawrenceville
ATTACH;FMTTYPE=image/jpeg:https://www.atlantaparent.com/wp-content/uploads/2019/10/this-wonderful-life.jpg
END:VEVENT
BEGIN:VEVENT
DTSTART;TZID=UTC:20201213T163000
DTEND;TZID=UTC:20201213T193000
DTSTAMP:20260422T021250
CREATED:20201118T050024Z
LAST-MODIFIED:20201118T224836Z
UID:10000623-1607877000-1607887800@www.atlantaparent.com
SUMMARY:Drive-In Chanukah
DESCRIPTION:Hosted by Chabad Intown\, experience a Chanukah celebration with a menorah lighting\, films and dinner. Dec. 13\, 4:30-7:30 p.m. Free; registration required.
URL:https://www.atlantaparent.com/event/menorah-lighting-3/
LOCATION:Ponce City Market\, 675 Ponce de Leon Ave\, Atlanta
ATTACH;FMTTYPE=image/jpeg:https://www.atlantaparent.com/wp-content/uploads/2019/10/Decatur-2-e1573148044598.jpg
GEO:33.7725173;-84.3659673
X-APPLE-STRUCTURED-LOCATION;VALUE=URI;X-ADDRESS=Ponce City Market 675 Ponce de Leon Ave Atlanta;X-APPLE-RADIUS=500;X-TITLE=675 Ponce de Leon Ave:geo:-84.3659673,33.7725173
END:VEVENT
BEGIN:VEVENT
DTSTART;TZID=America/New_York:20201212T170000
DTEND;TZID=America/New_York:20201212T170000
DTSTAMP:20260422T021250
CREATED:20201112T211627Z
LAST-MODIFIED:20201112T211627Z
UID:10005522-1607792400-1607792400@www.atlantaparent.com
SUMMARY:Santa Express
DESCRIPTION:Santa will visit all the good girls and boys in Newnan. Check the website for the route.
URL:https://www.atlantaparent.com/event/santa-express-2/
LOCATION:Newnan
END:VEVENT
BEGIN:VEVENT
DTSTART;TZID=America/New_York:20201212T130000
DTEND;TZID=America/New_York:20201216T180000
DTSTAMP:20260422T021250
CREATED:20200805T143655Z
LAST-MODIFIED:20201207T144944Z
UID:10005282-1607778000-1608141600@www.atlantaparent.com
SUMMARY:Walmart Winter Park
DESCRIPTION:Join in the holiday cheer with a walk-through winter wonderland\, treats\, wish lists to the North Pole and a socially distanced photo with Santa. \n\nDec. 12\, 1-6 p.m.: 5600 N. Henry Blvd.\, Stockbridge\nDec. 13\, 1-6 p.m.: 1436 Dogwood Dr. SE\, Conyers\nDec. 14\, 1-6 p.m.: 4975 Jimmy Carter Blvd.\, Norcross\nDec. 15\, 1-6 p.m.: 3435 Centerville Hwy.\, Snellville\nDec. 16\, 1-6 p.m.: 2427 Gresham Rd. SE\, Atlanta
URL:https://www.atlantaparent.com/event/walmart-drive-in/
END:VEVENT
BEGIN:VEVENT
DTSTART;TZID=America/New_York:20201212T130000
DTEND;TZID=America/New_York:20201212T170000
DTSTAMP:20260422T021250
CREATED:20201116T141041Z
LAST-MODIFIED:20201116T141041Z
UID:10005532-1607778000-1607792400@www.atlantaparent.com
SUMMARY:The Grinch Saves Christmas
DESCRIPTION:The Grinch is collecting toys to support the Acworth Police Department’s Shop with a Cop program. Donate a toy\, visit the Grinch\, and enjoy festive activities. Dec. 12\, 1-5 p.m.
URL:https://www.atlantaparent.com/event/the-grinch-saves-christmas/
LOCATION:Frana Brown Park\, 4901 North Main St.\, Acworth
GEO:34.0667291;-84.6796691
X-APPLE-STRUCTURED-LOCATION;VALUE=URI;X-ADDRESS=Frana Brown Park 4901 North Main St. Acworth;X-APPLE-RADIUS=500;X-TITLE=4901 North Main St.:geo:-84.6796691,34.0667291
END:VEVENT
BEGIN:VEVENT
DTSTART;TZID=America/New_York:20201212T100000
DTEND;TZID=America/New_York:20201212T120000
DTSTAMP:20260422T021250
CREATED:20201015T152000Z
LAST-MODIFIED:20201026T165237Z
UID:10004659-1607767200-1607774400@www.atlantaparent.com
SUMMARY:Cookies & Cocoa With Santa
DESCRIPTION:Little ones will get the chance to tell Santa their Christmas wishes and make arts and crafts.
URL:https://www.atlantaparent.com/event/cookies-cocoa-with-santa/
LOCATION:Duluth Festival Center\, 3142 Hill St. NW\, Duluth
END:VEVENT
BEGIN:VEVENT
DTSTART;TZID=America/New_York:20201212T090000
DTEND;TZID=America/New_York:20201212T150000
DTSTAMP:20260422T021250
CREATED:20201023T163639Z
LAST-MODIFIED:20201023T163639Z
UID:10005520-1607763600-1607785200@www.atlantaparent.com
SUMMARY:Breakfast with Santa
DESCRIPTION:Enjoy breakfast or lunch with the jolly man himself. For ages 10 and younger. Register by Dec. 4. Dec. 12\, 9-11 a.m. or 1-3 p.m. $40 for 4; each additional person\, $10.
URL:https://www.atlantaparent.com/event/breakfast-with-santa-villa-rica/
LOCATION:Villa Rica Civic Center\, 1605 GA-61\, Villa Rica\, GA\, 30180
GEO:33.689654;-84.9478971
X-APPLE-STRUCTURED-LOCATION;VALUE=URI;X-ADDRESS=Villa Rica Civic Center 1605 GA-61 Villa Rica GA 30180;X-APPLE-RADIUS=500;X-TITLE=1605 GA-61:geo:-84.9478971,33.689654
END:VEVENT
BEGIN:VEVENT
DTSTART;TZID=America/New_York:20201211T180000
DTEND;TZID=America/New_York:20201213T180000
DTSTAMP:20260422T021250
CREATED:20201116T202719Z
LAST-MODIFIED:20201119T003024Z
UID:10005530-1607709600-1607882400@www.atlantaparent.com
SUMMARY:Sleigh-In Movies
DESCRIPTION:Grab a meal from a neighboring restaurant to watch holiday classics. Advance ticket purchase recommended. On Dec. 11\, watch “Elf” and “Die Hard;” on Dec. 12\, watch “Home Alone” and “A Christmas Story\,” and on Dec. 13\, watch “An American Tail” and “Love Actually.” Dec. 11-12\, 6:30 and 8 p.m. Dec. 13\, 6 and 8 p.m. $25-$35 per car.
URL:https://www.atlantaparent.com/event/sleigh-in-movies/
LOCATION:Buckhead Village\, Peachtree Rd. NE\, Atlanta
END:VEVENT
BEGIN:VEVENT
DTSTART;TZID=UTC:20201211T170000
DTEND;TZID=UTC:20201211T200000
DTSTAMP:20260422T021250
CREATED:20201123T180010Z
LAST-MODIFIED:20201202T201412Z
UID:10000399-1607706000-1607716800@www.atlantaparent.com
SUMMARY:Christmas Tree Lighting and Santa Arrives
DESCRIPTION:Enjoy the lighting of the 18-foot Christmas tree\, see Santa\, listen to holiday music\, sample the hot chocolate bar and more.
URL:https://www.atlantaparent.com/event/christmas-tree-lighting/
LOCATION:Avenue East Cobb\, 4475 Roswell Rd.\, Marietta\, GA\, 30062
GEO:33.9880126;-84.4224366
X-APPLE-STRUCTURED-LOCATION;VALUE=URI;X-ADDRESS=Avenue East Cobb 4475 Roswell Rd. Marietta GA 30062;X-APPLE-RADIUS=500;X-TITLE=4475 Roswell Rd.:geo:-84.4224366,33.9880126
END:VEVENT
BEGIN:VEVENT
DTSTART;VALUE=DATE:20201211
DTEND;VALUE=DATE:20201214
DTSTAMP:20260422T021250
CREATED:20201116T203555Z
LAST-MODIFIED:20201116T203555Z
UID:10004631-1607644800-1607903999@www.atlantaparent.com
SUMMARY:Virtual: Home for the Holidays
DESCRIPTION:From Cobb County’s Anderson Theatre\, watch a new live show that looks back at the best holiday performances from past years. Dec. 11-13. $25.
URL:https://www.atlantaparent.com/event/virtual-home-for-the-holidays/
END:VEVENT
BEGIN:VEVENT
DTSTART;TZID=America/New_York:20201210T180000
DTEND;TZID=America/New_York:20201213T210000
DTSTAMP:20260422T021250
CREATED:20201209T214616Z
LAST-MODIFIED:20201209T214616Z
UID:10005621-1607623200-1607893200@www.atlantaparent.com
SUMMARY:Drive Through Bethlehem Experience
DESCRIPTION:Drive through Bethlehem on the night of Jesus’ birth.
URL:https://www.atlantaparent.com/event/drive-through-bethlehem-experience/
LOCATION:New Victoria Baptist Church\, 6659 Bells Ferry Rd.\, Woodstock
GEO:34.1291886;-84.5874359
X-APPLE-STRUCTURED-LOCATION;VALUE=URI;X-ADDRESS=New Victoria Baptist Church 6659 Bells Ferry Rd. Woodstock;X-APPLE-RADIUS=500;X-TITLE=6659 Bells Ferry Rd.:geo:-84.5874359,34.1291886
END:VEVENT
BEGIN:VEVENT
DTSTART;VALUE=DATE:20201210
DTEND;VALUE=DATE:20210101
DTSTAMP:20260422T021251
CREATED:20201124T191934Z
LAST-MODIFIED:20201124T191934Z
UID:10005546-1607558400-1609459199@www.atlantaparent.com
SUMMARY:The Gift from Marietta's Theatre in the Square
DESCRIPTION:Watch a delightful holiday performance filled with singing and dancing from the comfort of your own home. Dec. 10-31. Mon.-Sat. 7:30 p.m. Sun. 2:30 p.m.
URL:https://www.atlantaparent.com/event/the-gift-from-mariettas-theatre-in-the-square/
END:VEVENT
BEGIN:VEVENT
DTSTART;TZID=America/New_York:20201206T133000
DTEND;TZID=America/New_York:20201206T133000
DTSTAMP:20260422T021251
CREATED:20201020T040035Z
LAST-MODIFIED:20201118T223431Z
UID:10003310-1607261400-1607261400@www.atlantaparent.com
SUMMARY:Virtual: Children’s Christmas Parade
DESCRIPTION:Take a look back at the best moments from past parades and honor healthcare heroes with “A Look Back at 40 Years of the Children’s Christmas Parade.” Airs on WSB-TV.
URL:https://www.atlantaparent.com/event/childrens-christmas-parade/
ATTACH;FMTTYPE=image/jpeg:https://www.atlantaparent.com/wp-content/uploads/2018/11/CHOA-ChristmasParade.jpg
END:VEVENT
BEGIN:VEVENT
DTSTART;TZID=America/New_York:20201205T170000
DTEND;TZID=America/New_York:20201205T170000
DTSTAMP:20260422T021251
CREATED:20201202T135205Z
LAST-MODIFIED:20201202T135205Z
UID:10005550-1607187600-1607187600@www.atlantaparent.com
SUMMARY:Virtual: Tree Lighting Ceremony
DESCRIPTION:On Facebook\, watch Kennesaw Mayor Derek Easterling light the 30-foot tall Christmas tree\, and listen to holiday carols from Back to Rock. Dec. 5\, 5 p.m.
URL:https://www.atlantaparent.com/event/virtual-tree-lighting-ceremony/
END:VEVENT
BEGIN:VEVENT
DTSTART;TZID=America/New_York:20201205T130000
DTEND;TZID=America/New_York:20201205T170000
DTSTAMP:20260422T021251
CREATED:20201023T143438Z
LAST-MODIFIED:20201202T134302Z
UID:10005466-1607173200-1607187600@www.atlantaparent.com
SUMMARY:Photos with Santa
DESCRIPTION:Take contactless photos with Santa. Dec. 5\, 1-5 p.m.
URL:https://www.atlantaparent.com/event/breakfast-with-santa-8/
LOCATION:Ben Robertson Community Center\, 2753 Watts Drive\, Kennesaw
GEO:34.0216518;-84.6211205
X-APPLE-STRUCTURED-LOCATION;VALUE=URI;X-ADDRESS=Ben Robertson Community Center 2753 Watts Drive Kennesaw;X-APPLE-RADIUS=500;X-TITLE=2753 Watts Drive:geo:-84.6211205,34.0216518
END:VEVENT
BEGIN:VEVENT
DTSTART;TZID=America/New_York:20201205T123000
DTEND;TZID=America/New_York:20201205T163000
DTSTAMP:20260422T021251
CREATED:20201118T195621Z
LAST-MODIFIED:20201118T195621Z
UID:10005574-1607171400-1607185800@www.atlantaparent.com
SUMMARY:Santa at Treetop Quest
DESCRIPTION:Enjoy an aerial adventure with a special appearance by Santa\, holiday décor and festive music throughout the Enchanted Forest. $50-$54; ages 12-17\, $43-$47; ages 7-11\, $33-$37; ages 4-6\, $20-$23. \n\nTreetop Quest Gwinnett: Nov. 28\, 11 a.m.-3 p.m.\nTreetop Quest Dunwoody: Dec. 5\, 12:30 p.m.-4:30 p.m.
URL:https://www.atlantaparent.com/event/santa-at-treetop-quest/2020-12-05/
LOCATION:Treetop Quest Locations
END:VEVENT
BEGIN:VEVENT
DTSTART;TZID=America/New_York:20201205T110000
DTEND;TZID=America/New_York:20201205T150000
DTSTAMP:20260422T021251
CREATED:20201203T135040Z
LAST-MODIFIED:20201203T135040Z
UID:10005555-1607166000-1607180400@www.atlantaparent.com
SUMMARY:Holiday Kick-Off\, Parade and Santa's Arrival
DESCRIPTION:Enjoy entertainment from local musicians\, dancers and singers\, watch the parade featuring princesses and superheroes\, meet and greet Santa\, get your face painted and more.
URL:https://www.atlantaparent.com/event/holiday-kick-off-parade-and-santas-arrival/
LOCATION:Halcyon\, 6365 Halcyon Way\, Alpharetta\, GA\, 30005
GEO:34.1106637;-84.2242307
X-APPLE-STRUCTURED-LOCATION;VALUE=URI;X-ADDRESS=Halcyon 6365 Halcyon Way Alpharetta GA 30005;X-APPLE-RADIUS=500;X-TITLE=6365 Halcyon Way:geo:-84.2242307,34.1106637
END:VEVENT
BEGIN:VEVENT
DTSTART;TZID=America/New_York:20201205T110000
DTEND;TZID=America/New_York:20201205T110000
DTSTAMP:20260422T021251
CREATED:20201001T133312Z
LAST-MODIFIED:20201027T141641Z
UID:10005415-1607166000-1607166000@www.atlantaparent.com
SUMMARY:Saturday Morning Workshop
DESCRIPTION:Each month\, participate in an engaging workshop for hands-on creativity. 11 a.m. $5. \nOct. 3: Stellaluna Storytime with Rod Puppets\nNov. 7: Eric Carle-Inspired Collage Art\nDec. 5: TBA
URL:https://www.atlantaparent.com/event/saturday-morning-workshop/2020-12-05/
LOCATION:Roswell Cultural Arts Center\, 950 Forrest St.\, Roswell
GEO:34.0234904;-84.3578365
X-APPLE-STRUCTURED-LOCATION;VALUE=URI;X-ADDRESS=Roswell Cultural Arts Center 950 Forrest St. Roswell;X-APPLE-RADIUS=500;X-TITLE=950 Forrest St.:geo:-84.3578365,34.0234904
END:VEVENT
BEGIN:VEVENT
DTSTART;VALUE=DATE:20201205
DTEND;VALUE=DATE:20201207
DTSTAMP:20260422T021251
CREATED:20201203T135322Z
LAST-MODIFIED:20201203T135322Z
UID:10005554-1607126400-1607299199@www.atlantaparent.com
SUMMARY:The Gibson Co. Christmas Market
DESCRIPTION:Shop local makers and artists\, take free photos with Santa\, listen to live music and more.
URL:https://www.atlantaparent.com/event/the-gibson-co-christmas-market/
LOCATION:Halcyon\, 6365 Halcyon Way\, Alpharetta\, GA\, 30005
GEO:34.1106637;-84.2242307
X-APPLE-STRUCTURED-LOCATION;VALUE=URI;X-ADDRESS=Halcyon 6365 Halcyon Way Alpharetta GA 30005;X-APPLE-RADIUS=500;X-TITLE=6365 Halcyon Way:geo:-84.2242307,34.1106637
END:VEVENT
BEGIN:VEVENT
DTSTART;VALUE=DATE:20201205
DTEND;VALUE=DATE:20201206
DTSTAMP:20260422T021251
CREATED:20201026T155833Z
LAST-MODIFIED:20201203T161925Z
UID:10005528-1607126400-1607212799@www.atlantaparent.com
SUMMARY:Santapalooza: Naughty or Nice Tour
DESCRIPTION:Watch Santa ring in the holiday spirit in this neighborhood tour. Santa’s elves will be collecting canned food for the North Gwinnett Co-Op.
URL:https://www.atlantaparent.com/event/santapalooza-naughty-or-nice-tour/
END:VEVENT
END:VCALENDAR