BEGIN:VCALENDAR
VERSION:2.0
PRODID:-//NEW Atlanta Parent - ECPv6.15.11//NONSGML v1.0//EN
CALSCALE:GREGORIAN
METHOD:PUBLISH
X-ORIGINAL-URL:https://www.atlantaparent.com
X-WR-CALDESC:Events for NEW Atlanta Parent
REFRESH-INTERVAL;VALUE=DURATION:PT1H
X-Robots-Tag:noindex
X-PUBLISHED-TTL:PT1H
BEGIN:VTIMEZONE
TZID:America/New_York
BEGIN:DAYLIGHT
TZOFFSETFROM:-0500
TZOFFSETTO:-0400
TZNAME:EDT
DTSTART:20190310T070000
END:DAYLIGHT
BEGIN:STANDARD
TZOFFSETFROM:-0400
TZOFFSETTO:-0500
TZNAME:EST
DTSTART:20191103T060000
END:STANDARD
BEGIN:DAYLIGHT
TZOFFSETFROM:-0500
TZOFFSETTO:-0400
TZNAME:EDT
DTSTART:20200308T070000
END:DAYLIGHT
BEGIN:STANDARD
TZOFFSETFROM:-0400
TZOFFSETTO:-0500
TZNAME:EST
DTSTART:20201101T060000
END:STANDARD
BEGIN:DAYLIGHT
TZOFFSETFROM:-0500
TZOFFSETTO:-0400
TZNAME:EDT
DTSTART:20210314T070000
END:DAYLIGHT
BEGIN:STANDARD
TZOFFSETFROM:-0400
TZOFFSETTO:-0500
TZNAME:EST
DTSTART:20211107T060000
END:STANDARD
BEGIN:DAYLIGHT
TZOFFSETFROM:-0500
TZOFFSETTO:-0400
TZNAME:EDT
DTSTART:20220313T070000
END:DAYLIGHT
BEGIN:STANDARD
TZOFFSETFROM:-0400
TZOFFSETTO:-0500
TZNAME:EST
DTSTART:20221106T060000
END:STANDARD
END:VTIMEZONE
BEGIN:VEVENT
DTSTART;TZID=America/New_York:20201115T160000
DTEND;TZID=America/New_York:20201115T160000
DTSTAMP:20260422T051723
CREATED:20201106T153512Z
LAST-MODIFIED:20201110T135605Z
UID:10005557-1605456000-1605456000@www.atlantaparent.com
SUMMARY:Southeast Virtual Jewish Camp Fair
DESCRIPTION:PWP Studio \nThe Southeast Virtual Jewish Camp Fair is an opportunity for families to hear from five regional Jewish overnight camps as they begin to plan for camp experiences for this summer and beyond. Learn about financial aid options\, mental wellness and approaches to inclusion. Registration required.
URL:https://www.atlantaparent.com/event/southeast-virtual-jewish-camp-fair/
ATTACH;FMTTYPE=image/jpeg:https://www.atlantaparent.com/wp-content/uploads/2020/11/Federation-Camp-Photo.jpg
END:VEVENT
BEGIN:VEVENT
DTSTART;TZID=America/New_York:20201114T140000
DTEND;TZID=America/New_York:20201114T173000
DTSTAMP:20260422T051723
CREATED:20201021T164224Z
LAST-MODIFIED:20201021T164224Z
UID:10005452-1605362400-1605375000@www.atlantaparent.com
SUMMARY:Open House of The Ability Garden
DESCRIPTION:Tour the newly completed wheelchair-accessible garden and the Callanwolde greenhouse\, and shop the holiday items. Free; registration required.
URL:https://www.atlantaparent.com/event/open-house-of-the-ability-garden/
LOCATION:Callanwolde Fine Arts Center\, 980 Briarcliff Rd. NE\, Atlanta
GEO:33.7819892;-84.3456741
X-APPLE-STRUCTURED-LOCATION;VALUE=URI;X-ADDRESS=Callanwolde Fine Arts Center 980 Briarcliff Rd. NE Atlanta;X-APPLE-RADIUS=500;X-TITLE=980 Briarcliff Rd. NE:geo:-84.3456741,33.7819892
END:VEVENT
BEGIN:VEVENT
DTSTART;TZID=America/New_York:20201114T100000
DTEND;TZID=America/New_York:20201114T170000
DTSTAMP:20260422T051723
CREATED:20201105T165529Z
LAST-MODIFIED:20201105T165529Z
UID:10005507-1605348000-1605373200@www.atlantaparent.com
SUMMARY:Worlds of Puppetry Museum: 5th Anniversary
DESCRIPTION:See Big Bird\, Grover\, Kermit and more\, and experience puppetry traditions from around the world at this special Super Saturday Celebration. Tickets must be purchased in advance: $5.
URL:https://www.atlantaparent.com/event/worlds-of-puppetry-museum-5th-anniversary/
LOCATION:Center for Puppetry Arts\, 1404 Spring Street NW\, Atlanta
GEO:33.7928692;-84.3895974
X-APPLE-STRUCTURED-LOCATION;VALUE=URI;X-ADDRESS=Center for Puppetry Arts 1404 Spring Street NW Atlanta;X-APPLE-RADIUS=500;X-TITLE=1404 Spring Street NW:geo:-84.3895974,33.7928692
END:VEVENT
BEGIN:VEVENT
DTSTART;VALUE=DATE:20201114
DTEND;VALUE=DATE:20201116
DTSTAMP:20260422T051723
CREATED:20201109T135035Z
LAST-MODIFIED:20201109T135035Z
UID:10005519-1605312000-1605484799@www.atlantaparent.com
SUMMARY:Black Santa Experience
DESCRIPTION:Visit and take photos with Santa and write a letter to the North Pole. $100-$159.
URL:https://www.atlantaparent.com/event/black-santa-experience/
LOCATION:Relic 15 Studio\, 15 E. Main St. NE\, Buford\, GA
GEO:34.1200525;-84.0056289
X-APPLE-STRUCTURED-LOCATION;VALUE=URI;X-ADDRESS=Relic 15 Studio 15 E. Main St. NE Buford GA;X-APPLE-RADIUS=500;X-TITLE=15 E. Main St. NE:geo:-84.0056289,34.1200525
END:VEVENT
BEGIN:VEVENT
DTSTART;TZID=America/New_York:20201113T190000
DTEND;TZID=America/New_York:20201113T210000
DTSTAMP:20260422T051723
CREATED:20201030T123847Z
LAST-MODIFIED:20201030T123847Z
UID:10005494-1605294000-1605301200@www.atlantaparent.com
SUMMARY:Dinner & Drive-In Live Concert
DESCRIPTION:Enjoy music from the Eagles with the “Experience the Eagles” show featuring GlowBand\, and have dinner delivered to your car or with curbside pickup. $15.
URL:https://www.atlantaparent.com/event/dinner-drive-in-live-concert/
LOCATION:Avenue East Cobb\, 4475 Roswell Rd.\, Marietta\, GA\, 30062
GEO:33.9880126;-84.4224366
X-APPLE-STRUCTURED-LOCATION;VALUE=URI;X-ADDRESS=Avenue East Cobb 4475 Roswell Rd. Marietta GA 30062;X-APPLE-RADIUS=500;X-TITLE=4475 Roswell Rd.:geo:-84.4224366,33.9880126
END:VEVENT
BEGIN:VEVENT
DTSTART;VALUE=DATE:20201113
DTEND;VALUE=DATE:20201116
DTSTAMP:20260422T051723
CREATED:20201027T171501Z
LAST-MODIFIED:20201027T171501Z
UID:10005490-1605225600-1605484799@www.atlantaparent.com
SUMMARY:Pumpkin Smashin Fun
DESCRIPTION:Feed your old pumpkins to the wolves\, cougars\, lemurs and more. Nov. 6-8\, 13-15. Fri. 11 a.m.-3 p.m. Sat.-Sun. 10 a.m.-4 p.m. $24.99; ages 2-11\, $22.99; ages 1 and younger\, free.
URL:https://www.atlantaparent.com/event/pumpkin-smashin-fun/2020-11-13/
LOCATION:North Georgia Wildlife Park\, 2912 Paradise Valley Road\, Cleveland
GEO:34.6223675;-83.8656005
X-APPLE-STRUCTURED-LOCATION;VALUE=URI;X-ADDRESS=North Georgia Wildlife Park 2912 Paradise Valley Road Cleveland;X-APPLE-RADIUS=500;X-TITLE=2912 Paradise Valley Road:geo:-83.8656005,34.6223675
END:VEVENT
BEGIN:VEVENT
DTSTART;VALUE=DATE:20201112
DTEND;VALUE=DATE:20201116
DTSTAMP:20260422T051723
CREATED:20201110T215913Z
LAST-MODIFIED:20201110T215913Z
UID:10005518-1605139200-1605484799@www.atlantaparent.com
SUMMARY:Cabin Fever Laser Light Show
DESCRIPTION:Watch this light show from the safety of your car and listen to the accompanying show on your radio. Nov. 12-15\, 8 and 10 p.m. $25 per car.
URL:https://www.atlantaparent.com/event/cabin-fever-laser-light-show/
LOCATION:Gwinnett County Fairgrounds\, 2405 Sugarloaf Parkway\, Lawrenceville
GEO:33.9191538;-83.9884978
X-APPLE-STRUCTURED-LOCATION;VALUE=URI;X-ADDRESS=Gwinnett County Fairgrounds 2405 Sugarloaf Parkway Lawrenceville;X-APPLE-RADIUS=500;X-TITLE=2405 Sugarloaf Parkway:geo:-83.9884978,33.9191538
END:VEVENT
BEGIN:VEVENT
DTSTART;TZID=America/New_York:20201110T100000
DTEND;TZID=America/New_York:20201110T110000
DTSTAMP:20260422T051723
CREATED:20200826T160658Z
LAST-MODIFIED:20200826T160658Z
UID:10005359-1605002400-1605006000@www.atlantaparent.com
SUMMARY:Baby & Me Yoga
DESCRIPTION:Enjoy a peaceful view of the Oceans Ballroom while you improve your balance\, flexibility\, coordination and strength with your 0-12 month-old baby. Doors open at 9:30 a.m. $15.
URL:https://www.atlantaparent.com/event/baby-me-yoga/2020-11-10/
LOCATION:Georgia Aquarium\, 225 Baker St.\, Atlanta
GEO:33.7634237;-84.394891
X-APPLE-STRUCTURED-LOCATION;VALUE=URI;X-ADDRESS=Georgia Aquarium 225 Baker St. Atlanta;X-APPLE-RADIUS=500;X-TITLE=225 Baker St.:geo:-84.394891,33.7634237
END:VEVENT
BEGIN:VEVENT
DTSTART;TZID=America/New_York:20201109T113000
DTEND;TZID=America/New_York:20201109T133000
DTSTAMP:20260422T051723
CREATED:20201104T142903Z
LAST-MODIFIED:20201104T142903Z
UID:10005503-1604921400-1604928600@www.atlantaparent.com
SUMMARY:Veterans Appreciation Cookout
DESCRIPTION:Honor and recognize veterans at this drop-in event with hot dogs\, hamburgers\, chips and potato salad. See website for safety precautions.
URL:https://www.atlantaparent.com/event/veterans-appreciation-cookout/
LOCATION:Mansell House & Gardens\, 1835 Old Milton Pkwy.\, Alpharetta\, GA
GEO:34.0723844;-84.30485
X-APPLE-STRUCTURED-LOCATION;VALUE=URI;X-ADDRESS=Mansell House & Gardens 1835 Old Milton Pkwy. Alpharetta GA;X-APPLE-RADIUS=500;X-TITLE=1835 Old Milton Pkwy.:geo:-84.30485,34.0723844
END:VEVENT
BEGIN:VEVENT
DTSTART;VALUE=DATE:20201109
DTEND;VALUE=DATE:20201121
DTSTAMP:20260422T051723
CREATED:20201021T143647Z
LAST-MODIFIED:20201021T143647Z
UID:10005443-1604880000-1605916799@www.atlantaparent.com
SUMMARY:Turkey Chase
DESCRIPTION:Participants choose where and when to run or walk the 5K. Bring a nonperishable food item to receive the 2020 Acworth Turkey Chase T-shirt at Acworth Community Center. Register before 5 p.m. on Nov. 20. $10.
URL:https://www.atlantaparent.com/event/turkey-chase/
END:VEVENT
BEGIN:VEVENT
DTSTART;TZID=America/New_York:20201107T090000
DTEND;TZID=America/New_York:20201107T130000
DTSTAMP:20260422T051723
CREATED:20191029T093942Z
LAST-MODIFIED:20201014T194247Z
UID:10004685-1604739600-1604754000@www.atlantaparent.com
SUMMARY:‘Tis the Season to be Green Recycling Event
DESCRIPTION:Clean house the environmental way by recycling. Drive through and volunteers will unload for you. See website for acceptable items. Collections done free of charge\, except for TVs: $5-$40; cash only.
URL:https://www.atlantaparent.com/event/tis-the-season-to-be-green-recycling-event/
LOCATION:Woodstock Elementary School\, 230 Rope Mill Rd.\, Woodstock
END:VEVENT
BEGIN:VEVENT
DTSTART;TZID=America/New_York:20201107T080000
DTEND;TZID=America/New_York:20201107T140000
DTSTAMP:20260422T051723
CREATED:20201103T210538Z
LAST-MODIFIED:20201103T210538Z
UID:10005505-1604736000-1604757600@www.atlantaparent.com
SUMMARY:Electronics Recycling Event
DESCRIPTION:Drop-off electronics in working and non-working condition for recycling. Masks required; see rules and prohibited items online. Nov. 7\, 8 a.m.-2 p.m.
URL:https://www.atlantaparent.com/event/electronics-recycling-event/
LOCATION:Jason T. Harper Event Center\, 95 Lake Dow Rd.\, McDonough\, GA
GEO:33.4407297;-84.1231459
X-APPLE-STRUCTURED-LOCATION;VALUE=URI;X-ADDRESS=Jason T. Harper Event Center 95 Lake Dow Rd. McDonough GA;X-APPLE-RADIUS=500;X-TITLE=95 Lake Dow Rd.:geo:-84.1231459,33.4407297
END:VEVENT
BEGIN:VEVENT
DTSTART;VALUE=DATE:20201107
DTEND;VALUE=DATE:20210315
DTSTAMP:20260422T051723
CREATED:20201208T165927Z
LAST-MODIFIED:20201208T165927Z
UID:10005565-1604707200-1615766399@www.atlantaparent.com
SUMMARY:Dawoud Bey: An American Project
DESCRIPTION:This photography collection explores communities and stories that have been underrepresented or unseen with African American subjects and history. Reservation required. $14.50; ages 5 and younger\, free.
URL:https://www.atlantaparent.com/event/dawoud-bey-an-american-project/
LOCATION:High Museum of Art\, 1280 Peachtree Street\, Atlanta
GEO:33.7891582;-84.3849351
X-APPLE-STRUCTURED-LOCATION;VALUE=URI;X-ADDRESS=High Museum of Art 1280 Peachtree Street Atlanta;X-APPLE-RADIUS=500;X-TITLE=1280 Peachtree Street:geo:-84.3849351,33.7891582
END:VEVENT
BEGIN:VEVENT
DTSTART;VALUE=DATE:20201107
DTEND;VALUE=DATE:20201108
DTSTAMP:20260422T051723
CREATED:20200927T192958Z
LAST-MODIFIED:20201021T123210Z
UID:10003819-1604707200-1604793599@www.atlantaparent.com
SUMMARY:Celebrate Diwali
DESCRIPTION:Celebrate the Hindu festival of lights with storytimes\, crafts and science. Reservations required. $18.95; ages 1 and younger\, free.
URL:https://www.atlantaparent.com/event/celebrate-diwali-a-cultural-exploration-at-childrens-museum-of-atlanta/
LOCATION:Children’s Museum of Atlanta\, 275 Centennial Olympic Park Drive\, Atlanta\, GA
GEO:33.762568;-84.3914318
X-APPLE-STRUCTURED-LOCATION;VALUE=URI;X-ADDRESS=Children’s Museum of Atlanta 275 Centennial Olympic Park Drive Atlanta GA;X-APPLE-RADIUS=500;X-TITLE=275 Centennial Olympic Park Drive:geo:-84.3914318,33.762568
END:VEVENT
BEGIN:VEVENT
DTSTART;VALUE=DATE:20201106
DTEND;VALUE=DATE:20201221
DTSTAMP:20260422T051723
CREATED:20201104T212325Z
LAST-MODIFIED:20201109T201133Z
UID:10005508-1604620800-1608508799@www.atlantaparent.com
SUMMARY:Merry Market
DESCRIPTION:See and shop the amazing handcrafted items made by local artists.
URL:https://www.atlantaparent.com/event/merry-market/
LOCATION:Arts Clayton\, 136 South Main St.\, Jonesboro\, GA
GEO:33.5203723;-84.3547389
X-APPLE-STRUCTURED-LOCATION;VALUE=URI;X-ADDRESS=Arts Clayton 136 South Main St. Jonesboro GA;X-APPLE-RADIUS=500;X-TITLE=136 South Main St.:geo:-84.3547389,33.5203723
END:VEVENT
BEGIN:VEVENT
DTSTART;VALUE=DATE:20201105
DTEND;VALUE=DATE:20201226
DTSTAMP:20260422T051723
CREATED:20201021T170515Z
LAST-MODIFIED:20201105T145142Z
UID:10005497-1604534400-1608940799@www.atlantaparent.com
SUMMARY:Virtual: JingleRing
DESCRIPTION:This virtual visit with Santa is a personalized experience for the whole family. On-sale Nov. 6: $19.95-$24.95.
URL:https://www.atlantaparent.com/event/jinglering/
END:VEVENT
BEGIN:VEVENT
DTSTART;VALUE=DATE:20201101
DTEND;VALUE=DATE:20201127
DTSTAMP:20260422T051723
CREATED:20201021T142855Z
LAST-MODIFIED:20201021T143237Z
UID:10005439-1604188800-1606435199@www.atlantaparent.com
SUMMARY:Virtual: Gobble Jog
DESCRIPTION:Runners and walkers choose a 10K\, 5K\, 1K or Tot Trot\, and all proceeds will go to the local community’s food needs through MUST Ministries. $35.
URL:https://www.atlantaparent.com/event/virtual-gobble-jog/
ATTACH;FMTTYPE=image/jpeg:https://www.atlantaparent.com/wp-content/uploads/2020/10/Gobble-Jog-photo-scaled-e1603290724816.jpg
END:VEVENT
BEGIN:VEVENT
DTSTART;VALUE=DATE:20201101
DTEND;VALUE=DATE:20201102
DTSTAMP:20260422T051723
CREATED:20201027T171011Z
LAST-MODIFIED:20201027T171011Z
UID:10005491-1604188800-1604275199@www.atlantaparent.com
SUMMARY:Pumpkin Dumpin': Pumpkin Drop-off and Composting
DESCRIPTION:Drop off your old pumpkins and jack-o’-lanterns to be composted and kept out of landfills. Suggested donation of $1 per pumpkin.
URL:https://www.atlantaparent.com/event/pumpkin-dumpin-pumpkin-drop-off-and-composting/
LOCATION:Dunwoody Nature Center\, 5343 Roberts Drive\, Dunwoody
GEO:33.9567738;-84.3359325
X-APPLE-STRUCTURED-LOCATION;VALUE=URI;X-ADDRESS=Dunwoody Nature Center 5343 Roberts Drive Dunwoody;X-APPLE-RADIUS=500;X-TITLE=5343 Roberts Drive:geo:-84.3359325,33.9567738
END:VEVENT
BEGIN:VEVENT
DTSTART;VALUE=DATE:20201101
DTEND;VALUE=DATE:20201102
DTSTAMP:20260422T051723
CREATED:20201020T040009Z
LAST-MODIFIED:20201021T192603Z
UID:10003249-1604188800-1604275199@www.atlantaparent.com
SUMMARY:Day of the Dead
DESCRIPTION:This special celebration includes a reading of “The Day of the Dead/El Dia De Los Muertos: A Bilingual Celebration\,” making tissue paper flowers and exploring flower dissections. Reservations required. $18.95; ages 11 months and younger\, free.
URL:https://www.atlantaparent.com/event/celebrate-day-dead-cultural-explosion/
LOCATION:Children’s Museum of Atlanta\, 275 Centennial Olympic Park Dr.\, Atlanta
GEO:33.762568;-84.3914318
X-APPLE-STRUCTURED-LOCATION;VALUE=URI;X-ADDRESS=Children’s Museum of Atlanta 275 Centennial Olympic Park Dr. Atlanta;X-APPLE-RADIUS=500;X-TITLE=275 Centennial Olympic Park Dr.:geo:-84.3914318,33.762568
END:VEVENT
BEGIN:VEVENT
DTSTART;TZID=America/New_York:20201031T190000
DTEND;TZID=America/New_York:20201031T210000
DTSTAMP:20260422T051723
CREATED:20200809T024853Z
LAST-MODIFIED:20200818T124852Z
UID:10004479-1604170800-1604178000@www.atlantaparent.com
SUMMARY:Halloween Haunted Trail
DESCRIPTION:See what’s haunting the state park\, and enjoy treats and hay rides. Parking\, $5.
URL:https://www.atlantaparent.com/event/halloween-haunted-trail/
LOCATION:Richard B. Russell State Park\, 2650 Russell State Park Dr.\, Elberton
END:VEVENT
BEGIN:VEVENT
DTSTART;TZID=America/New_York:20201031T150000
DTEND;TZID=America/New_York:20201031T170000
DTSTAMP:20260422T051723
CREATED:20201021T153214Z
LAST-MODIFIED:20201021T153214Z
UID:10005488-1604156400-1604163600@www.atlantaparent.com
SUMMARY:Halloween Drive-Thru CARnival
DESCRIPTION:Explore fun games\, arts and crafts\, trunk-or-treating\, costumes and more.
URL:https://www.atlantaparent.com/event/halloween-drive-thru-carnival/
LOCATION:Shallowford Presbyterian Church\, 2375 Shallowford Rd. NE\, Atlanta\, GA
GEO:33.8576843;-84.2812881
X-APPLE-STRUCTURED-LOCATION;VALUE=URI;X-ADDRESS=Shallowford Presbyterian Church 2375 Shallowford Rd. NE Atlanta GA;X-APPLE-RADIUS=500;X-TITLE=2375 Shallowford Rd. NE:geo:-84.2812881,33.8576843
END:VEVENT
BEGIN:VEVENT
DTSTART;TZID=America/New_York:20201031T120000
DTEND;TZID=America/New_York:20201031T200000
DTSTAMP:20260422T051723
CREATED:20200713T151907Z
LAST-MODIFIED:20200818T143138Z
UID:10004401-1604145600-1604174400@www.atlantaparent.com
SUMMARY:Fall Festival
DESCRIPTION:Celebrate autumn with hayrides\, a cake walk\, a campsite decorating contest and food and drinks. Parking\, $5.
URL:https://www.atlantaparent.com/event/fall-festival-4/
LOCATION: Vogel State Park\, 405 Vogel State Park Road\, Blairsville
GEO:34.7665718;-83.9220961
X-APPLE-STRUCTURED-LOCATION;VALUE=URI;X-ADDRESS= Vogel State Park 405 Vogel State Park Road Blairsville;X-APPLE-RADIUS=500;X-TITLE=405 Vogel State Park Road:geo:-83.9220961,34.7665718
END:VEVENT
BEGIN:VEVENT
DTSTART;TZID=America/New_York:20201031T120000
DTEND;TZID=America/New_York:20201031T160000
DTSTAMP:20260422T051723
CREATED:20201021T124132Z
LAST-MODIFIED:20201021T124132Z
UID:10005433-1604145600-1604160000@www.atlantaparent.com
SUMMARY:Halloween Festivities at Buckhead Village
DESCRIPTION:Enjoy family-friendly activities\, such as pumpkin painting\, pre-packaged candy stations\, complimentary Halloween cupcakes from Georgetown Cupcake\, live music\, a dog costume contest and more.
URL:https://www.atlantaparent.com/event/halloween-festivities-at-buckhead-village/
LOCATION:Buckhead Village\, Peachtree Rd. NE\, Atlanta
END:VEVENT
BEGIN:VEVENT
DTSTART;TZID=America/New_York:20201031T100000
DTEND;TZID=America/New_York:20201031T143000
DTSTAMP:20260422T051723
CREATED:20201012T154846Z
LAST-MODIFIED:20201012T154846Z
UID:10005421-1604138400-1604154600@www.atlantaparent.com
SUMMARY:Halloween Crafts and Treats
DESCRIPTION:Enjoy a spooky crafting time in your Halloween costumes as you decorate a sign\, listen to stories and music\, and get a treat bag. 10-11:30 a.m. session for 18 months to age 4; 1-2:30 p.m. session for ages 5-11. $10; non-resident\, $15.
URL:https://www.atlantaparent.com/event/halloween-crafts-and-treats/
LOCATION:Alpharetta Community Center\, 175 Roswell St.\, Alpharetta
END:VEVENT
BEGIN:VEVENT
DTSTART;VALUE=DATE:20201031
DTEND;VALUE=DATE:20201101
DTSTAMP:20260422T051723
CREATED:20200925T195637Z
LAST-MODIFIED:20201008T161905Z
UID:10002359-1604102400-1604188799@www.atlantaparent.com
SUMMARY:Haunted Hall of Fame
DESCRIPTION:See the spooky sights and sounds of Haunted Hall of Fame. $22.99; ages 3-12\, $17.99; ages 2 and younger\, free.
URL:https://www.atlantaparent.com/event/haunted-hall-fame/
LOCATION:Chick-fil-A Fan College Football Hall of Fame\, 250 Marietta St.\, Atlanta
ATTACH;FMTTYPE=image/jpeg:https://www.atlantaparent.com/wp-content/uploads/2017/09/cfhofzombie-15.jpg
GEO:33.7601926;-84.3955383
X-APPLE-STRUCTURED-LOCATION;VALUE=URI;X-ADDRESS=Chick-fil-A Fan College Football Hall of Fame 250 Marietta St. Atlanta;X-APPLE-RADIUS=500;X-TITLE=250 Marietta St.:geo:-84.3955383,33.7601926
END:VEVENT
BEGIN:VEVENT
DTSTART;TZID=America/New_York:20201030T183000
DTEND;TZID=America/New_York:20201030T213000
DTSTAMP:20260422T051723
CREATED:20201021T040052Z
LAST-MODIFIED:20201021T140538Z
UID:10004536-1604082600-1604093400@www.atlantaparent.com
SUMMARY:Halloween at the Hudgens
DESCRIPTION:Enjoy a movie night under the stars viewing “Harry Potter and the Sorcerer’s Stone\,” with treats from food trucks\, Egg Roll Boyz and Gastro Dawg. $8.
URL:https://www.atlantaparent.com/event/hogwarts-at-the-hudgens/
LOCATION:The Hudgens Center for Art & Learning\, 6400 Sugarloaf Pkwy\, Building 300\, Duluth
END:VEVENT
BEGIN:VEVENT
DTSTART;TZID=America/New_York:20201030T180000
DTEND;TZID=America/New_York:20201031T210000
DTSTAMP:20260422T051723
CREATED:20201019T201153Z
LAST-MODIFIED:20201019T201251Z
UID:10005436-1604080800-1604178000@www.atlantaparent.com
SUMMARY:Dirty Dog's Tunnel Of Terror
DESCRIPTION:Enjoy this touch-free\, haunted car wash with some of your favorite scary movie characters. Oct. 23\, 24\, 30 and 31\, 6-10 p.m. $20.
URL:https://www.atlantaparent.com/event/dirty-dogs-tunnel-of-terror/2020-10-30/
LOCATION:Dirty Dog’s Marietta\,  2204 Roswell Rd.\, Marietta
ATTACH;FMTTYPE=image/jpeg:https://www.atlantaparent.com/wp-content/uploads/2020/10/haunted-car-wash.jpg
GEO:33.9705342;-84.4879046
X-APPLE-STRUCTURED-LOCATION;VALUE=URI;X-ADDRESS=Dirty Dog’s Marietta  2204 Roswell Rd. Marietta;X-APPLE-RADIUS=500;X-TITLE= 2204 Roswell Rd.:geo:-84.4879046,33.9705342
END:VEVENT
BEGIN:VEVENT
DTSTART;TZID=America/New_York:20201030T180000
DTEND;TZID=America/New_York:20201030T200000
DTSTAMP:20260422T051723
CREATED:20200528T204221Z
LAST-MODIFIED:20200928T203140Z
UID:10005009-1604080800-1604088000@www.atlantaparent.com
SUMMARY:Drive-In Live
DESCRIPTION:Enjoy an evening of music from the safety of your car\, and preorder meals from select restaurants. Oct. 2\, 16 and 30\, 6-8 p.m. $25 per car.
URL:https://www.atlantaparent.com/event/drive-in-live/2020-10-30/
LOCATION:Avalon\, 2200 Avalon Blvd.\, Alpharetta
END:VEVENT
BEGIN:VEVENT
DTSTART;TZID=America/New_York:20201030T170000
DTEND;TZID=America/New_York:20201030T210000
DTSTAMP:20260422T051723
CREATED:20201021T145806Z
LAST-MODIFIED:20201021T145806Z
UID:10005442-1604077200-1604091600@www.atlantaparent.com
SUMMARY:Boos and Boogie
DESCRIPTION:Dress in your Halloween costume for delicious food\, festive performances\, a trunk-or-treat and comedic acts. See website for full schedule. Oct. 30\, 5-9 p.m.
URL:https://www.atlantaparent.com/event/boos-and-boogie/
LOCATION:Atlantic Station\, 1380 Atlantic Drive\, Atlanta
GEO:33.7927258;-84.3978715
X-APPLE-STRUCTURED-LOCATION;VALUE=URI;X-ADDRESS=Atlantic Station 1380 Atlantic Drive Atlanta;X-APPLE-RADIUS=500;X-TITLE=1380 Atlantic Drive:geo:-84.3978715,33.7927258
END:VEVENT
BEGIN:VEVENT
DTSTART;TZID=America/New_York:20201030T170000
DTEND;TZID=America/New_York:20201030T210000
DTSTAMP:20260422T051723
CREATED:20201021T131559Z
LAST-MODIFIED:20201021T131559Z
UID:10005440-1604077200-1604091600@www.atlantaparent.com
SUMMARY:Halloween Dinner & Drive-In Movie
DESCRIPTION:Celebrate Halloween with a viewing of “Hotel Transylvania.” Arrive early to enjoy balloons\, pictures with costumed characters\, a costume parade\, candy bags\, a DJ and trivia. Registration required; $10 per vehicle.
URL:https://www.atlantaparent.com/event/halloween-dinner-drive-in-movie/
LOCATION:Avenue East Cobb\, 4475 Roswell Rd.\, Marietta\, GA\, 30062
GEO:33.9880126;-84.4224366
X-APPLE-STRUCTURED-LOCATION;VALUE=URI;X-ADDRESS=Avenue East Cobb 4475 Roswell Rd. Marietta GA 30062;X-APPLE-RADIUS=500;X-TITLE=4475 Roswell Rd.:geo:-84.4224366,33.9880126
END:VEVENT
END:VCALENDAR