BEGIN:VCALENDAR
VERSION:2.0
PRODID:-//NEW Atlanta Parent - ECPv6.15.11//NONSGML v1.0//EN
CALSCALE:GREGORIAN
METHOD:PUBLISH
X-ORIGINAL-URL:https://www.atlantaparent.com
X-WR-CALDESC:Events for NEW Atlanta Parent
REFRESH-INTERVAL;VALUE=DURATION:PT1H
X-Robots-Tag:noindex
X-PUBLISHED-TTL:PT1H
BEGIN:VTIMEZONE
TZID:America/New_York
BEGIN:DAYLIGHT
TZOFFSETFROM:-0500
TZOFFSETTO:-0400
TZNAME:EDT
DTSTART:20190310T070000
END:DAYLIGHT
BEGIN:STANDARD
TZOFFSETFROM:-0400
TZOFFSETTO:-0500
TZNAME:EST
DTSTART:20191103T060000
END:STANDARD
BEGIN:DAYLIGHT
TZOFFSETFROM:-0500
TZOFFSETTO:-0400
TZNAME:EDT
DTSTART:20200308T070000
END:DAYLIGHT
BEGIN:STANDARD
TZOFFSETFROM:-0400
TZOFFSETTO:-0500
TZNAME:EST
DTSTART:20201101T060000
END:STANDARD
BEGIN:DAYLIGHT
TZOFFSETFROM:-0500
TZOFFSETTO:-0400
TZNAME:EDT
DTSTART:20210314T070000
END:DAYLIGHT
BEGIN:STANDARD
TZOFFSETFROM:-0400
TZOFFSETTO:-0500
TZNAME:EST
DTSTART:20211107T060000
END:STANDARD
END:VTIMEZONE
BEGIN:VEVENT
DTSTART;VALUE=DATE:20200901
DTEND;VALUE=DATE:20201001
DTSTAMP:20260424T230857
CREATED:20200826T152629Z
LAST-MODIFIED:20200826T152629Z
UID:10005405-1598918400-1601510399@www.atlantaparent.com
SUMMARY:Live Healthy Gwinnett: Yoga in the Park
DESCRIPTION:This series is available all-month long to help you connect with nature and experience the health benefits of yoga and meditation. Free. \nSundays\, 7-8 a.m. at Vines Park\, Loganville\nTuesdays\, 6:30-7:30 p.m. at Duncan Creek Park\, Dacula\nWednesdays\, 6:30-7:30 p.m. at George Pierce Park\, Suwanee\nThursdays\, 6:30-7:30 p.m. at Club Drive Park\, Lawrenceville\nSaturdays\, 7-8 a.m. at Lenora Park Community Garden\, Snellville; 7:30-8:30 a.m. at Little Mulberry Park\, Dacula\nSept. 12\, 9-10 a.m. at Isaac Adair House\, Lawrenceville\nSept. 15 and 22\, 6:30-7:30 p.m. at E.E. Robinson Park\, Sugar Hill
URL:https://www.atlantaparent.com/event/live-healthy-gwinnett-yoga-in-the-park/
LOCATION:Live Healthy Gwinnett\, 75 Langley Dr.\, Lawrenceville
GEO:33.9520561;-83.9931291
X-APPLE-STRUCTURED-LOCATION;VALUE=URI;X-ADDRESS=Live Healthy Gwinnett 75 Langley Dr. Lawrenceville;X-APPLE-RADIUS=500;X-TITLE=75 Langley Dr.:geo:-83.9931291,33.9520561
END:VEVENT
BEGIN:VEVENT
DTSTART;VALUE=DATE:20200901
DTEND;VALUE=DATE:20201001
DTSTAMP:20260424T230857
CREATED:20200720T161502Z
LAST-MODIFIED:20200826T155934Z
UID:10005117-1598918400-1601510399@www.atlantaparent.com
SUMMARY:Virtual: Level3 Yoga
DESCRIPTION:Classes are held on IG Live. Donation-based. \nTuesdays\, noon: Introduction to Meditation\nWednesdays\, noon: Yoga for Beginners\nThursdays\, noon: Trap Yoga\nFridays\, 8 p.m.: Twerk Yoga\nSundays\, 7 p.m.: Stretch + Soundbath\nStarting Sept. 12 at noon: Yoga for Begineers 4-Week Series; registration required
URL:https://www.atlantaparent.com/event/level3-yoga/
LOCATION:GA
END:VEVENT
BEGIN:VEVENT
DTSTART;VALUE=DATE:20200831
DTEND;VALUE=DATE:20200903
DTSTAMP:20260424T230857
CREATED:20200618T130040Z
LAST-MODIFIED:20200831T200558Z
UID:10004997-1598832000-1599091199@www.atlantaparent.com
SUMMARY:Virtual: Elm Stream: The Arts Come to You
DESCRIPTION:Jillian Melko \nStorytimes\, interviews\, how-to’s and more with community members\, actors and Lantern Series artists. \nAug. 31\, 11:30 a.m.: How to Audition with Amanda Lynne; 7 p.m.: Interview with Artist Harmony Reid \nSept. 1\, 11:30 a.m.: Tea Tuesday with Elm Street’s Brian and Justin \nSept. 2\, 11:30 a.m.: Interview with Visual Artist Betsy Khuri
URL:https://www.atlantaparent.com/event/elm-stream-the-arts-come-to-you/
LOCATION:GA
ATTACH;FMTTYPE=image/jpeg:https://www.atlantaparent.com/wp-content/uploads/2020/06/Decision-Height-Archival-Jillian-Melko-scaled-e1594647280813.jpg
END:VEVENT
BEGIN:VEVENT
DTSTART;TZID=America/New_York:20200830T120000
DTEND;TZID=America/New_York:20200830T150000
DTSTAMP:20260424T230857
CREATED:20200806T205025Z
LAST-MODIFIED:20200814T145700Z
UID:10005300-1598788800-1598799600@www.atlantaparent.com
SUMMARY:Movie Day at Hard Rock Cafe
DESCRIPTION:View movies on the 22-foot screen. Seating opens at noon; show starts at 1 p.m. Seating is limited; check website for safety produces. VIP tickets\, $10; general\, free. \nAug. 16 – Pirates of the Caribbean: Curse of the Black Pearl; dress up in your favorite pirate gear for a chance to win a prize for the best costume.\nAug. 23 – Jurassic World\nAug. 30 – Avengers: Endgame; dress up like your favorite character.
URL:https://www.atlantaparent.com/event/movie-day-at-hard-rock-cafe/2020-08-30/
LOCATION:Hard Rock Cafe\, 215 Peachtree St. NE\, Atlanta\, GA\, 30303
GEO:33.7598163;-84.3874499
X-APPLE-STRUCTURED-LOCATION;VALUE=URI;X-ADDRESS=Hard Rock Cafe 215 Peachtree St. NE Atlanta GA 30303;X-APPLE-RADIUS=500;X-TITLE=215 Peachtree St. NE:geo:-84.3874499,33.7598163
END:VEVENT
BEGIN:VEVENT
DTSTART;TZID=America/New_York:20200830T080000
DTEND;TZID=America/New_York:20200830T090000
DTSTAMP:20260424T230857
CREATED:20200720T163108Z
LAST-MODIFIED:20200720T163108Z
UID:10005136-1598774400-1598778000@www.atlantaparent.com
SUMMARY:Yoga in the Park Summer Series
DESCRIPTION:Be in harmony with nature at these outdoor yoga classes. For ages 15 and older. $3-$9.
URL:https://www.atlantaparent.com/event/yoga-in-the-park-summer-series/2020-08-30/
LOCATION:Yellow River Park\, 3232 Juhan Rd. SW\, Stone Mountain\, GA
GEO:33.7896012;-84.0709168
X-APPLE-STRUCTURED-LOCATION;VALUE=URI;X-ADDRESS=Yellow River Park 3232 Juhan Rd. SW Stone Mountain GA;X-APPLE-RADIUS=500;X-TITLE=3232 Juhan Rd. SW:geo:-84.0709168,33.7896012
END:VEVENT
BEGIN:VEVENT
DTSTART;TZID=America/New_York:20200829T063000
DTEND;TZID=America/New_York:20200829T063000
DTSTAMP:20260424T230858
CREATED:20200807T163701Z
LAST-MODIFIED:20200807T163701Z
UID:10005295-1598682600-1598682600@www.atlantaparent.com
SUMMARY:Sunrise Yoga
DESCRIPTION:Bring your own mat to start your weekend refreshed. Saturdays\, 6:30 a.m. $10.
URL:https://www.atlantaparent.com/event/sunrise-yoga/2020-08-29/
LOCATION:Lake Lanier Olympic Park\, 3105 Clarks Bridge Rd.\, Gainesville\, GA
GEO:34.3543088;-83.7936746
X-APPLE-STRUCTURED-LOCATION;VALUE=URI;X-ADDRESS=Lake Lanier Olympic Park 3105 Clarks Bridge Rd. Gainesville GA;X-APPLE-RADIUS=500;X-TITLE=3105 Clarks Bridge Rd.:geo:-83.7936746,34.3543088
END:VEVENT
BEGIN:VEVENT
DTSTART;VALUE=DATE:20200828
DTEND;VALUE=DATE:20200831
DTSTAMP:20260424T230858
CREATED:20200728T130103Z
LAST-MODIFIED:20200807T161256Z
UID:10005270-1598572800-1598831999@www.atlantaparent.com
SUMMARY:Pete the Cat and James Dean
DESCRIPTION:James Dean will be at the gallery with a selection of his original artwork for “Pete the Cat\,” a worldwide children’s book brand with over 70 published titles\, licensed theatrical productions and an animated series on Amazon Prime. Aug. 28\, 4-8 p.m.; Aug. 29\, 2-8 p.m. and Aug. 30\, noon-4 p.m. Reservations required. \nSee our past interview with James Dean here.
URL:https://www.atlantaparent.com/event/pete-the-cat-and-james-dean/
LOCATION:Ann Jackson Gallery\, 1101 Alpharetta St.\, Roswell\, GA\, 30075
ATTACH;FMTTYPE=image/jpeg:https://www.atlantaparent.com/wp-content/uploads/2017/03/Pete-the-Cat-1.jpg
GEO:34.0287234;-84.3567101
X-APPLE-STRUCTURED-LOCATION;VALUE=URI;X-ADDRESS=Ann Jackson Gallery 1101 Alpharetta St. Roswell GA 30075;X-APPLE-RADIUS=500;X-TITLE=1101 Alpharetta St.:geo:-84.3567101,34.0287234
END:VEVENT
BEGIN:VEVENT
DTSTART;TZID=America/New_York:20200827T183000
DTEND;TZID=America/New_York:20200827T213000
DTSTAMP:20260424T230858
CREATED:20200826T124540Z
LAST-MODIFIED:20200826T124540Z
UID:10005343-1598553000-1598563800@www.atlantaparent.com
SUMMARY:Virtual: Chef Darwin Favorites
DESCRIPTION:In this free event from the Friends of Mimosa Hall and Gardens\, Chef Darwin prepares one of his favorite dishes\, Tuscany Butter Mushrooms. Aug. 27\, 6:30-9:30 p.m.
URL:https://www.atlantaparent.com/event/virtual-chef-darwin-favorites/
LOCATION:GA
END:VEVENT
BEGIN:VEVENT
DTSTART;TZID=America/New_York:20200827T090000
DTEND;TZID=America/New_York:20200827T103000
DTSTAMP:20260424T230858
CREATED:20200811T202155Z
LAST-MODIFIED:20200811T202225Z
UID:10005302-1598518800-1598524200@www.atlantaparent.com
SUMMARY:Virtual: Back to School and COVID-19
DESCRIPTION:This virtual seminar “Back to School and COVID-19: Supporting the Social\, Emotional and Mental Well-being of Our Students” will discuss social\, emotional and mental health with mental health therapists\, counselors and directors. Registration required.
URL:https://www.atlantaparent.com/event/virtual-back-to-school-and-covid-19/
LOCATION:GA
END:VEVENT
BEGIN:VEVENT
DTSTART;TZID=America/New_York:20200826T160000
DTEND;TZID=America/New_York:20200826T170000
DTSTAMP:20260424T230858
CREATED:20200720T152449Z
LAST-MODIFIED:20200720T152449Z
UID:10005111-1598457600-1598461200@www.atlantaparent.com
SUMMARY:Virtual Pictionary
DESCRIPTION:Compete in a game of Pictionary and use your artistic skills to lead your team to victory. Free.
URL:https://www.atlantaparent.com/event/virtual-pictionary/2020-08-26/
LOCATION:GA
END:VEVENT
BEGIN:VEVENT
DTSTART;TZID=America/New_York:20200826T100000
DTEND;TZID=America/New_York:20200826T110000
DTSTAMP:20260424T230858
CREATED:20200720T163903Z
LAST-MODIFIED:20200720T163903Z
UID:10005129-1598436000-1598439600@www.atlantaparent.com
SUMMARY:Kid ‘n’ Me Yoga
DESCRIPTION:Learn yoga and meditation with your child. For ages 1 and older. Free.
URL:https://www.atlantaparent.com/event/kid-n-me-yoga/2020-08-26/
LOCATION:E.E. Robinson Park\,  850 Level Creek Road\, Sugar Hill
GEO:34.0971617;-84.0437111
X-APPLE-STRUCTURED-LOCATION;VALUE=URI;X-ADDRESS=E.E. Robinson Park  850 Level Creek Road Sugar Hill;X-APPLE-RADIUS=500;X-TITLE= 850 Level Creek Road:geo:-84.0437111,34.0971617
END:VEVENT
BEGIN:VEVENT
DTSTART;VALUE=DATE:20200826
DTEND;VALUE=DATE:20200907
DTSTAMP:20260424T230858
CREATED:20200720T154129Z
LAST-MODIFIED:20200831T132541Z
UID:10005301-1598400000-1599436799@www.atlantaparent.com
SUMMARY:The Pied Picker
DESCRIPTION:From the Center for Puppetry Arts\, Peter Picker is seeking fame and fortune as a banjo picker\, but first\, he must take on the roaches in the town of Hamlin. Aug. 26-Sept. 6. Wed.-Fri.\, 11 a.m. Sat.-Sun.\, 1 p.m. $11.
URL:https://www.atlantaparent.com/event/the-pied-picker-2/
LOCATION:GA
ATTACH;FMTTYPE=image/jpeg:https://www.atlantaparent.com/wp-content/uploads/2020/07/The-Pied-Picker-Photo-by-DAVID-STEPHENS-scaled.jpg
END:VEVENT
BEGIN:VEVENT
DTSTART;TZID=America/New_York:20200822T150000
DTEND;TZID=America/New_York:20200822T180000
DTSTAMP:20260424T230858
CREATED:20200813T130837Z
LAST-MODIFIED:20200813T130837Z
UID:10005313-1598108400-1598119200@www.atlantaparent.com
SUMMARY:Virtual: Paint Love Artist Challenge
DESCRIPTION:Artists share their live painting\, take you on studio tours\, answer questions and more. Enjoy music and creative activities for the whole family. Donations appreciated.
URL:https://www.atlantaparent.com/event/virtual-paint-love-artist-challenge/
LOCATION:GA
END:VEVENT
BEGIN:VEVENT
DTSTART;TZID=America/New_York:20200822T100000
DTEND;TZID=America/New_York:20200822T140000
DTSTAMP:20260424T230858
CREATED:20200730T143542Z
LAST-MODIFIED:20200730T143542Z
UID:10005275-1598090400-1598104800@www.atlantaparent.com
SUMMARY:Weather & Space
DESCRIPTION:This special program highlights the science of weather and space with planets\, weather systems\, forces of nature and more. Advance ticket purchase required: $20; ages 3-12\, $18; ages 2 and younger\, free.
URL:https://www.atlantaparent.com/event/weather-space/
LOCATION:Fernbank Museum of Natural History\, 767 Clifton Road\, Atlanta
GEO:33.7739167;-84.3277484
X-APPLE-STRUCTURED-LOCATION;VALUE=URI;X-ADDRESS=Fernbank Museum of Natural History 767 Clifton Road Atlanta;X-APPLE-RADIUS=500;X-TITLE=767 Clifton Road:geo:-84.3277484,33.7739167
END:VEVENT
BEGIN:VEVENT
DTSTART;TZID=America/New_York:20200819T130000
DTEND;TZID=America/New_York:20200819T140000
DTSTAMP:20260424T230858
CREATED:20200720T152210Z
LAST-MODIFIED:20200720T152210Z
UID:10005114-1597842000-1597845600@www.atlantaparent.com
SUMMARY:Virtual Bingo
DESCRIPTION:Join in weekly for a chance to win virtual bingo. Free.
URL:https://www.atlantaparent.com/event/virtual-bingo/2020-08-19/
LOCATION:GA
END:VEVENT
BEGIN:VEVENT
DTSTART;TZID=America/New_York:20200815T200000
DTEND;TZID=America/New_York:20200815T200000
DTSTAMP:20260424T230858
CREATED:20200720T155154Z
LAST-MODIFIED:20200720T155154Z
UID:10005309-1597521600-1597521600@www.atlantaparent.com
SUMMARY:Roswell Arts Fund’s Pop Up Performance
DESCRIPTION:Watch the performances of the John Driskell Hopkins Band with special guests Mike Rizzi & Friends for an exciting concert. Seat assignment begins at 7 p.m. $100-$180 for a maximum of four people.
URL:https://www.atlantaparent.com/event/roswell-arts-funds-pop-up-performance/
LOCATION:From the Earth Brewing Company\, 1570 Holcomb Bridge Rd.\, Roswell\, GA
GEO:34.0193393;-84.3129325
X-APPLE-STRUCTURED-LOCATION;VALUE=URI;X-ADDRESS=From the Earth Brewing Company 1570 Holcomb Bridge Rd. Roswell GA;X-APPLE-RADIUS=500;X-TITLE=1570 Holcomb Bridge Rd.:geo:-84.3129325,34.0193393
END:VEVENT
BEGIN:VEVENT
DTSTART;VALUE=DATE:20200815
DTEND;VALUE=DATE:20201109
DTSTAMP:20260424T230858
CREATED:20200720T150059Z
LAST-MODIFIED:20200826T205301Z
UID:10005096-1597449600-1604879999@www.atlantaparent.com
SUMMARY:Picture the Dream: The Story of the Civil Rights Movement through Children’s Books
DESCRIPTION:The “Picture the Dream” exhibit at the High Museum of Art was a picture-perfect outing! With all of the challenges of 2020\, from COVID-19 leisure limitations to a heightened awareness of racial and social inequities\, I was happy to find a timely and engaging outing for my entire family. \nMy family and I strolled up Peachtree Street to a very open High Museum that was not at all crowded … neither inside nor out. We wore masks with our timed tickets in tow\, which are now required for safety measures. Once inside\, my 8-year-old twins enthusiastically ran towards a table filled with blue smARTboxes\, which contained complimentary supplies for art projects. The boxes are free to Georgia residents ages 6-12 and contain a new set of art supplies that can be picked up every month. Once we collected our smARTboxes\, we were off to the exhibit. \nUpon immediately entering the “Picture the Dream” exhibit\, I was impressed with the beautiful set up and colorful display of several pieces of artwork\, ranging from paintings and prints to collages and drawings. My twins were immediately drawn to the various images and captions that powerfully represented key events from the Civil Rights Movement. Artwork depicting children of the Civil Rights Movements and their roles as activists with titles such as “The Story of Ruby Bridges” drew special interest. Fortunately\, I was able to use my “Picture the Dream” Family Discussion Guide to further engage my children and encourage them to think about the story the artist was trying to tell. A stroll through the exhibit\, which also included an area with a looping short film of interviews with key Civil Rights leaders\, gave me an opportunity to really talk about bigotry and oppression with my children in an age-appropriate way. \nMy entire family was intrigued throughout all three sections of the exhibit. The first section investigated the conditions leading up to the Civil Rights Movement. The second section highlighted key voices and events of the movement\, while the third section explored present day conditions with a look at what has changed and what progressive work can still be done. \nAfter we exited the third section of the exhibit\, I was very pleased as a parent to see the small “pop-up” library of  children’s books related to the exhibit that were available for browsing right outside. The area was complete with a few tables and bookshelves containing various titles that could be purchased in the museum gift shop as well. Fortunately\, my twins and I were able to sit in this area and read a few books before heading out of the High Museum. \nThe “Picture the Dream” exhibit was a very enlightening experience\, that was both fun and educational\, and a great conversation starter for parents and their children about history\, activism and race. \n– Monica Croom \nPicture the Dream: The Story of the Civil Rights Movement Through Children’s Books. High Museum of Art. 1280 Peachtree St. NE\, Atlanta. 404-733-4400. high.org.\nHours: Through Nov. 8. Tues.-Sat. 10 a.m.-5 p.m. Sun. noon-5 p.m. Closed Mon.\nTickets: Timed ticket entry is required. $14.50; ages 5 and younger\, free.
URL:https://www.atlantaparent.com/event/picture-the-dream-the-story-of-the-civil-rights-movement-through-childrens-books/
LOCATION:High Museum of Art\, 1280 Peachtree Street\, Atlanta
ATTACH;FMTTYPE=image/jpeg:https://www.atlantaparent.com/wp-content/uploads/2020/07/Jerry-Pinkney_Place-to-Land-scaled-e1595257232722.jpg
GEO:33.7891582;-84.3849351
X-APPLE-STRUCTURED-LOCATION;VALUE=URI;X-ADDRESS=High Museum of Art 1280 Peachtree Street Atlanta;X-APPLE-RADIUS=500;X-TITLE=1280 Peachtree Street:geo:-84.3849351,33.7891582
END:VEVENT
BEGIN:VEVENT
DTSTART;TZID=America/New_York:20200808T100000
DTEND;TZID=America/New_York:20200808T140000
DTSTAMP:20260424T230858
CREATED:20200730T143404Z
LAST-MODIFIED:20200730T143404Z
UID:10005276-1596880800-1596895200@www.atlantaparent.com
SUMMARY:Sharks & Friends
DESCRIPTION:Kick off “Shark Week” as you explore the world of sharks and other sea creatures by meeting a live alligator and terrapin\, enjoying a shark-themed storytime\, playing games\, giveaways and more. Advance ticket purchase required: $20; ages 3-12\, $18; ages 2 and younger\, free.
URL:https://www.atlantaparent.com/event/sharks-friends/
LOCATION:Fernbank Museum of Natural History\, 767 Clifton Road\, Atlanta
GEO:33.7739167;-84.3277484
X-APPLE-STRUCTURED-LOCATION;VALUE=URI;X-ADDRESS=Fernbank Museum of Natural History 767 Clifton Road Atlanta;X-APPLE-RADIUS=500;X-TITLE=767 Clifton Road:geo:-84.3277484,33.7739167
END:VEVENT
BEGIN:VEVENT
DTSTART;TZID=America/New_York:20200806T130000
DTEND;TZID=America/New_York:20200806T130000
DTSTAMP:20260424T230858
CREATED:20200728T190241Z
LAST-MODIFIED:20200728T190241Z
UID:10005269-1596718800-1596718800@www.atlantaparent.com
SUMMARY:Pandemic Parenting
DESCRIPTION:This free series offers parents a supportive virtual community with content and topics led by specialists. \nAug. 4 – Back to School: Teen Talk with Ina Enoch and Jaime Stepansky\nAug. 6 – Back to School: Elementary Advice with Ina Enoch and Rebecca Brown
URL:https://www.atlantaparent.com/event/pandemic-parenting/2020-08-06/
LOCATION:GA
END:VEVENT
BEGIN:VEVENT
DTSTART;TZID=America/New_York:20200806T110000
DTEND;TZID=America/New_York:20200806T120000
DTSTAMP:20260424T230858
CREATED:20200720T160407Z
LAST-MODIFIED:20200720T160407Z
UID:10005121-1596711600-1596715200@www.atlantaparent.com
SUMMARY:Social Justice Storytime
DESCRIPTION:Hosted by Posman Books\, each storytime is dedicated to a different age group of kids and features drag queens Brent Star and Edie Cheezburger as host readers. The first 50 attendees receive a free book from the reading. Free.
URL:https://www.atlantaparent.com/event/social-justice-storytime/2020-08-06/
LOCATION:The Shed\, Ponce City Market\, 267 Ponce De Leon Ave.\, Atlanta\, GA
GEO:33.7725692;-84.3783774
X-APPLE-STRUCTURED-LOCATION;VALUE=URI;X-ADDRESS=The Shed Ponce City Market 267 Ponce De Leon Ave. Atlanta GA;X-APPLE-RADIUS=500;X-TITLE=267 Ponce De Leon Ave.:geo:-84.3783774,33.7725692
END:VEVENT
BEGIN:VEVENT
DTSTART;VALUE=DATE:20200806
DTEND;VALUE=DATE:20200809
DTSTAMP:20260424T230858
CREATED:20200803T172742Z
LAST-MODIFIED:20200803T172742Z
UID:10005274-1596672000-1596931199@www.atlantaparent.com
SUMMARY:Mountain Dance and Folk Festival
DESCRIPTION:This virtual folk festival showcases the best of the region’s traditional and old-time musicians\, ballad singers\, storytellers\, big-circle mountain dancers and cloggers with a different show each night. Aug. 6-8\, 7:30 p.m.
URL:https://www.atlantaparent.com/event/mountain-dance-and-folk-festival/
LOCATION:GA
END:VEVENT
BEGIN:VEVENT
DTSTART;TZID=America/New_York:20200804T130000
DTEND;TZID=America/New_York:20200804T140000
DTSTAMP:20260424T230858
CREATED:20200720T151855Z
LAST-MODIFIED:20200720T151855Z
UID:10005115-1596546000-1596549600@www.atlantaparent.com
SUMMARY:Virtual Scavenger Hunt
DESCRIPTION:Search for items in your home to win this indoor scavenger hunt. Free.
URL:https://www.atlantaparent.com/event/virtual-scavenger-hunt/
LOCATION:GA
END:VEVENT
BEGIN:VEVENT
DTSTART;VALUE=DATE:20200804
DTEND;VALUE=DATE:20200805
DTSTAMP:20260424T230858
CREATED:20200803T192840Z
LAST-MODIFIED:20200803T192840Z
UID:10005355-1596499200-1596585599@www.atlantaparent.com
SUMMARY:8/4 Day at Great Wolf Lodge
DESCRIPTION:This annual sale from Great Wolf Lodge Georgia drops rates to an $84 starting price for stays booked from Aug. 23-Nov. 19 in honor of the water park’s year-round temperature set at 84-degrees. Use the promo code 84DEGREES when booking.
URL:https://www.atlantaparent.com/event/8-4-day-at-great-wolf-lodge/
LOCATION:Great Wolf Lodge\, 150 Tom Hall Pkwy.\, LaGrange\, GA\, United States
ATTACH;FMTTYPE=image/jpeg:https://www.atlantaparent.com/wp-content/uploads/2020/08/GWL_atl-120-1-scaled-e1596482888307.jpg
GEO:32.9941448;-85.0254074
X-APPLE-STRUCTURED-LOCATION;VALUE=URI;X-ADDRESS=Great Wolf Lodge 150 Tom Hall Pkwy. LaGrange GA United States;X-APPLE-RADIUS=500;X-TITLE=150 Tom Hall Pkwy.:geo:-85.0254074,32.9941448
END:VEVENT
BEGIN:VEVENT
DTSTART;TZID=America/New_York:20200801T100000
DTEND;TZID=America/New_York:20200801T150000
DTSTAMP:20260424T230858
CREATED:20200724T154744Z
LAST-MODIFIED:20200727T145242Z
UID:10005271-1596276000-1596294000@www.atlantaparent.com
SUMMARY:Glover Machine Works Locomotive Day
DESCRIPTION:For one day only\, see a rare Glover Machine Works locomotive\, which were built in 1925\, and this is the only one that is still capable of operating. Aug. 1\, 10 a.m.-3 p.m. $10; ages 3-17\, $5; ages 2 and younger\, free.
URL:https://www.atlantaparent.com/event/glover-machine-works-locomotive-day/
LOCATION:Southern Museum of Civil War and Locomotive History\, 2829 Cherokee St.\, Kennesaw
ATTACH;FMTTYPE=image/jpeg:https://www.atlantaparent.com/wp-content/uploads/2020/07/Glover-scaled-e1595605499640.jpg
GEO:34.0242075;-84.6142383
X-APPLE-STRUCTURED-LOCATION;VALUE=URI;X-ADDRESS=Southern Museum of Civil War and Locomotive History 2829 Cherokee St. Kennesaw;X-APPLE-RADIUS=500;X-TITLE=2829 Cherokee St.:geo:-84.6142383,34.0242075
END:VEVENT
BEGIN:VEVENT
DTSTART;TZID=America/New_York:20200801T100000
DTEND;TZID=America/New_York:20200801T140000
DTSTAMP:20260424T230858
CREATED:20200730T143141Z
LAST-MODIFIED:20200730T143546Z
UID:10005277-1596276000-1596290400@www.atlantaparent.com
SUMMARY:Bugs & Insects
DESCRIPTION:Discover the amazing world of bugs and insects with live bug and insect encounters\, habitat exploration\, Bug Bingo\, microscopic examination\, storytimes and more. Advance ticket purchase required: $20; ages 3-12\, $18; ages 2 and younger\, free.
URL:https://www.atlantaparent.com/event/bugs-insects/
LOCATION:Fernbank Museum of Natural History\, 767 Clifton Road\, Atlanta
GEO:33.7739167;-84.3277484
X-APPLE-STRUCTURED-LOCATION;VALUE=URI;X-ADDRESS=Fernbank Museum of Natural History 767 Clifton Road Atlanta;X-APPLE-RADIUS=500;X-TITLE=767 Clifton Road:geo:-84.3277484,33.7739167
END:VEVENT
BEGIN:VEVENT
DTSTART;VALUE=DATE:20200801
DTEND;VALUE=DATE:20200901
DTSTAMP:20260424T230858
CREATED:20200723T140641Z
LAST-MODIFIED:20200723T140641Z
UID:10005345-1596240000-1598918399@www.atlantaparent.com
SUMMARY:The LoveCrafts Festival
DESCRIPTION:The LoveCrafts Festival is a virtual month-long crafty extravaganza packed with make-a-longs\, usable patterns and crafts and live takeovers with special guests. See full schedule online. Aug. 1-31. Free.
URL:https://www.atlantaparent.com/event/the-lovecrafts-festival/
LOCATION:GA
END:VEVENT
BEGIN:VEVENT
DTSTART;VALUE=DATE:20200801
DTEND;VALUE=DATE:20200803
DTSTAMP:20260424T230858
CREATED:20200720T155941Z
LAST-MODIFIED:20200720T155941Z
UID:10005122-1596240000-1596412799@www.atlantaparent.com
SUMMARY:A Kids Play About Racism
DESCRIPTION:Presented by the Alliance Theatre\, this virtual performance for children and families explains what racism is\, how to know it when you see and experience it and ideas for what you can do about it based on the book by Jelani Memory. Aug. 1-2. Free.
URL:https://www.atlantaparent.com/event/a-kids-play-about-racism/
LOCATION:GA
END:VEVENT
BEGIN:VEVENT
DTSTART;TZID=America/New_York:20200726T120000
DTEND;TZID=America/New_York:20200726T190000
DTSTAMP:20260424T230858
CREATED:20200715T134041Z
LAST-MODIFIED:20200715T134212Z
UID:10005278-1595764800-1595790000@www.atlantaparent.com
SUMMARY:SING! “Song of the Chattahoochee”
DESCRIPTION:Enjoy a live-streamed concert of songs about the beauty of nature and water performed by the Meridian Chorale. Children who visit Chattahoochee Nature Center from noon-3 p.m. that day will get a packet of fun activities related to the virtual concert starting at 6 p.m.
URL:https://www.atlantaparent.com/event/sing-song-of-the-chattahoochee/
LOCATION:Chattahoochee Nature Center\, 9135 Willeo Road\, Roswell
GEO:34.0038514;-84.38312
X-APPLE-STRUCTURED-LOCATION;VALUE=URI;X-ADDRESS=Chattahoochee Nature Center 9135 Willeo Road Roswell;X-APPLE-RADIUS=500;X-TITLE=9135 Willeo Road:geo:-84.38312,34.0038514
END:VEVENT
BEGIN:VEVENT
DTSTART;VALUE=DATE:20200724
DTEND;VALUE=DATE:20200726
DTSTAMP:20260424T230858
CREATED:20200625T153720Z
LAST-MODIFIED:20200720T194041Z
UID:10005035-1595548800-1595721599@www.atlantaparent.com
SUMMARY:Drive-In Movie Night: Aladdin
DESCRIPTION:Pack your car with your favorite snacks and drinks for an outdoor movie experience. Registration required; free. \nLost Mountain Park: July 10 and 11\, 6:30-9:30 p.m. 4845 Dallas Hwy.\, Powder Springs; 770-528-8800. \nHurt Road Park: July 17 and 18\, 6:30-9:30 p.m. 990 Hurt Rd.\, Marietta; 770-528-8824. \nCobb County Civic Center: July 24 and 25\, 6:30-9:30 p.m. 548 S. Marietta Pkwy.\, Marietta; 770-528-8450.
URL:https://www.atlantaparent.com/event/drive-in-movie-night-aladdin/
LOCATION:GA
END:VEVENT
BEGIN:VEVENT
DTSTART;TZID=America/New_York:20200723T190000
DTEND;TZID=America/New_York:20200723T190000
DTSTAMP:20260424T230858
CREATED:20200702T141803Z
LAST-MODIFIED:20200702T141803Z
UID:10005091-1595530800-1595530800@www.atlantaparent.com
SUMMARY:Xmas in July Dinner and Drive In Movie
DESCRIPTION:Take photos with Santa\, watch The Grinch\, compete in a trivia competition\, taste food from restaurants and eateries and more at this Christmas in July event. July 23\, 7-11 p.m. $10 per vehicle; proceeds will benefit Feeding America.
URL:https://www.atlantaparent.com/event/xmas-in-july-dinner-and-drive-in-movie/
LOCATION:Avenue East Cobb\, 4475 Roswell Rd.\, Marietta\, GA\, 30062
GEO:33.9880126;-84.4224366
X-APPLE-STRUCTURED-LOCATION;VALUE=URI;X-ADDRESS=Avenue East Cobb 4475 Roswell Rd. Marietta GA 30062;X-APPLE-RADIUS=500;X-TITLE=4475 Roswell Rd.:geo:-84.4224366,33.9880126
END:VEVENT
END:VCALENDAR