BEGIN:VCALENDAR
VERSION:2.0
PRODID:-//NEW Atlanta Parent - ECPv6.15.11//NONSGML v1.0//EN
CALSCALE:GREGORIAN
METHOD:PUBLISH
X-ORIGINAL-URL:https://www.atlantaparent.com
X-WR-CALDESC:Events for NEW Atlanta Parent
REFRESH-INTERVAL;VALUE=DURATION:PT1H
X-Robots-Tag:noindex
X-PUBLISHED-TTL:PT1H
BEGIN:VTIMEZONE
TZID:America/New_York
BEGIN:DAYLIGHT
TZOFFSETFROM:-0500
TZOFFSETTO:-0400
TZNAME:EDT
DTSTART:20190310T070000
END:DAYLIGHT
BEGIN:STANDARD
TZOFFSETFROM:-0400
TZOFFSETTO:-0500
TZNAME:EST
DTSTART:20191103T060000
END:STANDARD
BEGIN:DAYLIGHT
TZOFFSETFROM:-0500
TZOFFSETTO:-0400
TZNAME:EDT
DTSTART:20200308T070000
END:DAYLIGHT
BEGIN:STANDARD
TZOFFSETFROM:-0400
TZOFFSETTO:-0500
TZNAME:EST
DTSTART:20201101T060000
END:STANDARD
BEGIN:DAYLIGHT
TZOFFSETFROM:-0500
TZOFFSETTO:-0400
TZNAME:EDT
DTSTART:20210314T070000
END:DAYLIGHT
BEGIN:STANDARD
TZOFFSETFROM:-0400
TZOFFSETTO:-0500
TZNAME:EST
DTSTART:20211107T060000
END:STANDARD
BEGIN:DAYLIGHT
TZOFFSETFROM:-0500
TZOFFSETTO:-0400
TZNAME:EDT
DTSTART:20220313T070000
END:DAYLIGHT
BEGIN:STANDARD
TZOFFSETFROM:-0400
TZOFFSETTO:-0500
TZNAME:EST
DTSTART:20221106T060000
END:STANDARD
END:VTIMEZONE
BEGIN:VTIMEZONE
TZID:UTC
BEGIN:STANDARD
TZOFFSETFROM:+0000
TZOFFSETTO:+0000
TZNAME:UTC
DTSTART:20190101T000000
END:STANDARD
END:VTIMEZONE
BEGIN:VEVENT
DTSTART;TZID=America/New_York:20210227T180000
DTEND;TZID=America/New_York:20210227T210000
DTSTAMP:20260422T185122
CREATED:20210120T203814Z
LAST-MODIFIED:20210216T194821Z
UID:10005595-1614448800-1614459600@www.atlantaparent.com
SUMMARY:Museum Chills & Science Thrills
DESCRIPTION:Enjoy after-hours access to indoor exhibits and WildWoods\, themed science activities and demonstrations and more. Feb.-Freeze; March 27-Arts and Science. Reservation required. $20.
URL:https://www.atlantaparent.com/event/museum-chills-science-thrills/2021-02-27/
LOCATION:Fernbank Museum of Natural History\, 767 Clifton Road\, Atlanta
GEO:33.7739167;-84.3277484
X-APPLE-STRUCTURED-LOCATION;VALUE=URI;X-ADDRESS=Fernbank Museum of Natural History 767 Clifton Road Atlanta;X-APPLE-RADIUS=500;X-TITLE=767 Clifton Road:geo:-84.3277484,33.7739167
END:VEVENT
BEGIN:VEVENT
DTSTART;TZID=America/New_York:20210227T110000
DTEND;TZID=America/New_York:20210227T203000
DTSTAMP:20260422T185122
CREATED:20210120T021631Z
LAST-MODIFIED:20210208T140147Z
UID:10004857-1614423600-1614457800@www.atlantaparent.com
SUMMARY:Virtual: Fairytale Ball
DESCRIPTION:Enjoy creative activities and meet your favorite princesses. Pre-register for a specific time slot. $20-$50.
URL:https://www.atlantaparent.com/event/atlanta-fairytale-ball/2021-02-27/
ATTACH;FMTTYPE=image/jpeg:https://www.atlantaparent.com/wp-content/uploads/2020/01/fairytail-ball-group-2-b.jpg
END:VEVENT
BEGIN:VEVENT
DTSTART;TZID=America/New_York:20210226T100000
DTEND;TZID=America/New_York:20210226T100000
DTSTAMP:20260422T185122
CREATED:20210120T215124Z
LAST-MODIFIED:20210120T215124Z
UID:10005602-1614333600-1614333600@www.atlantaparent.com
SUMMARY:Virtual: Stories of Color
DESCRIPTION:Explore the African diaspora using music\, song and movement with this retelling of two folktales: The First Music and Abiyoyo. For ages 6-12. $8.
URL:https://www.atlantaparent.com/event/virtual-stories-of-color/2021-02-26/
END:VEVENT
BEGIN:VEVENT
DTSTART;TZID=America/New_York:20210225T190000
DTEND;TZID=America/New_York:20210225T200000
DTSTAMP:20260422T185122
CREATED:20210125T201338Z
LAST-MODIFIED:20210219T151319Z
UID:10005650-1614279600-1614283200@www.atlantaparent.com
SUMMARY:Virtual: Leading\, Unapologetically
DESCRIPTION:Part of Atlanta Girls’ School’s Leading\, Unapologetically speaker series\, hear Wonya Lucas\, president and CEO of Crown Media Family Network discuss how future female leaders can break barriers. Free; registration required.
URL:https://www.atlantaparent.com/event/virtual-leading-unapologetically/
END:VEVENT
BEGIN:VEVENT
DTSTART;VALUE=DATE:20210220
DTEND;VALUE=DATE:20210221
DTSTAMP:20260422T185122
CREATED:20210212T145522Z
LAST-MODIFIED:20210222T134953Z
UID:10003817-1613779200-1613865599@www.atlantaparent.com
SUMMARY:Virtual: Be My Neighbor Day
DESCRIPTION:Daniel Tiger and his friends from the Neighborhood of Make-Believe know the importance of being a kind and caring neighbor\, and they want to see the ways you are taking care of others through photos and videos. Enjoy a watch party with special guests’ stories\, singing\, dancing and more.
URL:https://www.atlantaparent.com/event/be-my-neighbor-day/
ATTACH;FMTTYPE=image/png:https://www.atlantaparent.com/wp-content/uploads/2019/06/neighbor-day-2-thumb.png
END:VEVENT
BEGIN:VEVENT
DTSTART;TZID=America/New_York:20210215T113000
DTEND;TZID=America/New_York:20210215T113000
DTSTAMP:20260422T185122
CREATED:20210208T142002Z
LAST-MODIFIED:20210208T142002Z
UID:10005623-1613388600-1613388600@www.atlantaparent.com
SUMMARY:Virtual: Art of the Song: Dream Big
DESCRIPTION:Participate in this interactive music and art class focused on who kids want to be when they grow up. $5.
URL:https://www.atlantaparent.com/event/virtual-art-of-the-song-dream-big/
END:VEVENT
BEGIN:VEVENT
DTSTART;TZID=America/New_York:20210214T160000
DTEND;TZID=America/New_York:20210214T183000
DTSTAMP:20260422T185122
CREATED:20210106T104310Z
LAST-MODIFIED:20210107T163718Z
UID:10004840-1613318400-1613327400@www.atlantaparent.com
SUMMARY:Valentine’s Day Couples Hike
DESCRIPTION:Go on a guided hike to watch the sunset over downtown Atlanta\, and relax by the campfire. Reservations required. $20; parking\, $5.
URL:https://www.atlantaparent.com/event/valentines-day-couples-hike/2021-02-14/
LOCATION:Panola Mountain State Park\, 2620 Highway 155 SW\, Stockbridge
GEO:33.6240972;-84.1750921
X-APPLE-STRUCTURED-LOCATION;VALUE=URI;X-ADDRESS=Panola Mountain State Park 2620 Highway 155 SW Stockbridge;X-APPLE-RADIUS=500;X-TITLE=2620 Highway 155 SW:geo:-84.1750921,33.6240972
END:VEVENT
BEGIN:VEVENT
DTSTART;TZID=America/New_York:20210213T193000
DTEND;TZID=America/New_York:20210213T193000
DTSTAMP:20260422T185122
CREATED:20210202T154107Z
LAST-MODIFIED:20210202T190431Z
UID:10005660-1613244600-1613244600@www.atlantaparent.com
SUMMARY:The Lasting Laugh
DESCRIPTION:This stand-up comedy series brings in two different Atlanta-based comedians hosted by Jessica It’s All Good. Also available as a digital livestream. Recommended for ages 12+. $10. \n\nFeb. 13\, 7:30 p.m.; streaming from Feb. 13-27.\nMarch 20\, 7:30 p.m.; streaming from March 20-April 3\nApril 10\, 7:30 p.m.; streaming from April 10-24\nMay 8\, 7:30 p.m.; streaming from May 8-22\nJune 19\, 7:30 p.m.; streaming from June 19-July 3\nJuly 10\, 7:30 p.m.; streaming July 10-24
URL:https://www.atlantaparent.com/event/the-lasting-laugh/2021-02-13/
LOCATION:Woodstock Arts\, 8534 Main St.\, Woodstock
ATTACH;FMTTYPE=image/jpeg:https://www.atlantaparent.com/wp-content/uploads/2021/02/Were-All-Chocolate-Event-Archival-Calven-Mitchell.jpg
GEO:34.1017163;-84.5199758
X-APPLE-STRUCTURED-LOCATION;VALUE=URI;X-ADDRESS=Woodstock Arts 8534 Main St. Woodstock;X-APPLE-RADIUS=500;X-TITLE=8534 Main St.:geo:-84.5199758,34.1017163
END:VEVENT
BEGIN:VEVENT
DTSTART;TZID=America/New_York:20210213T180000
DTEND;TZID=America/New_York:20210213T220000
DTSTAMP:20260422T185122
CREATED:20210127T193754Z
LAST-MODIFIED:20210127T193754Z
UID:10005620-1613239200-1613253600@www.atlantaparent.com
SUMMARY:Valentine's & Galentine’s Day Drive-In Movies
DESCRIPTION:Watch comedy shows\, “Mean Girls” and “Hitch.” Purchase dinner packages from Shake Shack\, Biltong Bar\, Fado Irish Pub and Taverna. $25-$35 per car.
URL:https://www.atlantaparent.com/event/valentines-galentines-day-drive-in-movies/2021-02-13/
LOCATION:Buckhead Village\, Peachtree Rd. NE\, Atlanta
END:VEVENT
BEGIN:VEVENT
DTSTART;TZID=America/New_York:20210213T150000
DTEND;TZID=America/New_York:20210213T153000
DTSTAMP:20260422T185122
CREATED:20210208T141537Z
LAST-MODIFIED:20210208T141537Z
UID:10005624-1613228400-1613230200@www.atlantaparent.com
SUMMARY:Valentine's Day Tea Party with the BenAnna Band
DESCRIPTION:Enjoy a fun and musical tea party for ages 2-7. Free; registration required.
URL:https://www.atlantaparent.com/event/valentines-day-tea-party-with-the-benanna-band/
END:VEVENT
BEGIN:VEVENT
DTSTART;TZID=America/New_York:20210213T130000
DTEND;TZID=America/New_York:20210213T130000
DTSTAMP:20260422T185122
CREATED:20210208T140850Z
LAST-MODIFIED:20210208T140850Z
UID:10005676-1613221200-1613221200@www.atlantaparent.com
SUMMARY:Virtual: Pop-Up Valentines
DESCRIPTION:Get creative by making a cheerful valentine with this workshop. For ages 6-12. $8.
URL:https://www.atlantaparent.com/event/virtual-pop-up-valentines/
END:VEVENT
BEGIN:VEVENT
DTSTART;TZID=America/New_York:20210213T103000
DTEND;TZID=America/New_York:20210213T150000
DTSTAMP:20260422T185122
CREATED:20201021T161856Z
LAST-MODIFIED:20210216T192914Z
UID:10005455-1613212200-1613228400@www.atlantaparent.com
SUMMARY:Family Art Escapes
DESCRIPTION:Three sessions allow you and your family to explore a monthly theme with an art-making activity and scavenger hunt. March: Paper Mosaics; April: Paper Lanterns; May: Fantastic Flowers. Reservation required. $14.50; ages 5 and younger\, free.
URL:https://www.atlantaparent.com/event/family-art-escapes/2021-02-13/
LOCATION:High Museum of Art\, 1280 Peachtree Street\, Atlanta
ATTACH;FMTTYPE=image/jpeg:https://www.atlantaparent.com/wp-content/uploads/2020/10/Second-Sunday-b-e1603297120543.jpg
GEO:33.7891582;-84.3849351
X-APPLE-STRUCTURED-LOCATION;VALUE=URI;X-ADDRESS=High Museum of Art 1280 Peachtree Street Atlanta;X-APPLE-RADIUS=500;X-TITLE=1280 Peachtree Street:geo:-84.3849351,33.7891582
END:VEVENT
BEGIN:VEVENT
DTSTART;TZID=America/New_York:20210213T100000
DTEND;TZID=America/New_York:20210213T130000
DTSTAMP:20260422T185122
CREATED:20210120T203505Z
LAST-MODIFIED:20210120T203505Z
UID:10005597-1613210400-1613221200@www.atlantaparent.com
SUMMARY:Archaeology Day
DESCRIPTION:Embark on an expedition into past civilizations with real-life artifacts and conversations with local archaeologists. Reservation required. Feb. 13\, 10 a.m.-1 p.m. $20; ages 3-12\, $18; ages 2 and younger\, free.
URL:https://www.atlantaparent.com/event/archaeology-day-2/
LOCATION:Fernbank Museum of Natural History\, 767 Clifton Rd. NE\, Atlanta
GEO:33.7739166;-84.3277485
X-APPLE-STRUCTURED-LOCATION;VALUE=URI;X-ADDRESS=Fernbank Museum of Natural History 767 Clifton Rd. NE Atlanta;X-APPLE-RADIUS=500;X-TITLE=767 Clifton Rd. NE:geo:-84.3277485,33.7739166
END:VEVENT
BEGIN:VEVENT
DTSTART;TZID=America/New_York:20210212T180000
DTEND;TZID=America/New_York:20210212T220000
DTSTAMP:20260422T185122
CREATED:20210121T152240Z
LAST-MODIFIED:20210121T152240Z
UID:10005610-1613152800-1613167200@www.atlantaparent.com
SUMMARY:Black History Festival
DESCRIPTION:Celebrate with cultural education and exposure\, vendor booths\, music and food.
URL:https://www.atlantaparent.com/event/black-history-festival/
LOCATION:Shorty Howell Park\, 2750 Pleasant Hill Rd.\, Duluth
END:VEVENT
BEGIN:VEVENT
DTSTART;TZID=America/New_York:20210212T170000
DTEND;TZID=America/New_York:20210212T200000
DTSTAMP:20260422T185122
CREATED:20190922T181547Z
LAST-MODIFIED:20210120T185912Z
UID:10004514-1613149200-1613160000@www.atlantaparent.com
SUMMARY:Kids Night Out
DESCRIPTION:Have an evening out while your kids make friends\, play games\, create crafts and more. Pre-registration required. $10; non-resident\, $20.
URL:https://www.atlantaparent.com/event/parents-night-out-sock-hop-glow-dance/
LOCATION:OneStop Norcross\, 5030 Georgia Belle Court\, Norcross
END:VEVENT
BEGIN:VEVENT
DTSTART;VALUE=DATE:20210212
DTEND;VALUE=DATE:20210215
DTSTAMP:20260422T185122
CREATED:20210201T140706Z
LAST-MODIFIED:20210201T140706Z
UID:10005617-1613088000-1613347199@www.atlantaparent.com
SUMMARY:Skate on the Square
DESCRIPTION:Enjoy skating on the temporary ice in Decatur. Reservation required. Fri. 4-11 p.m.; Sat. 11 a.m.-11 p.m. and Sun. noon-8 p.m. $15; ages 3 and younger\, free.
URL:https://www.atlantaparent.com/event/skate-on-the-square/
LOCATION:Decatur Square\, 101 E Court Square\, Decatur
END:VEVENT
BEGIN:VEVENT
DTSTART;VALUE=DATE:20210212
DTEND;VALUE=DATE:20210215
DTSTAMP:20260422T185122
CREATED:20210127T194322Z
LAST-MODIFIED:20210127T194322Z
UID:10005618-1613088000-1613347199@www.atlantaparent.com
SUMMARY:Virtual: That Thing Called Love
DESCRIPTION:Listen to your favorite love songs with this Valentine’s Day cabaret. Feb. 12-14. $30.
URL:https://www.atlantaparent.com/event/virtual-that-thing-called-love/
END:VEVENT
BEGIN:VEVENT
DTSTART;VALUE=DATE:20210212
DTEND;VALUE=DATE:20210213
DTSTAMP:20260422T185122
CREATED:20210120T195312Z
LAST-MODIFIED:20210120T195312Z
UID:10005635-1613088000-1613174399@www.atlantaparent.com
SUMMARY:Virtual: Silver Linings
DESCRIPTION:Atlanta Ballet’s new choreographic initiative features a variety of original pieces. Feb. 12 and March 19. Free.
URL:https://www.atlantaparent.com/event/virtual-silver-linings/2021-02-12/
END:VEVENT
BEGIN:VEVENT
DTSTART;VALUE=DATE:20210211
DTEND;VALUE=DATE:20210222
DTSTAMP:20260422T185122
CREATED:20210120T203225Z
LAST-MODIFIED:20210125T140330Z
UID:10005641-1613001600-1613951999@www.atlantaparent.com
SUMMARY:Motown Love
DESCRIPTION:CJ Williams performs an evening of Motown classics. Feb. 11-21. Thur. and Sun. 7 p.m.; Fri.-Sat. 7:30 p.m. and Sat.-Sun. 3 p.m. $30-$45; ages 12 and younger\, $15.
URL:https://www.atlantaparent.com/event/motown-love/
LOCATION: The Legacy Theatre\, 1175 Senoia Road\, Ste. C\, Tyrone
GEO:33.489155;-84.5824515
X-APPLE-STRUCTURED-LOCATION;VALUE=URI;X-ADDRESS= The Legacy Theatre 1175 Senoia Road Ste. C Tyrone;X-APPLE-RADIUS=500;X-TITLE=1175 Senoia Road\, Ste. C:geo:-84.5824515,33.489155
END:VEVENT
BEGIN:VEVENT
DTSTART;VALUE=DATE:20210208
DTEND;VALUE=DATE:20210209
DTSTAMP:20260422T185122
CREATED:20210126T192328Z
LAST-MODIFIED:20210204T195033Z
UID:10003531-1612742400-1612828799@www.atlantaparent.com
SUMMARY:Registration: Kilometer Kids
DESCRIPTION:Join Atlanta Track Club’s Kilometer Kids for a free\, game-based running program designed to get kids ages 5-14 active. Registration for spring season opens Feb. 8.
URL:https://www.atlantaparent.com/event/kilometer-kids-fun-run-dash-2/
ATTACH;FMTTYPE=image/jpeg:https://www.atlantaparent.com/wp-content/uploads/2018/03/IMG_1050-scaled-e1612468057325.jpg
END:VEVENT
BEGIN:VEVENT
DTSTART;TZID=America/New_York:20210206T150000
DTEND;TZID=America/New_York:20210206T160000
DTSTAMP:20260422T185122
CREATED:20210127T133514Z
LAST-MODIFIED:20210127T133514Z
UID:10005655-1612623600-1612627200@www.atlantaparent.com
SUMMARY:Young Chefs Academy Marietta Black History Month Event
DESCRIPTION:Bake honey cornbread and learn about the tradition of soul food in the African American community. Feb. 6\, 3 p.m. $20.
URL:https://www.atlantaparent.com/event/young-chefs-academy-marietta-black-history-month-event/
LOCATION:Young Chefs Academy Marietta\, 2769 Chastain Meadows Pkwy.\, Marietta
GEO:34.0174732;-84.556165
X-APPLE-STRUCTURED-LOCATION;VALUE=URI;X-ADDRESS=Young Chefs Academy Marietta 2769 Chastain Meadows Pkwy. Marietta;X-APPLE-RADIUS=500;X-TITLE=2769 Chastain Meadows Pkwy.:geo:-84.556165,34.0174732
END:VEVENT
BEGIN:VEVENT
DTSTART;VALUE=DATE:20210205
DTEND;VALUE=DATE:20210215
DTSTAMP:20260422T185122
CREATED:20210127T193513Z
LAST-MODIFIED:20210127T193513Z
UID:10005612-1612483200-1613347199@www.atlantaparent.com
SUMMARY:Secret Garden Event at Pinker Times
DESCRIPTION:Walk through an interactive floral installation. Feb. 5-14.
URL:https://www.atlantaparent.com/event/secret-garden-event-at-pinker-times/
LOCATION:Buckhead Village\, Peachtree Rd. NE\, Atlanta
END:VEVENT
BEGIN:VEVENT
DTSTART;TZID=America/New_York:20210204T130000
DTEND;TZID=America/New_York:20210204T150000
DTSTAMP:20260422T185122
CREATED:20210125T155513Z
LAST-MODIFIED:20210125T155513Z
UID:10005607-1612443600-1612450800@www.atlantaparent.com
SUMMARY:Valentine's Day Picnic
DESCRIPTION:Visit George Pierce Park to enjoy a picnic in nature and individually wrapped snacks and refreshments. Registration required. $8; non-resident\, $15.
URL:https://www.atlantaparent.com/event/valentines-day-picnic/
LOCATION:George Pierce Park Community Recreation Center\, 55 Buford Hwy.\, Suwanee
GEO:34.0606638;-84.0616299
X-APPLE-STRUCTURED-LOCATION;VALUE=URI;X-ADDRESS=George Pierce Park Community Recreation Center 55 Buford Hwy. Suwanee;X-APPLE-RADIUS=500;X-TITLE=55 Buford Hwy.:geo:-84.0616299,34.0606638
END:VEVENT
BEGIN:VEVENT
DTSTART;VALUE=DATE:20210202
DTEND;VALUE=DATE:20210203
DTSTAMP:20260422T185122
CREATED:20210127T164422Z
LAST-MODIFIED:20210127T164422Z
UID:10005613-1612224000-1612310399@www.atlantaparent.com
SUMMARY:Groundhog Day
DESCRIPTION:Enjoy a reading of “Mr. Groundhog Wants the Day Off\,” a scavenger hunt\, shadow science and a pop-up craft. Reservation required. $16.95; ages 11 months and younger\, free.
URL:https://www.atlantaparent.com/event/groundhog-day/
LOCATION:Children’s Museum of Atlanta\, 275 Centennial Olympic Park Dr. NW\, Atlanta\, GA
END:VEVENT
BEGIN:VEVENT
DTSTART;VALUE=DATE:20210130
DTEND;VALUE=DATE:20210131
DTSTAMP:20260422T185122
CREATED:20210102T151806Z
LAST-MODIFIED:20210120T184524Z
UID:10005006-1611964800-1612051199@www.atlantaparent.com
SUMMARY:Virtual: Bert's Big Adventure Your Space Resolution Race
DESCRIPTION:Walk\, run or ride a distance of 1-mile\, 5K or 10K to benefit Bert’s Big Adventure\, a nonprofit that provides children with chronic and terminal illnesses an all-expenses paid trip to Disney World. $25; free for children.
URL:https://www.atlantaparent.com/event/fourth-of-july-your-space-virtual-race/
ATTACH;FMTTYPE=image/jpeg:https://www.atlantaparent.com/wp-content/uploads/2020/06/berts-big-2-scaled-e1593176215936.jpg
END:VEVENT
BEGIN:VEVENT
DTSTART;VALUE=DATE:20210120
DTEND;VALUE=DATE:20210121
DTSTAMP:20260422T185122
CREATED:20210111T142736Z
LAST-MODIFIED:20210111T142736Z
UID:10005581-1611100800-1611187199@www.atlantaparent.com
SUMMARY:Virtual: Pearls and Pins Inauguration Read Aloud
DESCRIPTION:Join author Kesha Muhammad-Garrett for her read aloud of “If Kamala Can\,” so readers can get excited about the upcoming inauguration. Jan. 20\, 9 a.m.; 4 p.m. and 7:30 p.m. $5; signed copy of the book\, $22.99.
URL:https://www.atlantaparent.com/event/virtual-pearls-and-pins-inauguration-read-aloud/
END:VEVENT
BEGIN:VEVENT
DTSTART;TZID=UTC:20201231T100000
DTEND;TZID=UTC:20201231T110000
DTSTAMP:20260422T185122
CREATED:20200110T050033Z
LAST-MODIFIED:20200316T182231Z
UID:10002010-1609408800-1609412400@www.atlantaparent.com
SUMMARY:Grandma Snazzy's Storytime
DESCRIPTION:Due to cancellations to prevent the spread of coronavirus\, please verify event before you go. \nGrandma Snazzy reads every Mon.\, Thurs. and Fri. 10 a.m. Call before visiting to confirm she will be reading that day.
URL:https://www.atlantaparent.com/event/grandma-snazzys-storytime/2020-12-31/
LOCATION:Crabapple Kroger\, 12460 Crabapple Rd\, Ste. 301\, Alpharetta
GEO:34.0851933;-84.3572013
X-APPLE-STRUCTURED-LOCATION;VALUE=URI;X-ADDRESS=Crabapple Kroger 12460 Crabapple Rd Ste. 301 Alpharetta;X-APPLE-RADIUS=500;X-TITLE=12460 Crabapple Rd\, Ste. 301:geo:-84.3572013,34.0851933
END:VEVENT
BEGIN:VEVENT
DTSTART;TZID=America/New_York:20201231T090000
DTEND;TZID=America/New_York:20201231T160000
DTSTAMP:20260422T185122
CREATED:20201214T161003Z
LAST-MODIFIED:20201214T161003Z
UID:10005576-1609405200-1609430400@www.atlantaparent.com
SUMMARY:New Year's Eve at Kefi
DESCRIPTION:Ring in 2021 with play\, dance and a New Year’s countdown. Reservations required. $20. \n\n9-11 a.m.: Kids ages 6 and younger\n11:30 a.m.-1:30 p.m.: Kids ages 6 and younger\n2-4 p.m.: Kids 6 and older
URL:https://www.atlantaparent.com/event/new-years-eve-at-kefi/
LOCATION:Kefi\, 3637 Peachtree Rd NE\, Atlanta
GEO:33.852971;-84.358742
X-APPLE-STRUCTURED-LOCATION;VALUE=URI;X-ADDRESS=Kefi 3637 Peachtree Rd NE Atlanta;X-APPLE-RADIUS=500;X-TITLE=3637 Peachtree Rd NE:geo:-84.358742,33.852971
END:VEVENT
BEGIN:VEVENT
DTSTART;TZID=America/New_York:20201221T100000
DTEND;TZID=America/New_York:20201221T120000
DTSTAMP:20260422T185122
CREATED:20201020T021750Z
LAST-MODIFIED:20201027T141346Z
UID:10004651-1608544800-1608552000@www.atlantaparent.com
SUMMARY:Cookies with Mrs. Claus
DESCRIPTION:Help Mrs. Claus decorate cookies\, listen to holiday stories\, and write letters to Santa. A very special postman will pick up Santa’s letters. For ages 4 and older. Dec. 19 and 21\, 10 a.m. and noon. Reservations required. $10.
URL:https://www.atlantaparent.com/event/cookies-with-mrs-claus/2020-12-21/
LOCATION:Barrington Hall\, 535 Barrington Drive \, Roswell
GEO:34.0133208;-84.3636171
X-APPLE-STRUCTURED-LOCATION;VALUE=URI;X-ADDRESS=Barrington Hall 535 Barrington Drive  Roswell;X-APPLE-RADIUS=500;X-TITLE=535 Barrington Drive:geo:-84.3636171,34.0133208
END:VEVENT
BEGIN:VEVENT
DTSTART;TZID=America/New_York:20201220T180000
DTEND;TZID=America/New_York:20201220T180000
DTSTAMP:20260422T185122
CREATED:20201208T164226Z
LAST-MODIFIED:20201208T164226Z
UID:10005567-1608487200-1608487200@www.atlantaparent.com
SUMMARY:Virtual: The Bert Show Holiday Live Stream Benefitting Bert's Big Adventure
DESCRIPTION:View a special reading of “The Elf on the Shelf\,” a cookie baking demonstration\, a reading of “The Polar Express\,” visit with Santa and more. Dec. 20\, 6 p.m.
URL:https://www.atlantaparent.com/event/virtual-the-bert-show-holiday-live-stream-benefitting-berts-big-adventure/
END:VEVENT
END:VCALENDAR