BEGIN:VCALENDAR
VERSION:2.0
PRODID:-//NEW Atlanta Parent - ECPv6.15.11//NONSGML v1.0//EN
CALSCALE:GREGORIAN
METHOD:PUBLISH
X-ORIGINAL-URL:https://www.atlantaparent.com
X-WR-CALDESC:Events for NEW Atlanta Parent
REFRESH-INTERVAL;VALUE=DURATION:PT1H
X-Robots-Tag:noindex
X-PUBLISHED-TTL:PT1H
BEGIN:VTIMEZONE
TZID:America/New_York
BEGIN:DAYLIGHT
TZOFFSETFROM:-0500
TZOFFSETTO:-0400
TZNAME:EDT
DTSTART:20190310T070000
END:DAYLIGHT
BEGIN:STANDARD
TZOFFSETFROM:-0400
TZOFFSETTO:-0500
TZNAME:EST
DTSTART:20191103T060000
END:STANDARD
BEGIN:DAYLIGHT
TZOFFSETFROM:-0500
TZOFFSETTO:-0400
TZNAME:EDT
DTSTART:20200308T070000
END:DAYLIGHT
BEGIN:STANDARD
TZOFFSETFROM:-0400
TZOFFSETTO:-0500
TZNAME:EST
DTSTART:20201101T060000
END:STANDARD
BEGIN:DAYLIGHT
TZOFFSETFROM:-0500
TZOFFSETTO:-0400
TZNAME:EDT
DTSTART:20210314T070000
END:DAYLIGHT
BEGIN:STANDARD
TZOFFSETFROM:-0400
TZOFFSETTO:-0500
TZNAME:EST
DTSTART:20211107T060000
END:STANDARD
BEGIN:DAYLIGHT
TZOFFSETFROM:-0500
TZOFFSETTO:-0400
TZNAME:EDT
DTSTART:20220313T070000
END:DAYLIGHT
BEGIN:STANDARD
TZOFFSETFROM:-0400
TZOFFSETTO:-0500
TZNAME:EST
DTSTART:20221106T060000
END:STANDARD
END:VTIMEZONE
BEGIN:VEVENT
DTSTART;VALUE=DATE:20201006
DTEND;VALUE=DATE:20201102
DTSTAMP:20260423T145531
CREATED:20200915T131713Z
LAST-MODIFIED:20200915T131713Z
UID:10005377-1601942400-1604275199@www.atlantaparent.com
SUMMARY:Logan Farm Pumpkin Patch Art Contest
DESCRIPTION:Celebrate the fall season by visiting Logan Farm Park to see all the wooden pumpkins created by Acworth families and local businesses\, which will be on display Oct. 6-Nov. 1. Children are invited to participate in the Logan Farm Pumpkin Patch Scavenger Hunt to win fun prizes. Scavenger hunt cards will be available for pick up at the Acworth Community Center or for digital download.
URL:https://www.atlantaparent.com/event/logan-farm-pumpkin-patch-art-contest/
LOCATION:Logan Farm Park\, 4405 Cherokee St.\, Acworth
END:VEVENT
BEGIN:VEVENT
DTSTART;VALUE=DATE:20201005
DTEND;VALUE=DATE:20201107
DTSTAMP:20260423T145531
CREATED:20200915T130558Z
LAST-MODIFIED:20200915T155522Z
UID:10005378-1601856000-1604707199@www.atlantaparent.com
SUMMARY:Acworth Scarecrow Parade
DESCRIPTION:See downtown Acworth decorated for the fall season with themed “Totally 80s” scarecrows.
URL:https://www.atlantaparent.com/event/acworth-scarecrow-parade/
LOCATION:Downtown Acworth\, 4415 Senator Russell Blvd.\, Acworth
ATTACH;FMTTYPE=image/jpeg:https://www.atlantaparent.com/wp-content/uploads/2020/09/VanGogh.jpg
GEO:34.0659329;-84.6768796
X-APPLE-STRUCTURED-LOCATION;VALUE=URI;X-ADDRESS=Downtown Acworth 4415 Senator Russell Blvd. Acworth;X-APPLE-RADIUS=500;X-TITLE=4415 Senator Russell Blvd.:geo:-84.6768796,34.0659329
END:VEVENT
BEGIN:VEVENT
DTSTART;VALUE=DATE:20201003
DTEND;VALUE=DATE:20210104
DTSTAMP:20260423T145531
CREATED:20200826T202540Z
LAST-MODIFIED:20201005T113820Z
UID:10005357-1601683200-1609718399@www.atlantaparent.com
SUMMARY:Amazing Animals: Built to Survive at Fernbank Museum of Natural History
DESCRIPTION:Discover the innovations of animals’ evolution with highly interactive\, hands-on and fun activities\, which bring the amazing science of biomechanics to life. $20; ages 3-12\, $18; ages 2 and younger\, free.
URL:https://www.atlantaparent.com/event/amazing-animals-built-to-survive/
LOCATION:Fernbank Museum of Natural History\, 767 Clifton Road\, Atlanta
ATTACH;FMTTYPE=image/jpeg:https://www.atlantaparent.com/wp-content/uploads/2020/08/17.-GN91948_943d-scaled.jpg
GEO:33.7739167;-84.3277484
X-APPLE-STRUCTURED-LOCATION;VALUE=URI;X-ADDRESS=Fernbank Museum of Natural History 767 Clifton Road Atlanta;X-APPLE-RADIUS=500;X-TITLE=767 Clifton Road:geo:-84.3277484,33.7739167
END:VEVENT
BEGIN:VEVENT
DTSTART;VALUE=DATE:20201002
DTEND;VALUE=DATE:20201005
DTSTAMP:20260423T145531
CREATED:20200825T170514Z
LAST-MODIFIED:20200928T123711Z
UID:10005386-1601596800-1601855999@www.atlantaparent.com
SUMMARY:The Taste of the Fair
DESCRIPTION:Get your favorite fair foods\, including corn dogs\, caramel apples\, funnel cakes\, deep fried Oreos and more\, from the North Georgia State Fair at this drive-thru event. Donate 7 non-perishable canned goods to MUST Ministries to receive a free ticket to the 2021 North Georgia State Fair. Sept. 25-27 and Oct. 2-4. Fri. 4-8 p.m. Sat.-Sun. noon-8 p.m.
URL:https://www.atlantaparent.com/event/the-taste-of-the-fair/
LOCATION:Jim R. Miller Park\, 2245 Callaway Rd. SW\, Marietta
END:VEVENT
BEGIN:VEVENT
DTSTART;VALUE=DATE:20201002
DTEND;VALUE=DATE:20201004
DTSTAMP:20260423T145531
CREATED:20200918T135142Z
LAST-MODIFIED:20200918T140809Z
UID:10005441-1601596800-1601769599@www.atlantaparent.com
SUMMARY:Music in the Meadow at Serenbe
DESCRIPTION:From the Atlanta Symphony Orchestra\, enjoy an outdoor concert series at Serenbe. $39+. \nOct. 2\, 7:30 p.m. – Classical Mystery Tour: A Tribute to The Beatles\nOct. 3\, 7:30 p.m. – Opera’s Greatest Hits
URL:https://www.atlantaparent.com/event/music-in-the-meadow-at-serenbe/
LOCATION:Wildflower Meadow at Serenbe\, 10690 Hutchesons Ferry Rd.\, Palmetto
GEO:33.5298371;-84.7379957
X-APPLE-STRUCTURED-LOCATION;VALUE=URI;X-ADDRESS=Wildflower Meadow at Serenbe 10690 Hutchesons Ferry Rd. Palmetto;X-APPLE-RADIUS=500;X-TITLE=10690 Hutchesons Ferry Rd.:geo:-84.7379957,33.5298371
END:VEVENT
BEGIN:VEVENT
DTSTART;VALUE=DATE:20201001
DTEND;VALUE=DATE:20201101
DTSTAMP:20260423T145531
CREATED:20200828T181436Z
LAST-MODIFIED:20200828T181436Z
UID:10005363-1601510400-1604188799@www.atlantaparent.com
SUMMARY:Hartwell Scarecrow Bash
DESCRIPTION:Wander through downtown to see these decorative scarecrows.
URL:https://www.atlantaparent.com/event/hartwell-scarecrow-bash/
LOCATION:Downtown Hartwell\, Main St.\, Hartwell
GEO:34.3528825;-82.932087
X-APPLE-STRUCTURED-LOCATION;VALUE=URI;X-ADDRESS=Downtown Hartwell Main St. Hartwell;X-APPLE-RADIUS=500;X-TITLE=Main St.:geo:-82.932087,34.3528825
END:VEVENT
BEGIN:VEVENT
DTSTART;TZID=America/New_York:20200926T190000
DTEND;TZID=America/New_York:20200926T190000
DTSTAMP:20260423T145531
CREATED:20200724T171821Z
LAST-MODIFIED:20200825T170030Z
UID:10002922-1601146800-1601146800@www.atlantaparent.com
SUMMARY:Virtual: September Saturdays Festival
DESCRIPTION:Each show will have a specific theme and consist of multiple interviews\, music performances and special guests. Sept. 5 – First Responders Day\, Sept. 12 – Community Day\, Sept. 19 – Healthcare Workers Day\, and Sept. 26 – Armed Forces Day.
URL:https://www.atlantaparent.com/event/september-saturdays-festival/2020-09-26/
END:VEVENT
BEGIN:VEVENT
DTSTART;TZID=America/New_York:20200926T170000
DTEND;TZID=America/New_York:20200926T170000
DTSTAMP:20260423T145532
CREATED:20200722T204728Z
LAST-MODIFIED:20200722T204856Z
UID:10005341-1601139600-1601139600@www.atlantaparent.com
SUMMARY:Outdoor Movie Series
DESCRIPTION:Watch movies on a giant inflatable screen after sundown. Concessions will be available for purchase. Free; registration required.\n\n\nJuly 25 – “Elf”\nAug. 8 – “Frozen II”\nSept. 26 – “Sonic the Hedgehog”
URL:https://www.atlantaparent.com/event/outdoor-movie-series-2/2020-09-26/
LOCATION: Swift-Cantrell Park\, 3140 Old 41 Highway\, Kennesaw
GEO:34.0312628;-84.6334876
X-APPLE-STRUCTURED-LOCATION;VALUE=URI;X-ADDRESS= Swift-Cantrell Park 3140 Old 41 Highway Kennesaw;X-APPLE-RADIUS=500;X-TITLE=3140 Old 41 Highway:geo:-84.6334876,34.0312628
END:VEVENT
BEGIN:VEVENT
DTSTART;TZID=America/New_York:20200925T193000
DTEND;TZID=America/New_York:20200925T193000
DTSTAMP:20260423T145532
CREATED:20200805T155025Z
LAST-MODIFIED:20200805T155025Z
UID:10005280-1601062200-1601062200@www.atlantaparent.com
SUMMARY:Drive In Movie
DESCRIPTION:Pack your snacks and treats and head to North Cooper Lake Park for a drive in movie. Free; registration required. \nAug. 7\, 8:30-11 p.m. – “Charlie and the Chocolate Factory”\nSept. 25\, 7:30-10 p.m. – “Abominable”
URL:https://www.atlantaparent.com/event/drive-in-movie/2020-09-25/
LOCATION:North Cooper Lake Park\, 4201 Cooper Lake Rd\, Smyrna\, GA\, 30082
GEO:33.8517166;-84.5390347
X-APPLE-STRUCTURED-LOCATION;VALUE=URI;X-ADDRESS=North Cooper Lake Park 4201 Cooper Lake Rd Smyrna GA 30082;X-APPLE-RADIUS=500;X-TITLE=4201 Cooper Lake Rd:geo:-84.5390347,33.8517166
END:VEVENT
BEGIN:VEVENT
DTSTART;TZID=America/New_York:20200925T183000
DTEND;TZID=America/New_York:20200925T183000
DTSTAMP:20260423T145532
CREATED:20200915T160612Z
LAST-MODIFIED:20200915T160612Z
UID:10005432-1601058600-1601058600@www.atlantaparent.com
SUMMARY:Quarterback to the Future
DESCRIPTION:Enjoy an outdoor screening of “Back to the Future.” Gates will open at 6:30 p.m.; movie starts at sundown. Free; registration required.
URL:https://www.atlantaparent.com/event/quarterback-to-the-future/
LOCATION:Acworth Sports Complex\, 4000 South Main St.\, Acworth\, GA\, United States
GEO:34.0507056;-84.6603581
X-APPLE-STRUCTURED-LOCATION;VALUE=URI;X-ADDRESS=Acworth Sports Complex 4000 South Main St. Acworth GA United States;X-APPLE-RADIUS=500;X-TITLE=4000 South Main St.:geo:-84.6603581,34.0507056
END:VEVENT
BEGIN:VEVENT
DTSTART;VALUE=DATE:20200925
DTEND;VALUE=DATE:20201005
DTSTAMP:20260423T145532
CREATED:20200826T124105Z
LAST-MODIFIED:20200831T133450Z
UID:10005344-1600992000-1601855999@www.atlantaparent.com
SUMMARY:Virtual: Barbara's Blue Kitchen
DESCRIPTION:Presented by Aurora Theatre\, this comedic musical focuses on the owner of a diner in Nashville and small town southern life. Recommended for ages 14 and older. $30.
URL:https://www.atlantaparent.com/event/virtual-barbaras-blue-kitchen/
END:VEVENT
BEGIN:VEVENT
DTSTART;TZID=America/New_York:20200924T120000
DTEND;TZID=America/New_York:20200924T130000
DTSTAMP:20260423T145532
CREATED:20200826T140144Z
LAST-MODIFIED:20200826T140144Z
UID:10005354-1600948800-1600952400@www.atlantaparent.com
SUMMARY:Brown Bag Concert Series
DESCRIPTION:Each Thursday\, see a new performer at these afternoon concerts. \nSept. 3 – Dani McLean\nSept. 10 – Mark Miller\nSept. 17 – David Keenum\nSept. 24 – Mr. Jason
URL:https://www.atlantaparent.com/event/brown-bag-concert-series/2020-09-24/
LOCATION:The Park at City Center\, 101 Arnold Mill Rd.\, Woodstock
END:VEVENT
BEGIN:VEVENT
DTSTART;TZID=America/New_York:20200924T100000
DTEND;TZID=America/New_York:20200924T100000
DTSTAMP:20260423T145532
CREATED:20200720T155737Z
LAST-MODIFIED:20200910T132436Z
UID:10005126-1600941600-1600941600@www.atlantaparent.com
SUMMARY:CMA Town Square: Let’s Talk About…
DESCRIPTION:Presented by the Children’s Museum of Atlanta\, watch various segments to help families and educators learn how to discuss issues and have deeper conversations. Watch past episodes on Children’s Museum of Atlanta’s YouTube. Free. \nAug. 27 – Dr. William M. Linam Discusses COVID & Kid’s Health\nSept. 10 – Dr. Caitlin Dooley Discusses Becoming a Digital Citizen\nSept. 17 – Meghan Welch Discusses Virtual Learning & Concerns About Screen Time\nSept. 24 – Bridget Ratajczk Discusses Navigating Early Learning During COVID
URL:https://www.atlantaparent.com/event/cma-town-square-lets-talk-about/2020-09-24/
END:VEVENT
BEGIN:VEVENT
DTSTART;TZID=America/New_York:20200920T190000
DTEND;TZID=America/New_York:20200920T203000
DTSTAMP:20260423T145532
CREATED:20200826T143029Z
LAST-MODIFIED:20200826T143029Z
UID:10005346-1600628400-1600633800@www.atlantaparent.com
SUMMARY:Sunday Pops!: Sounds of the American Road
DESCRIPTION:Hear the Atlanta Pops Orchestra Ensemble and guest singer Katie Deal journey through the American musical landscapes from jazz to blues to Broadway. $30.
URL:https://www.atlantaparent.com/event/sunday-pops-sounds-of-the-american-road/
LOCATION:Roswell Cultural Arts Center\, 950 Forrest St.\, Roswell
GEO:34.0234904;-84.3578365
X-APPLE-STRUCTURED-LOCATION;VALUE=URI;X-ADDRESS=Roswell Cultural Arts Center 950 Forrest St. Roswell;X-APPLE-RADIUS=500;X-TITLE=950 Forrest St.:geo:-84.3578365,34.0234904
END:VEVENT
BEGIN:VEVENT
DTSTART;TZID=America/New_York:20200919T100000
DTEND;TZID=America/New_York:20200919T180000
DTSTAMP:20260423T145532
CREATED:20200908T132641Z
LAST-MODIFIED:20200914T200408Z
UID:10005366-1600509600-1600538400@www.atlantaparent.com
SUMMARY:Count The Point 2020 Census Chalk Art Festival
DESCRIPTION:This festival features chalk art\, food trucks\, vendors and more\, while giving participants the opportunity to respond to the 2020 census. Sign up for your square ahead of time. Free admission.
URL:https://www.atlantaparent.com/event/count-the-point-2020-census-chalk-art-festival/
LOCATION:John D. Milner Park\, 3009 Randall St.\, East Point\, GA\, 30344
ATTACH;FMTTYPE=image/jpeg:https://www.atlantaparent.com/wp-content/uploads/2020/09/IMG_0002-scaled.jpg
GEO:33.6732074;-84.4353186
X-APPLE-STRUCTURED-LOCATION;VALUE=URI;X-ADDRESS=John D. Milner Park 3009 Randall St. East Point GA 30344;X-APPLE-RADIUS=500;X-TITLE=3009 Randall St.:geo:-84.4353186,33.6732074
END:VEVENT
BEGIN:VEVENT
DTSTART;TZID=America/New_York:20200918T200000
DTEND;TZID=America/New_York:20200918T220000
DTSTAMP:20260423T145532
CREATED:20200826T135111Z
LAST-MODIFIED:20200826T135111Z
UID:10005400-1600459200-1600466400@www.atlantaparent.com
SUMMARY:Drive-In Movie Night
DESCRIPTION:Watch “Jumanji: The Next Level\,” and purchase food and concessions from onsite food trucks. Sept. 18\, 8-10 p.m. Free; registration required.
URL:https://www.atlantaparent.com/event/drive-in-movie-night/
LOCATION:Depot District\, 394 N. Clayton St.\, Lawrenceville\, GA\, 30046
GEO:33.9601116;-83.9879011
X-APPLE-STRUCTURED-LOCATION;VALUE=URI;X-ADDRESS=Depot District 394 N. Clayton St. Lawrenceville GA 30046;X-APPLE-RADIUS=500;X-TITLE=394 N. Clayton St.:geo:-83.9879011,33.9601116
END:VEVENT
BEGIN:VEVENT
DTSTART;TZID=America/New_York:20200918T170000
DTEND;TZID=America/New_York:20200918T220000
DTSTAMP:20260423T145532
CREATED:20200825T203441Z
LAST-MODIFIED:20200825T203441Z
UID:10005335-1600448400-1600466400@www.atlantaparent.com
SUMMARY:Friday Night Flicks
DESCRIPTION:Enjoy a throwback night of 90s entertainment with “Jurassic Park” on the giant inflatable screen. Concessions available for purchase. Registration required. Sept. 18\, 5-10 p.m. Free admission.
URL:https://www.atlantaparent.com/event/friday-night-flicks/
LOCATION: Swift-Cantrell Park\, 3140 Old 41 Highway\, Kennesaw
GEO:34.0312628;-84.6334876
X-APPLE-STRUCTURED-LOCATION;VALUE=URI;X-ADDRESS= Swift-Cantrell Park 3140 Old 41 Highway Kennesaw;X-APPLE-RADIUS=500;X-TITLE=3140 Old 41 Highway:geo:-84.6334876,34.0312628
END:VEVENT
BEGIN:VEVENT
DTSTART;VALUE=DATE:20200918
DTEND;VALUE=DATE:20200919
DTSTAMP:20260423T145532
CREATED:20200826T133519Z
LAST-MODIFIED:20200921T131400Z
UID:10005342-1600387200-1600473599@www.atlantaparent.com
SUMMARY:Atlanta ’96: Shaping an Olympic and Paralympic City
DESCRIPTION:Kenan Research Center at Atlanta History Center \nOn September 18\, 1990\, Atlanta was named the host of the Centennial Olympic Games\, recognizing the city’s growing importance on the international stage and the efforts of residents who worked to bring the games to Atlanta. The exhibition explores the legacy of the games with iconic and unexpected objects\, archival materials\, images and interactive experiences. Reservation required: $23.41; ages 13-18\, $19.60; ages 4-12\, $9.80; ages 3 and younger\, free.
URL:https://www.atlantaparent.com/event/atlanta-96-shaping-an-olympic-and-paralympic-city/
LOCATION:Atlanta History Center\, 130 W. Paces Ferry Rd.\, Atlanta\, GA
ATTACH;FMTTYPE=image/jpeg:https://www.atlantaparent.com/wp-content/uploads/2020/08/Atlanta96_Athletes_Johnson_AHC-scaled-e1598454978233.jpg
GEO:33.8413097;-84.3857926
X-APPLE-STRUCTURED-LOCATION;VALUE=URI;X-ADDRESS=Atlanta History Center 130 W. Paces Ferry Rd. Atlanta GA;X-APPLE-RADIUS=500;X-TITLE=130 W. Paces Ferry Rd.:geo:-84.3857926,33.8413097
END:VEVENT
BEGIN:VEVENT
DTSTART;TZID=America/New_York:20200913T120000
DTEND;TZID=America/New_York:20200913T190000
DTSTAMP:20260423T145532
CREATED:20200825T201526Z
LAST-MODIFIED:20200825T201526Z
UID:10005336-1599998400-1600023600@www.atlantaparent.com
SUMMARY:Grandparent’s Day Special
DESCRIPTION:Grandparents can get in free to enjoy programs\, trails\, the Wildlife Walk and more. Reservation required. Sept. 13\, noon-7 p.m. $10; ages 13-18\, $7; ages 3-12\, $6; ages 2 and younger\, free. chattnaturecenter.org
URL:https://www.atlantaparent.com/event/grandparents-day-special/
LOCATION:Chattahoochee Nature Center\, 9135 Willeo Road\, Roswell
GEO:34.0038514;-84.38312
X-APPLE-STRUCTURED-LOCATION;VALUE=URI;X-ADDRESS=Chattahoochee Nature Center 9135 Willeo Road Roswell;X-APPLE-RADIUS=500;X-TITLE=9135 Willeo Road:geo:-84.38312,34.0038514
END:VEVENT
BEGIN:VEVENT
DTSTART;VALUE=DATE:20200913
DTEND;VALUE=DATE:20200914
DTSTAMP:20260423T145532
CREATED:20200305T050030Z
LAST-MODIFIED:20200317T013840Z
UID:10004098-1599955200-1600041599@www.atlantaparent.com
SUMMARY:Indie Green Festival
DESCRIPTION:Due to cancellations to prevent the spread of coronavirus\, please verify event before you go. \nLearn about eco-friendly lifestyles\, discover vegan and plant-based cuisine\, shop vegan fashion and more. \nPOSTPONED: Roswell: March 21\, 11 a.m.-6 p.m.; 1340 Woodstock Rd.\, Roswell\nYMCA: April 4-5\, 2220 Campbellton Rd. SW\, Atlanta\nNorcross: July 25-26\, Lillian Webb Park\nEast Point: Sept. 12-13\, 2757 E. Point St.\, Atlanta. 404-271-6369
URL:https://www.atlantaparent.com/event/indie-green-festival/2020-09-13/
END:VEVENT
BEGIN:VEVENT
DTSTART;TZID=America/New_York:20200912T130000
DTEND;TZID=America/New_York:20200912T150000
DTSTAMP:20260423T145532
CREATED:20200825T200909Z
LAST-MODIFIED:20200825T200909Z
UID:10005337-1599915600-1599922800@www.atlantaparent.com
SUMMARY:Mother/Son Extreme Fun
DESCRIPTION:Moms and sons will work together to complete minute-to-win-it tasks\, obstacle courses\, challenges and more. For ages 7-13. Sept. 12\, 1-3 p.m. $12; non-residents\, $18.
URL:https://www.atlantaparent.com/event/mother-son-extreme-fun/
LOCATION:Alpharetta Community Center\, 175 Roswell St.\, Alpharetta
END:VEVENT
BEGIN:VEVENT
DTSTART;TZID=America/New_York:20200912T110000
DTEND;TZID=America/New_York:20200912T120000
DTSTAMP:20260423T145532
CREATED:20200901T202107Z
LAST-MODIFIED:20200901T202107Z
UID:10005420-1599908400-1599912000@www.atlantaparent.com
SUMMARY:Saturday Morning Workshops: Theatre Masks
DESCRIPTION:As part of a select Saturday morning series\, engage in hands-on creativity to explore masks in performances and throughout history. Registration required. $5.
URL:https://www.atlantaparent.com/event/saturday-morning-workshops-theatre-masks/
LOCATION:Roswell Cultural Arts Center\, 950 Forrest St.\, Roswell
GEO:34.0234904;-84.3578365
X-APPLE-STRUCTURED-LOCATION;VALUE=URI;X-ADDRESS=Roswell Cultural Arts Center 950 Forrest St. Roswell;X-APPLE-RADIUS=500;X-TITLE=950 Forrest St.:geo:-84.3578365,34.0234904
END:VEVENT
BEGIN:VEVENT
DTSTART;TZID=America/New_York:20200912T100000
DTEND;TZID=America/New_York:20200912T140000
DTSTAMP:20260423T145532
CREATED:20200827T202514Z
LAST-MODIFIED:20200827T202514Z
UID:10005364-1599904800-1599919200@www.atlantaparent.com
SUMMARY:Back-to-School Jamboree
DESCRIPTION:Hosted by Hosea Helps\, children can receive school supplies\, produce boxes\, toiletry items\, PPE supplies and more at this drive-thru experience. Pre-register online. Sept. 12\, 10 a.m.-2 p.m.
URL:https://www.atlantaparent.com/event/back-to-school-jamboree/
LOCATION:Georgia International Convention Center\, 2000 Convention Center Concourse\, College Park\, GA\, 30337
GEO:33.6456339;-84.4576299
X-APPLE-STRUCTURED-LOCATION;VALUE=URI;X-ADDRESS=Georgia International Convention Center 2000 Convention Center Concourse College Park GA 30337;X-APPLE-RADIUS=500;X-TITLE=2000 Convention Center Concourse:geo:-84.4576299,33.6456339
END:VEVENT
BEGIN:VEVENT
DTSTART;TZID=America/New_York:20200912T100000
DTEND;TZID=America/New_York:20200912T130000
DTSTAMP:20260423T145532
CREATED:20200825T205144Z
LAST-MODIFIED:20200825T205144Z
UID:10005395-1599904800-1599915600@www.atlantaparent.com
SUMMARY:STEAM Day
DESCRIPTION:Participate in an exciting day of discoveries in science\, technology\, engineering\, art and math with immersive experiences. Reservation required. Sept. 12\, 10 a.m.-1 p.m. $20; ages 3-12\, $18; ages 2 and younger\, free.
URL:https://www.atlantaparent.com/event/steam-day/
LOCATION:Fernbank Museum of Natural History\, 767 Clifton Road\, Atlanta
GEO:33.7739167;-84.3277484
X-APPLE-STRUCTURED-LOCATION;VALUE=URI;X-ADDRESS=Fernbank Museum of Natural History 767 Clifton Road Atlanta;X-APPLE-RADIUS=500;X-TITLE=767 Clifton Road:geo:-84.3277484,33.7739167
END:VEVENT
BEGIN:VEVENT
DTSTART;VALUE=DATE:20200912
DTEND;VALUE=DATE:20201013
DTSTAMP:20260423T145532
CREATED:20200805T144331Z
LAST-MODIFIED:20200805T144331Z
UID:10005281-1599868800-1602547199@www.atlantaparent.com
SUMMARY:Virtual Canines-N-Kids’ Two by Four Race
DESCRIPTION:Walk\, run or jog a mile to raise funds to support research in cancers that kids and pet dogs both develop\, and win prizes and medals. Participate from anywhere with this virtual format. $25.
URL:https://www.atlantaparent.com/event/virtual-canines-n-kids-two-by-four-race/
ATTACH;FMTTYPE=image/jpeg:https://www.atlantaparent.com/wp-content/uploads/2020/08/CNKdogRun-credit-FuzzyPantsPhotographySMALLER-e1596638589291.jpg
END:VEVENT
BEGIN:VEVENT
DTSTART;VALUE=DATE:20200909
DTEND;VALUE=DATE:20200921
DTSTAMP:20260423T145532
CREATED:20200825T195613Z
LAST-MODIFIED:20200914T131700Z
UID:10005317-1599609600-1600646399@www.atlantaparent.com
SUMMARY:Jack and the Beanstalk
DESCRIPTION:Presented by the Center for Puppetry Arts\, Jack must find a giant to help him solve a problem. Includes a downloadable puppet packet and tutorial to create your own. Sept. 9-20. Wed.-Fri. 11 a.m. Sat.-Sun. 1 p.m. $11.
URL:https://www.atlantaparent.com/event/jack-and-the-beanstalk/
ATTACH;FMTTYPE=image/jpeg:https://www.atlantaparent.com/wp-content/uploads/2020/08/Jack-and-the-Beanstalk-Photo-by-RICHARD-PARSONS.jpg
END:VEVENT
BEGIN:VEVENT
DTSTART;TZID=America/New_York:20200902T190000
DTEND;TZID=America/New_York:20200902T190000
DTSTAMP:20260423T145532
CREATED:20200720T163616Z
LAST-MODIFIED:20200826T153731Z
UID:10005131-1599073200-1599073200@www.atlantaparent.com
SUMMARY:Summer Yoga in the Lawrenceville Square
DESCRIPTION:Hosted by Performance Power Yoga\, work outdoors in these 60-minute classes. Aug. 27 and Sept. 2\, 7-8 p.m. Free; registration required.
URL:https://www.atlantaparent.com/event/summer-yoga-in-the-lawrenceville-square/2020-09-02/
LOCATION:Bicentennial Plaza\, 275 S. Perry St.\, Lawrenceville\, GA
GEO:33.9546548;-83.989017
X-APPLE-STRUCTURED-LOCATION;VALUE=URI;X-ADDRESS=Bicentennial Plaza 275 S. Perry St. Lawrenceville GA;X-APPLE-RADIUS=500;X-TITLE=275 S. Perry St.:geo:-83.989017,33.9546548
END:VEVENT
BEGIN:VEVENT
DTSTART;VALUE=DATE:20200901
DTEND;VALUE=DATE:20201001
DTSTAMP:20260423T145532
CREATED:20200826T152629Z
LAST-MODIFIED:20200826T152629Z
UID:10005405-1598918400-1601510399@www.atlantaparent.com
SUMMARY:Live Healthy Gwinnett: Yoga in the Park
DESCRIPTION:This series is available all-month long to help you connect with nature and experience the health benefits of yoga and meditation. Free. \nSundays\, 7-8 a.m. at Vines Park\, Loganville\nTuesdays\, 6:30-7:30 p.m. at Duncan Creek Park\, Dacula\nWednesdays\, 6:30-7:30 p.m. at George Pierce Park\, Suwanee\nThursdays\, 6:30-7:30 p.m. at Club Drive Park\, Lawrenceville\nSaturdays\, 7-8 a.m. at Lenora Park Community Garden\, Snellville; 7:30-8:30 a.m. at Little Mulberry Park\, Dacula\nSept. 12\, 9-10 a.m. at Isaac Adair House\, Lawrenceville\nSept. 15 and 22\, 6:30-7:30 p.m. at E.E. Robinson Park\, Sugar Hill
URL:https://www.atlantaparent.com/event/live-healthy-gwinnett-yoga-in-the-park/
LOCATION:Live Healthy Gwinnett\, 75 Langley Dr.\, Lawrenceville
GEO:33.9520561;-83.9931291
X-APPLE-STRUCTURED-LOCATION;VALUE=URI;X-ADDRESS=Live Healthy Gwinnett 75 Langley Dr. Lawrenceville;X-APPLE-RADIUS=500;X-TITLE=75 Langley Dr.:geo:-83.9931291,33.9520561
END:VEVENT
BEGIN:VEVENT
DTSTART;VALUE=DATE:20200901
DTEND;VALUE=DATE:20201001
DTSTAMP:20260423T145532
CREATED:20200720T161502Z
LAST-MODIFIED:20200826T155934Z
UID:10005117-1598918400-1601510399@www.atlantaparent.com
SUMMARY:Virtual: Level3 Yoga
DESCRIPTION:Classes are held on IG Live. Donation-based. \nTuesdays\, noon: Introduction to Meditation\nWednesdays\, noon: Yoga for Beginners\nThursdays\, noon: Trap Yoga\nFridays\, 8 p.m.: Twerk Yoga\nSundays\, 7 p.m.: Stretch + Soundbath\nStarting Sept. 12 at noon: Yoga for Begineers 4-Week Series; registration required
URL:https://www.atlantaparent.com/event/level3-yoga/
END:VEVENT
BEGIN:VEVENT
DTSTART;VALUE=DATE:20200831
DTEND;VALUE=DATE:20200903
DTSTAMP:20260423T145532
CREATED:20200618T130040Z
LAST-MODIFIED:20200831T200558Z
UID:10004997-1598832000-1599091199@www.atlantaparent.com
SUMMARY:Virtual: Elm Stream: The Arts Come to You
DESCRIPTION:Jillian Melko \nStorytimes\, interviews\, how-to’s and more with community members\, actors and Lantern Series artists. \nAug. 31\, 11:30 a.m.: How to Audition with Amanda Lynne; 7 p.m.: Interview with Artist Harmony Reid \nSept. 1\, 11:30 a.m.: Tea Tuesday with Elm Street’s Brian and Justin \nSept. 2\, 11:30 a.m.: Interview with Visual Artist Betsy Khuri
URL:https://www.atlantaparent.com/event/elm-stream-the-arts-come-to-you/
ATTACH;FMTTYPE=image/jpeg:https://www.atlantaparent.com/wp-content/uploads/2020/06/Decision-Height-Archival-Jillian-Melko-scaled-e1594647280813.jpg
END:VEVENT
END:VCALENDAR