BEGIN:VCALENDAR
VERSION:2.0
PRODID:-//NEW Atlanta Parent - ECPv6.15.11//NONSGML v1.0//EN
CALSCALE:GREGORIAN
METHOD:PUBLISH
X-ORIGINAL-URL:https://www.atlantaparent.com
X-WR-CALDESC:Events for NEW Atlanta Parent
REFRESH-INTERVAL;VALUE=DURATION:PT1H
X-Robots-Tag:noindex
X-PUBLISHED-TTL:PT1H
BEGIN:VTIMEZONE
TZID:America/New_York
BEGIN:DAYLIGHT
TZOFFSETFROM:-0500
TZOFFSETTO:-0400
TZNAME:EDT
DTSTART:20190310T070000
END:DAYLIGHT
BEGIN:STANDARD
TZOFFSETFROM:-0400
TZOFFSETTO:-0500
TZNAME:EST
DTSTART:20191103T060000
END:STANDARD
BEGIN:DAYLIGHT
TZOFFSETFROM:-0500
TZOFFSETTO:-0400
TZNAME:EDT
DTSTART:20200308T070000
END:DAYLIGHT
BEGIN:STANDARD
TZOFFSETFROM:-0400
TZOFFSETTO:-0500
TZNAME:EST
DTSTART:20201101T060000
END:STANDARD
BEGIN:DAYLIGHT
TZOFFSETFROM:-0500
TZOFFSETTO:-0400
TZNAME:EDT
DTSTART:20210314T070000
END:DAYLIGHT
BEGIN:STANDARD
TZOFFSETFROM:-0400
TZOFFSETTO:-0500
TZNAME:EST
DTSTART:20211107T060000
END:STANDARD
BEGIN:DAYLIGHT
TZOFFSETFROM:-0500
TZOFFSETTO:-0400
TZNAME:EDT
DTSTART:20220313T070000
END:DAYLIGHT
BEGIN:STANDARD
TZOFFSETFROM:-0400
TZOFFSETTO:-0500
TZNAME:EST
DTSTART:20221106T060000
END:STANDARD
END:VTIMEZONE
BEGIN:VEVENT
DTSTART;TZID=America/New_York:20201024T143000
DTEND;TZID=America/New_York:20201024T183000
DTSTAMP:20260423T130523
CREATED:20190924T172149Z
LAST-MODIFIED:20201013T171735Z
UID:10004543-1603549800-1603564200@www.atlantaparent.com
SUMMARY:Mega Awesome Costume Party
DESCRIPTION:Kids will enjoy an interactive show\, games\, prizes and more. For ages birth-11. Free; registration required.
URL:https://www.atlantaparent.com/event/mega-awesome-costume-party/
LOCATION:North Point Community Church\, 4350 North Point Pkwy.\, Alpharetta\, GA
END:VEVENT
BEGIN:VEVENT
DTSTART;TZID=America/New_York:20201024T130000
DTEND;TZID=America/New_York:20201024T180000
DTSTAMP:20260423T130523
CREATED:20200922T152837Z
LAST-MODIFIED:20200922T152837Z
UID:10005399-1603544400-1603562400@www.atlantaparent.com
SUMMARY:Haunted Village
DESCRIPTION:Walk through spooky Camp Daniel Morgan for a frightening tour featuring your favorite Halloween scarers. Registration required. Not recommended for ages 5 and younger. Tickets on sale Oct. 1: $10; parking\, $5.
URL:https://www.atlantaparent.com/event/haunted-village/
LOCATION:Hard Labor Creek State Park\, 5 Hard Labor Creek Rd.\,\, Rutledge
GEO:33.6638553;-83.6061542
X-APPLE-STRUCTURED-LOCATION;VALUE=URI;X-ADDRESS=Hard Labor Creek State Park 5 Hard Labor Creek Rd. Rutledge;X-APPLE-RADIUS=500;X-TITLE=5 Hard Labor Creek Rd.\,:geo:-83.6061542,33.6638553
END:VEVENT
BEGIN:VEVENT
DTSTART;TZID=America/New_York:20201024T110000
DTEND;TZID=America/New_York:20201024T130000
DTSTAMP:20260423T130523
CREATED:20201012T131700Z
LAST-MODIFIED:20201012T131700Z
UID:10005422-1603537200-1603544400@www.atlantaparent.com
SUMMARY:Trick or Treat at Buford Village
DESCRIPTION:Dress in costume to trick-or-treat with Buford Village merchants\, take photos in the fall photo booth\, meet Spiderman\, get your face painted\, make crafts and more. Please RSVP on the Facebook event page.
URL:https://www.atlantaparent.com/event/trick-or-treat-at-buford-village/
LOCATION:Buford Village\, 33 Buford Village Way.\, Buford
GEO:34.141768;-84.015189
X-APPLE-STRUCTURED-LOCATION;VALUE=URI;X-ADDRESS=Buford Village 33 Buford Village Way. Buford;X-APPLE-RADIUS=500;X-TITLE=33 Buford Village Way.:geo:-84.015189,34.141768
END:VEVENT
BEGIN:VEVENT
DTSTART;TZID=America/New_York:20201024T100000
DTEND;TZID=America/New_York:20201024T170000
DTSTAMP:20260423T130523
CREATED:20201021T131005Z
LAST-MODIFIED:20201021T131005Z
UID:10005445-1603533600-1603558800@www.atlantaparent.com
SUMMARY:Kids Costume & Pumpkin Decorating Contest
DESCRIPTION:Come dressed in your costume to take photos at the fall displays\, and vote for your favorite pumpkin.
URL:https://www.atlantaparent.com/event/kids-costume-pumpkin-decorating-contest/
LOCATION:Avenue East Cobb\, 4475 Roswell Rd.\, Marietta\, GA\, 30062
GEO:33.9880126;-84.4224366
X-APPLE-STRUCTURED-LOCATION;VALUE=URI;X-ADDRESS=Avenue East Cobb 4475 Roswell Rd. Marietta GA 30062;X-APPLE-RADIUS=500;X-TITLE=4475 Roswell Rd.:geo:-84.4224366,33.9880126
END:VEVENT
BEGIN:VEVENT
DTSTART;TZID=America/New_York:20201024T100000
DTEND;TZID=America/New_York:20201024T120000
DTSTAMP:20260423T130523
CREATED:20201023T180747Z
LAST-MODIFIED:20201023T180747Z
UID:10005473-1603533600-1603540800@www.atlantaparent.com
SUMMARY:Fall Festival Drive-Thru Trunk-or-Treat
DESCRIPTION:Bring a bag and dress up in your costume – and dress your car up\, too. Vehicles will enter from Marietta St. onto Oakview Dr. Free.
URL:https://www.atlantaparent.com/event/fall-festival-drive-thru-trunk-or-treat/
LOCATION:Thurman Springs Park\, 4485 Pineview Dr.\, Powder Springs
GEO:33.8604096;-84.6842526
X-APPLE-STRUCTURED-LOCATION;VALUE=URI;X-ADDRESS=Thurman Springs Park 4485 Pineview Dr. Powder Springs;X-APPLE-RADIUS=500;X-TITLE=4485 Pineview Dr.:geo:-84.6842526,33.8604096
END:VEVENT
BEGIN:VEVENT
DTSTART;TZID=America/New_York:20201024T090000
DTEND;TZID=America/New_York:20201024T100000
DTSTAMP:20260423T130523
CREATED:20201001T130920Z
LAST-MODIFIED:20201001T130920Z
UID:10005402-1603530000-1603533600@www.atlantaparent.com
SUMMARY:Free Fitness in the Park: Yoga
DESCRIPTION:Work on your flexibility at these free outdoor classes. Oct. 10 at Riverside Park. Oct. 24 at Town Square.
URL:https://www.atlantaparent.com/event/free-fitness-in-the-park-yoga/2020-10-24/
END:VEVENT
BEGIN:VEVENT
DTSTART;VALUE=DATE:20201024
DTEND;VALUE=DATE:20201101
DTSTAMP:20260423T130523
CREATED:20201008T131952Z
LAST-MODIFIED:20201008T132045Z
UID:10005463-1603497600-1604188799@www.atlantaparent.com
SUMMARY:Halloween Programming
DESCRIPTION:Celebrate Halloween with a themed storytime\, dance party\, spider science in the Science Bar and paper pumpkin lanterns and puffy paint ghosts in the Creativity Cage. Reserve tickets for a timed session.
URL:https://www.atlantaparent.com/event/halloween-programming/
LOCATION:Children’s Museum of Atlanta\, 275 Centennial Olympic Park Dr. NW\, Atlanta\, GA
END:VEVENT
BEGIN:VEVENT
DTSTART;VALUE=DATE:20201023
DTEND;VALUE=DATE:20201224
DTSTAMP:20260423T130523
CREATED:20200718T175139Z
LAST-MODIFIED:20201022T191146Z
UID:10002406-1603411200-1608767999@www.atlantaparent.com
SUMMARY:Virtual: Taste of Atlanta
DESCRIPTION:Order takeout\, delivery and dine-in from more than 200 of Atlanta’s most beloved restaurants with nine themed Restaurant Bingo cards to win prizes. Participate in classes\, cooking and mixology demos\, conversations with local chefs and more.
URL:https://www.atlantaparent.com/event/taste-of-atlanta/
END:VEVENT
BEGIN:VEVENT
DTSTART;VALUE=DATE:20201023
DTEND;VALUE=DATE:20201122
DTSTAMP:20260423T130523
CREATED:20200918T133714Z
LAST-MODIFIED:20200921T155426Z
UID:10005387-1603411200-1606003199@www.atlantaparent.com
SUMMARY:Virtual: Long Ago & Only Once
DESCRIPTION:Presented by Terminus Modern Ballet Theatre\, this digital production has been reimagined from a live performance to a dance film to represent the idea of waiting with modern dance. Oct. 23-Nov. 21. $15-$50.
URL:https://www.atlantaparent.com/event/virtual-long-ago-only-once/
ATTACH;FMTTYPE=image/jpeg:https://www.atlantaparent.com/wp-content/uploads/2020/09/08.-Long-Ago-and-Only-Once.jpg
END:VEVENT
BEGIN:VEVENT
DTSTART;VALUE=DATE:20201023
DTEND;VALUE=DATE:20201026
DTSTAMP:20260423T130523
CREATED:20200918T132818Z
LAST-MODIFIED:20200918T132818Z
UID:10005389-1603411200-1603670399@www.atlantaparent.com
SUMMARY:Comedy of Errors
DESCRIPTION:This Shakespeare play follows estranged twin sisters and estranged twin servants separated at birth in a mistaken identity plot. Doors open at 6 p.m. Oct. 23-25\, 7 p.m. General lawn admission: $5.
URL:https://www.atlantaparent.com/event/comedy-of-errors/
LOCATION:Woodstock Arts\, 8534 Main St.\, Woodstock
GEO:34.1017163;-84.5199758
X-APPLE-STRUCTURED-LOCATION;VALUE=URI;X-ADDRESS=Woodstock Arts 8534 Main St. Woodstock;X-APPLE-RADIUS=500;X-TITLE=8534 Main St.:geo:-84.5199758,34.1017163
END:VEVENT
BEGIN:VEVENT
DTSTART;TZID=America/New_York:20201020T180000
DTEND;TZID=America/New_York:20201020T180000
DTSTAMP:20260423T130523
CREATED:20200831T164258Z
LAST-MODIFIED:20200831T164436Z
UID:10005361-1603216800-1603216800@www.atlantaparent.com
SUMMARY:Pumpkin Dash
DESCRIPTION:Find your numbered pumpkin to decorate and take home. Register by Oct. 16. Oct. 20\, 6 p.m. $10.
URL:https://www.atlantaparent.com/event/pumpkin-dash/
LOCATION:Frances Meadows Aquatic Center\, 1545 Community Way\, Gainesville\, GA\, 30501
GEO:34.3099397;-83.8082671
X-APPLE-STRUCTURED-LOCATION;VALUE=URI;X-ADDRESS=Frances Meadows Aquatic Center 1545 Community Way Gainesville GA 30501;X-APPLE-RADIUS=500;X-TITLE=1545 Community Way:geo:-83.8082671,34.3099397
END:VEVENT
BEGIN:VEVENT
DTSTART;TZID=America/New_York:20201018T160000
DTEND;TZID=America/New_York:20201018T160000
DTSTAMP:20260423T130523
CREATED:20200918T133149Z
LAST-MODIFIED:20201009T191153Z
UID:10005388-1603036800-1603036800@www.atlantaparent.com
SUMMARY:A Cabaret on the Green
DESCRIPTION:Enjoy an evening of musical theatre and more under the stars with the cast of Elm Street’s future production “Dogfight The Musical.” Recommended for ages 13 and older. General admission lawn: $5.
URL:https://www.atlantaparent.com/event/a-cabaret-on-the-green/
LOCATION:Woodstock Arts\, 8534 Main St.\, Woodstock
GEO:34.1017163;-84.5199758
X-APPLE-STRUCTURED-LOCATION;VALUE=URI;X-ADDRESS=Woodstock Arts 8534 Main St. Woodstock;X-APPLE-RADIUS=500;X-TITLE=8534 Main St.:geo:-84.5199758,34.1017163
END:VEVENT
BEGIN:VEVENT
DTSTART;TZID=America/New_York:20201017T190000
DTEND;TZID=America/New_York:20201017T190000
DTSTAMP:20260423T130523
CREATED:20200908T133415Z
LAST-MODIFIED:20200908T133415Z
UID:10005427-1602961200-1602961200@www.atlantaparent.com
SUMMARY:Movies & Bands: Drive-In Edition
DESCRIPTION:Presented by the Mable House Barnes Amphitheatre\, enjoy a night of music and movies with local acts performing songs from popular movies. Performances start at 7 p.m.; movies start at 8 p.m. $50 per vehicle. \nSept. 18 – Dirty Dancing; performance by The Neon Queen\nSept. 19 – The Five Heartbeats; performance by The Soul Knights\nOct. 16 – Rocketman; performance by Beyond the Yellow Brick Road\, Atlanta’s Tribute to Elton John\nOct. 17 – Drumline; performance by Xclusive Percussion
URL:https://www.atlantaparent.com/event/movies-bands-drive-in-edition/2020-10-17/
LOCATION:Al Bishop Softball Complex\, 1082 Al Bishop Dr.\,\, Marietta
GEO:33.9027986;-84.5879267
X-APPLE-STRUCTURED-LOCATION;VALUE=URI;X-ADDRESS=Al Bishop Softball Complex 1082 Al Bishop Dr. Marietta;X-APPLE-RADIUS=500;X-TITLE=1082 Al Bishop Dr.\,:geo:-84.5879267,33.9027986
END:VEVENT
BEGIN:VEVENT
DTSTART;TZID=America/New_York:20201017T100000
DTEND;TZID=America/New_York:20201017T160000
DTSTAMP:20260423T130523
CREATED:20200804T170947Z
LAST-MODIFIED:20200804T170947Z
UID:10005285-1602928800-1602950400@www.atlantaparent.com
SUMMARY:Family Fun Days
DESCRIPTION:Bring a picnic\, hike to Hemlock Falls\, make a craft\, explore the great outdoors\, participate in camp activities and more. Registration required. Aug. 29\, Sept. 19 and Oct. 17\, 10 a.m.-4 p.m. $30 per family.
URL:https://www.atlantaparent.com/event/family-fun-days/2020-10-17/
LOCATION:Camp Evergreen\, 478 Andersonville Lane\, Clarkesville\, GA\, 30523
GEO:34.844597;-83.5910353
X-APPLE-STRUCTURED-LOCATION;VALUE=URI;X-ADDRESS=Camp Evergreen 478 Andersonville Lane Clarkesville GA 30523;X-APPLE-RADIUS=500;X-TITLE=478 Andersonville Lane:geo:-83.5910353,34.844597
END:VEVENT
BEGIN:VEVENT
DTSTART;VALUE=DATE:20201015
DTEND;VALUE=DATE:20201101
DTSTAMP:20260423T130523
CREATED:20201012T192150Z
LAST-MODIFIED:20201012T192150Z
UID:10005430-1602720000-1604188799@www.atlantaparent.com
SUMMARY:Trick-or-Treat Drive-Thru Experience
DESCRIPTION:Drive through this fun and interactive trick-or-treat experience at Walmart locations around Atlanta. Free. \n\n\n\nRockmart Walmart Supercenter: 1801 Nathan Dean Byp.\, Rockmart. Oct. 15\, 2-7 p.m.\nHiram Walmart Supercenter: 4166 Jimmy Lee Smith Pkwy.\, Hiram. Oct. 16\, 2-7 p.m.\nDallas Walmart Supercenter: 3615 Marietta Hwy.\, Dallas. Oct. 17\, 2-7 p.m.\nKennesaw Walmart Supercenter: 3105 Cobb Pkwy. NW\, Kennesaw. Oct. 18\, 2-7 p.m.\nWoodstock Walmart Supercenter: 6435 Bells Ferry Rd.\, Woodstock. Oct. 19\, 2-7 p.m.\nMarietta Walmart Supercenter: 2795 Chastain Meadows Pkwy.\, Marietta\, GA. Oct. 20\, 2-7 p.m.\nMarietta Walmart Supercenter: 1785 Cobb Pkwy. S\, Marietta\, GA. Oct. 21\, 2-7 p.m.\nCarrolton Walmart Supercenter: 1735 S. Hwy. 27\, Carrolton. Oct. 22\, 2-7 p.m.\nNewnan Walmart Supercenter: 1025 Hwy. 34 E\, Newnan. Oct. 23\, 2-7 p.m.\nCollege Park Walmart Supercenter: 6149 Old National Hwy.\, College Park. Oct. 24\, 2-7 p.m.\nAtlanta Walmart Supercenter: 2427 Gresham Rd. SE\, Atlanta. Oct. 26\, 2-7 p.m.\nEllenwood Walmart Supercenter: 2940 Anvil Block Rd.\, Ellenwood. Oct. 27\, 2-7 p.m.\nMorrow Walmart Supercenter: 6065 Jonesboro Rd.\, Morrow. Oct. 28\, 2-7 p.m.\nStockbridge Walmart Supercenter: 5600 N. Henry Blvd.\, Stockbridge. Oct. 29\, 2-7 p.m.\nAtlanta Walmart Supercenter: 835 Martin Luther King Jr. Dr.\, Atlanta. Oct. 29\, 2-7 p.m.\nStockbridge Walmart Supercenter: 1400 Hudson Bridge Rd.\, Stockbridge. Oct. 30\, 2-7 p.m.\nCumming Walmart Supercenter: 1500 Market Place Blvd.\, Cumming. Oct. 30\, 2-7 p.m.\nLovejoy Walmart Supercenter: 11465 Tara Blvd.\, Lovejoy. Oct. 31\, 2-7 p.m.\nRoswell Walmart Supercenter: 970 Mansell Rd.\, Roswell. Oct. 31\, 11 a.m.-5 p.m.
URL:https://www.atlantaparent.com/event/trick-or-treat-drive-thru-experience/
LOCATION:Select Walmart Locations
END:VEVENT
BEGIN:VEVENT
DTSTART;TZID=America/New_York:20201012T080000
DTEND;TZID=America/New_York:20201012T170000
DTSTAMP:20260423T130523
CREATED:20201012T193437Z
LAST-MODIFIED:20201012T193506Z
UID:10005431-1602489600-1602522000@www.atlantaparent.com
SUMMARY:PCM Goes Inside Out
DESCRIPTION:Every other Saturday\, enjoy the best of Ponce City Market outdoors with themed activities\, livestream football games\, a DJ\, yard games\, food and more.\n\nOct. 17\, noon-4 p.m.: Fall Apple Market\nOct. 31\, noon-4 p.m.: Halloween\nNov. 14\, noon-4 p.m.: Tailgating\nNov. 28\, noon-4 p.m.: Thanks for Giving\nDec. 12\, noon-4 p.m.: Holiday Market
URL:https://www.atlantaparent.com/event/pcm-goes-inside-out/
END:VEVENT
BEGIN:VEVENT
DTSTART;TZID=America/New_York:20201011T130000
DTEND;TZID=America/New_York:20201011T170000
DTSTAMP:20260423T130523
CREATED:20200918T040015Z
LAST-MODIFIED:20200918T130146Z
UID:10002281-1602421200-1602435600@www.atlantaparent.com
SUMMARY:Harvest on the Hooch
DESCRIPTION:Taste farm to table food\, listen to bluegrass music\, meet animals\, play games and more. This event raises funds for the Unity Garden.
URL:https://www.atlantaparent.com/event/harvest-on-the-hooch/
LOCATION:Chattahoochee Nature Center\, 9135 Willeo Road\, Roswell
ATTACH;FMTTYPE=image/jpeg:https://www.atlantaparent.com/wp-content/uploads/2019/09/CNC-Harvest-on-the-Hooch_crowd-tents.jpg
GEO:34.0038514;-84.38312
X-APPLE-STRUCTURED-LOCATION;VALUE=URI;X-ADDRESS=Chattahoochee Nature Center 9135 Willeo Road Roswell;X-APPLE-RADIUS=500;X-TITLE=9135 Willeo Road:geo:-84.38312,34.0038514
END:VEVENT
BEGIN:VEVENT
DTSTART;TZID=America/New_York:20201010T193000
DTEND;TZID=America/New_York:20201010T193000
DTSTAMP:20260423T130523
CREATED:20200918T131839Z
LAST-MODIFIED:20200918T131839Z
UID:10005385-1602358200-1602358200@www.atlantaparent.com
SUMMARY:An Evening with Shakespeare & Friends
DESCRIPTION:Presented by ACT1 Theater\, this Shakespeare in the Park performance entertains with some of Shakespeare’s most famous speeches\, showcasing the power of a monologue in an era when COVID-19 has limited theatre’s ability to rehearse in large groups. In case of rain\, will be held in the black box theater in the Alpharetta Art Center. Free.
URL:https://www.atlantaparent.com/event/an-evening-with-shakespeare-friends/2020-10-10/
LOCATION:Wills Park Grand Pavilion\, 11925 Wills Rd.\, Alpharetta
GEO:34.0711927;-84.3086116
X-APPLE-STRUCTURED-LOCATION;VALUE=URI;X-ADDRESS=Wills Park Grand Pavilion 11925 Wills Rd. Alpharetta;X-APPLE-RADIUS=500;X-TITLE=11925 Wills Rd.:geo:-84.3086116,34.0711927
END:VEVENT
BEGIN:VEVENT
DTSTART;TZID=America/New_York:20201009T193000
DTEND;TZID=America/New_York:20201009T213000
DTSTAMP:20260423T130523
CREATED:20200721T043650Z
LAST-MODIFIED:20200721T125811Z
UID:10002647-1602271800-1602279000@www.atlantaparent.com
SUMMARY:Jazz on the Lawn
DESCRIPTION:Unwind and listen to live music including jazz\, swing\, salsa\, blues and more. Doors open at 6:30 p.m. $20+. \nAug. 14 – Bob Baldwin\nAug. 28 – Eddie & Mayi Lopez and Orquesta MaCuba\nSept. 11 – Karla Harris\nSept. 25 – Ruby Velle & The Soulphonics\nOct. 9 – Joe Gransden and Robin Lattimore
URL:https://www.atlantaparent.com/event/jazz-on-the-lawn/2020-10-09/
LOCATION:Callanwolde Fine Arts Center\, 980 Briarcliff Rd. NE\, Atlanta
GEO:33.7819892;-84.3456741
X-APPLE-STRUCTURED-LOCATION;VALUE=URI;X-ADDRESS=Callanwolde Fine Arts Center 980 Briarcliff Rd. NE Atlanta;X-APPLE-RADIUS=500;X-TITLE=980 Briarcliff Rd. NE:geo:-84.3456741,33.7819892
END:VEVENT
BEGIN:VEVENT
DTSTART;TZID=America/New_York:20201009T183000
DTEND;TZID=America/New_York:20201009T210000
DTSTAMP:20260423T130523
CREATED:20200925T130515Z
LAST-MODIFIED:20200925T130515Z
UID:10005398-1602268200-1602277200@www.atlantaparent.com
SUMMARY:Laps For Hope
DESCRIPTION:Drive three laps around the historic 1.54 oval at Atlanta Motor Speedway to benefit breast cancer patients and raise funds for research. Tickets must be purchased in advance. $50 per vehicle.
URL:https://www.atlantaparent.com/event/laps-for-hope/
LOCATION:EchoPark Speedway\, 1500 Tara Place\, Hampton
GEO:33.384517;-84.313377
X-APPLE-STRUCTURED-LOCATION;VALUE=URI;X-ADDRESS=EchoPark Speedway 1500 Tara Place Hampton;X-APPLE-RADIUS=500;X-TITLE=1500 Tara Place:geo:-84.313377,33.384517
END:VEVENT
BEGIN:VEVENT
DTSTART;VALUE=DATE:20201006
DTEND;VALUE=DATE:20201102
DTSTAMP:20260423T130523
CREATED:20200915T131713Z
LAST-MODIFIED:20200915T131713Z
UID:10005377-1601942400-1604275199@www.atlantaparent.com
SUMMARY:Logan Farm Pumpkin Patch Art Contest
DESCRIPTION:Celebrate the fall season by visiting Logan Farm Park to see all the wooden pumpkins created by Acworth families and local businesses\, which will be on display Oct. 6-Nov. 1. Children are invited to participate in the Logan Farm Pumpkin Patch Scavenger Hunt to win fun prizes. Scavenger hunt cards will be available for pick up at the Acworth Community Center or for digital download.
URL:https://www.atlantaparent.com/event/logan-farm-pumpkin-patch-art-contest/
LOCATION:Logan Farm Park\, 4405 Cherokee St.\, Acworth
END:VEVENT
BEGIN:VEVENT
DTSTART;VALUE=DATE:20201005
DTEND;VALUE=DATE:20201107
DTSTAMP:20260423T130523
CREATED:20200915T130558Z
LAST-MODIFIED:20200915T155522Z
UID:10005378-1601856000-1604707199@www.atlantaparent.com
SUMMARY:Acworth Scarecrow Parade
DESCRIPTION:See downtown Acworth decorated for the fall season with themed “Totally 80s” scarecrows.
URL:https://www.atlantaparent.com/event/acworth-scarecrow-parade/
LOCATION:Downtown Acworth\, 4415 Senator Russell Blvd.\, Acworth
ATTACH;FMTTYPE=image/jpeg:https://www.atlantaparent.com/wp-content/uploads/2020/09/VanGogh.jpg
GEO:34.0659329;-84.6768796
X-APPLE-STRUCTURED-LOCATION;VALUE=URI;X-ADDRESS=Downtown Acworth 4415 Senator Russell Blvd. Acworth;X-APPLE-RADIUS=500;X-TITLE=4415 Senator Russell Blvd.:geo:-84.6768796,34.0659329
END:VEVENT
BEGIN:VEVENT
DTSTART;VALUE=DATE:20201003
DTEND;VALUE=DATE:20210104
DTSTAMP:20260423T130523
CREATED:20200826T202540Z
LAST-MODIFIED:20201005T113820Z
UID:10005357-1601683200-1609718399@www.atlantaparent.com
SUMMARY:Amazing Animals: Built to Survive at Fernbank Museum of Natural History
DESCRIPTION:Discover the innovations of animals’ evolution with highly interactive\, hands-on and fun activities\, which bring the amazing science of biomechanics to life. $20; ages 3-12\, $18; ages 2 and younger\, free.
URL:https://www.atlantaparent.com/event/amazing-animals-built-to-survive/
LOCATION:Fernbank Museum of Natural History\, 767 Clifton Road\, Atlanta
ATTACH;FMTTYPE=image/jpeg:https://www.atlantaparent.com/wp-content/uploads/2020/08/17.-GN91948_943d-scaled.jpg
GEO:33.7739167;-84.3277484
X-APPLE-STRUCTURED-LOCATION;VALUE=URI;X-ADDRESS=Fernbank Museum of Natural History 767 Clifton Road Atlanta;X-APPLE-RADIUS=500;X-TITLE=767 Clifton Road:geo:-84.3277484,33.7739167
END:VEVENT
BEGIN:VEVENT
DTSTART;VALUE=DATE:20201002
DTEND;VALUE=DATE:20201005
DTSTAMP:20260423T130523
CREATED:20200825T170514Z
LAST-MODIFIED:20200928T123711Z
UID:10005386-1601596800-1601855999@www.atlantaparent.com
SUMMARY:The Taste of the Fair
DESCRIPTION:Get your favorite fair foods\, including corn dogs\, caramel apples\, funnel cakes\, deep fried Oreos and more\, from the North Georgia State Fair at this drive-thru event. Donate 7 non-perishable canned goods to MUST Ministries to receive a free ticket to the 2021 North Georgia State Fair. Sept. 25-27 and Oct. 2-4. Fri. 4-8 p.m. Sat.-Sun. noon-8 p.m.
URL:https://www.atlantaparent.com/event/the-taste-of-the-fair/
LOCATION:Jim R. Miller Park\, 2245 Callaway Rd. SW\, Marietta
END:VEVENT
BEGIN:VEVENT
DTSTART;VALUE=DATE:20201002
DTEND;VALUE=DATE:20201004
DTSTAMP:20260423T130523
CREATED:20200918T135142Z
LAST-MODIFIED:20200918T140809Z
UID:10005441-1601596800-1601769599@www.atlantaparent.com
SUMMARY:Music in the Meadow at Serenbe
DESCRIPTION:From the Atlanta Symphony Orchestra\, enjoy an outdoor concert series at Serenbe. $39+. \nOct. 2\, 7:30 p.m. – Classical Mystery Tour: A Tribute to The Beatles\nOct. 3\, 7:30 p.m. – Opera’s Greatest Hits
URL:https://www.atlantaparent.com/event/music-in-the-meadow-at-serenbe/
LOCATION:Wildflower Meadow at Serenbe\, 10690 Hutchesons Ferry Rd.\, Palmetto
GEO:33.5298371;-84.7379957
X-APPLE-STRUCTURED-LOCATION;VALUE=URI;X-ADDRESS=Wildflower Meadow at Serenbe 10690 Hutchesons Ferry Rd. Palmetto;X-APPLE-RADIUS=500;X-TITLE=10690 Hutchesons Ferry Rd.:geo:-84.7379957,33.5298371
END:VEVENT
BEGIN:VEVENT
DTSTART;VALUE=DATE:20201001
DTEND;VALUE=DATE:20201101
DTSTAMP:20260423T130523
CREATED:20200828T181436Z
LAST-MODIFIED:20200828T181436Z
UID:10005363-1601510400-1604188799@www.atlantaparent.com
SUMMARY:Hartwell Scarecrow Bash
DESCRIPTION:Wander through downtown to see these decorative scarecrows.
URL:https://www.atlantaparent.com/event/hartwell-scarecrow-bash/
LOCATION:Downtown Hartwell\, Main St.\, Hartwell
GEO:34.3528825;-82.932087
X-APPLE-STRUCTURED-LOCATION;VALUE=URI;X-ADDRESS=Downtown Hartwell Main St. Hartwell;X-APPLE-RADIUS=500;X-TITLE=Main St.:geo:-82.932087,34.3528825
END:VEVENT
BEGIN:VEVENT
DTSTART;TZID=America/New_York:20200926T190000
DTEND;TZID=America/New_York:20200926T190000
DTSTAMP:20260423T130523
CREATED:20200724T171821Z
LAST-MODIFIED:20200825T170030Z
UID:10002922-1601146800-1601146800@www.atlantaparent.com
SUMMARY:Virtual: September Saturdays Festival
DESCRIPTION:Each show will have a specific theme and consist of multiple interviews\, music performances and special guests. Sept. 5 – First Responders Day\, Sept. 12 – Community Day\, Sept. 19 – Healthcare Workers Day\, and Sept. 26 – Armed Forces Day.
URL:https://www.atlantaparent.com/event/september-saturdays-festival/2020-09-26/
END:VEVENT
BEGIN:VEVENT
DTSTART;TZID=America/New_York:20200926T170000
DTEND;TZID=America/New_York:20200926T170000
DTSTAMP:20260423T130523
CREATED:20200722T204728Z
LAST-MODIFIED:20200722T204856Z
UID:10005341-1601139600-1601139600@www.atlantaparent.com
SUMMARY:Outdoor Movie Series
DESCRIPTION:Watch movies on a giant inflatable screen after sundown. Concessions will be available for purchase. Free; registration required.\n\n\nJuly 25 – “Elf”\nAug. 8 – “Frozen II”\nSept. 26 – “Sonic the Hedgehog”
URL:https://www.atlantaparent.com/event/outdoor-movie-series-2/2020-09-26/
LOCATION: Swift-Cantrell Park\, 3140 Old 41 Highway\, Kennesaw
GEO:34.0312628;-84.6334876
X-APPLE-STRUCTURED-LOCATION;VALUE=URI;X-ADDRESS= Swift-Cantrell Park 3140 Old 41 Highway Kennesaw;X-APPLE-RADIUS=500;X-TITLE=3140 Old 41 Highway:geo:-84.6334876,34.0312628
END:VEVENT
BEGIN:VEVENT
DTSTART;TZID=America/New_York:20200925T193000
DTEND;TZID=America/New_York:20200925T193000
DTSTAMP:20260423T130523
CREATED:20200805T155025Z
LAST-MODIFIED:20200805T155025Z
UID:10005280-1601062200-1601062200@www.atlantaparent.com
SUMMARY:Drive In Movie
DESCRIPTION:Pack your snacks and treats and head to North Cooper Lake Park for a drive in movie. Free; registration required. \nAug. 7\, 8:30-11 p.m. – “Charlie and the Chocolate Factory”\nSept. 25\, 7:30-10 p.m. – “Abominable”
URL:https://www.atlantaparent.com/event/drive-in-movie/2020-09-25/
LOCATION:North Cooper Lake Park\, 4201 Cooper Lake Rd\, Smyrna\, GA\, 30082
GEO:33.8517166;-84.5390347
X-APPLE-STRUCTURED-LOCATION;VALUE=URI;X-ADDRESS=North Cooper Lake Park 4201 Cooper Lake Rd Smyrna GA 30082;X-APPLE-RADIUS=500;X-TITLE=4201 Cooper Lake Rd:geo:-84.5390347,33.8517166
END:VEVENT
BEGIN:VEVENT
DTSTART;TZID=America/New_York:20200925T183000
DTEND;TZID=America/New_York:20200925T183000
DTSTAMP:20260423T130524
CREATED:20200915T160612Z
LAST-MODIFIED:20200915T160612Z
UID:10005432-1601058600-1601058600@www.atlantaparent.com
SUMMARY:Quarterback to the Future
DESCRIPTION:Enjoy an outdoor screening of “Back to the Future.” Gates will open at 6:30 p.m.; movie starts at sundown. Free; registration required.
URL:https://www.atlantaparent.com/event/quarterback-to-the-future/
LOCATION:Acworth Sports Complex\, 4000 South Main St.\, Acworth\, GA\, United States
GEO:34.0507056;-84.6603581
X-APPLE-STRUCTURED-LOCATION;VALUE=URI;X-ADDRESS=Acworth Sports Complex 4000 South Main St. Acworth GA United States;X-APPLE-RADIUS=500;X-TITLE=4000 South Main St.:geo:-84.6603581,34.0507056
END:VEVENT
END:VCALENDAR