BEGIN:VCALENDAR
VERSION:2.0
PRODID:-//NEW Atlanta Parent - ECPv6.15.11//NONSGML v1.0//EN
CALSCALE:GREGORIAN
METHOD:PUBLISH
X-WR-CALNAME:NEW Atlanta Parent
X-ORIGINAL-URL:https://www.atlantaparent.com
X-WR-CALDESC:Events for NEW Atlanta Parent
REFRESH-INTERVAL;VALUE=DURATION:PT1H
X-Robots-Tag:noindex
X-PUBLISHED-TTL:PT1H
BEGIN:VTIMEZONE
TZID:America/New_York
BEGIN:DAYLIGHT
TZOFFSETFROM:-0500
TZOFFSETTO:-0400
TZNAME:EDT
DTSTART:20190310T070000
END:DAYLIGHT
BEGIN:STANDARD
TZOFFSETFROM:-0400
TZOFFSETTO:-0500
TZNAME:EST
DTSTART:20191103T060000
END:STANDARD
BEGIN:DAYLIGHT
TZOFFSETFROM:-0500
TZOFFSETTO:-0400
TZNAME:EDT
DTSTART:20200308T070000
END:DAYLIGHT
BEGIN:STANDARD
TZOFFSETFROM:-0400
TZOFFSETTO:-0500
TZNAME:EST
DTSTART:20201101T060000
END:STANDARD
BEGIN:DAYLIGHT
TZOFFSETFROM:-0500
TZOFFSETTO:-0400
TZNAME:EDT
DTSTART:20210314T070000
END:DAYLIGHT
BEGIN:STANDARD
TZOFFSETFROM:-0400
TZOFFSETTO:-0500
TZNAME:EST
DTSTART:20211107T060000
END:STANDARD
END:VTIMEZONE
BEGIN:VTIMEZONE
TZID:UTC
BEGIN:STANDARD
TZOFFSETFROM:+0000
TZOFFSETTO:+0000
TZNAME:UTC
DTSTART:20190101T000000
END:STANDARD
END:VTIMEZONE
BEGIN:VEVENT
DTSTART;VALUE=DATE:20200306
DTEND;VALUE=DATE:20200330
DTSTAMP:20260424T044552
CREATED:20200218T021715Z
LAST-MODIFIED:20200318T123741Z
UID:10004948-1583452800-1585526399@www.atlantaparent.com
SUMMARY:CANCELED: Wayfinding
DESCRIPTION:Due to cancellations to prevent the spread of coronavirus\, please verify event before you go. \nJane must deal with the losses in her life\, while Harrison is unable to make a big commitment. Their paths intertwine in an unexpected\, magical experience. March 6-29. Wed.-Sat. 8 p.m. and Sun. 5 p.m. Recommended for ages 12 and older.
URL:https://www.atlantaparent.com/event/wayfinding/
LOCATION:Synchronicity Theatre\, 1545 Peachtree Street\, Atlanta
GEO:33.7972669;-84.3882065
X-APPLE-STRUCTURED-LOCATION;VALUE=URI;X-ADDRESS=Synchronicity Theatre 1545 Peachtree Street Atlanta;X-APPLE-RADIUS=500;X-TITLE=1545 Peachtree Street:geo:-84.3882065,33.7972669
END:VEVENT
BEGIN:VEVENT
DTSTART;VALUE=DATE:20200306
DTEND;VALUE=DATE:20200309
DTSTAMP:20260424T044552
CREATED:20200214T150755Z
LAST-MODIFIED:20200214T150755Z
UID:10004910-1583452800-1583711999@www.atlantaparent.com
SUMMARY:The Science of Things to Come
DESCRIPTION:Enjoy hands-on science activities\, planetarium shows\, talks with scientists\, an escape room\, a children’s stage show and more. March 6-8. See website for locations and times. Free admission.
URL:https://www.atlantaparent.com/event/the-science-of-things-to-come/
LOCATION:Dahlonega\, Dahlonega\, GA
END:VEVENT
BEGIN:VEVENT
DTSTART;TZID=America/New_York:20200305T183000
DTEND;TZID=America/New_York:20200305T210000
DTSTAMP:20260424T044552
CREATED:20200220T191131Z
LAST-MODIFIED:20200220T191131Z
UID:10004938-1583433000-1583442000@www.atlantaparent.com
SUMMARY:BEECH Bazaar Homeschool Expo
DESCRIPTION:Homeschoolers have the chance to meet with various vendors that provide learning opportunities and services to the homeschool community\, including homeschool hybrids\, sports\, music\, art\, dance\, special needs\, tutors and more. Free and open to the public. \n 
URL:https://www.atlantaparent.com/event/beech-bazaar-homeschool-expo/
LOCATION:Forsyth Conference Center at Lanier Technical College\, 3410 Ronald Reagan Blvd.\, Cumming\, GA
GEO:34.1488558;-84.1850619
X-APPLE-STRUCTURED-LOCATION;VALUE=URI;X-ADDRESS=Forsyth Conference Center at Lanier Technical College 3410 Ronald Reagan Blvd. Cumming GA;X-APPLE-RADIUS=500;X-TITLE=3410 Ronald Reagan Blvd.:geo:-84.1850619,34.1488558
END:VEVENT
BEGIN:VEVENT
DTSTART;VALUE=DATE:20200305
DTEND;VALUE=DATE:20200420
DTSTAMP:20260424T044552
CREATED:20200218T021349Z
LAST-MODIFIED:20200317T013513Z
UID:10004943-1583366400-1587340799@www.atlantaparent.com
SUMMARY:POSTPONED: On Your Feet!
DESCRIPTION:Due to cancellations to prevent the spread of coronavirus\, please verify event before you go. \nFollow the story of Gloria and Emilio Estefan in this musical. March 5-April 19. Tues.-Sat. 8 p.m. and Sat.-Sun. 2:30 p.m. March 17 matinee at 10 a.m. Recommended for ages 13 and older. $30-$60; ages 14 and younger\, $24-$54.
URL:https://www.atlantaparent.com/event/on-your-feet/
LOCATION: Aurora Theatre\, 128 East Pike St.\, Lawrenceville
END:VEVENT
BEGIN:VEVENT
DTSTART;VALUE=DATE:20200305
DTEND;VALUE=DATE:20200308
DTSTAMP:20260424T044552
CREATED:20200129T195530Z
LAST-MODIFIED:20200129T195530Z
UID:10004895-1583366400-1583625599@www.atlantaparent.com
SUMMARY:Green with Envy Kids
DESCRIPTION:March 5-7. Thurs. and Fri.\, 9 a.m.-8 p.m.; Sat.\, 9 a.m.-3 p.m.
URL:https://www.atlantaparent.com/event/green-with-envy-kids/
LOCATION:Johns Creek Town Center\, 3630 Peachtree Pkwy\, Suwanee
GEO:34.0693142;-84.168943
X-APPLE-STRUCTURED-LOCATION;VALUE=URI;X-ADDRESS=Johns Creek Town Center 3630 Peachtree Pkwy Suwanee;X-APPLE-RADIUS=500;X-TITLE=3630 Peachtree Pkwy:geo:-84.168943,34.0693142
END:VEVENT
BEGIN:VEVENT
DTSTART;TZID=America/New_York:20200301T190000
DTEND;TZID=America/New_York:20200301T190000
DTSTAMP:20260424T044552
CREATED:20200218T015256Z
LAST-MODIFIED:20200218T015256Z
UID:10004907-1583089200-1583089200@www.atlantaparent.com
SUMMARY:And Then They Came for Me: Remembering the World of Anne Frank
DESCRIPTION:Two close friends of Anne Frank recount their stories via video while professional actors portray them on stage. Recommended for ages 10 and older.
URL:https://www.atlantaparent.com/event/and-then-they-came-for-me-remembering-the-world-of-anne-frank/
LOCATION:Roswell Cultural Arts Center\, 950 Forrest St.\, Roswell
GEO:34.0234466;-84.3578973
X-APPLE-STRUCTURED-LOCATION;VALUE=URI;X-ADDRESS=Roswell Cultural Arts Center 950 Forrest St. Roswell;X-APPLE-RADIUS=500;X-TITLE=950 Forrest St.:geo:-84.3578973,34.0234466
END:VEVENT
BEGIN:VEVENT
DTSTART;TZID=America/New_York:20200301T180000
DTEND;TZID=America/New_York:20200301T180000
DTSTAMP:20260424T044552
CREATED:20200218T014424Z
LAST-MODIFIED:20200218T014424Z
UID:10004908-1583085600-1583085600@www.atlantaparent.com
SUMMARY:Sounds of Life: A Celebration of Women’s History Month
DESCRIPTION:A show of women featuring blues\, R&B\, jazz\, indie-pop and spoken word.
URL:https://www.atlantaparent.com/event/sounds-of-life-a-celebration-of-womens-history-month/
LOCATION:Venkman’s\, 740 Ralph McGill Blvd. NE\, Atlanta
GEO:33.7667816;-84.3632379
X-APPLE-STRUCTURED-LOCATION;VALUE=URI;X-ADDRESS=Venkman’s 740 Ralph McGill Blvd. NE Atlanta;X-APPLE-RADIUS=500;X-TITLE=740 Ralph McGill Blvd. NE:geo:-84.3632379,33.7667816
END:VEVENT
BEGIN:VEVENT
DTSTART;TZID=America/New_York:20200301T140000
DTEND;TZID=America/New_York:20200301T170000
DTSTAMP:20260424T044552
CREATED:20200218T020120Z
LAST-MODIFIED:20200218T020945Z
UID:10004906-1583071200-1583082000@www.atlantaparent.com
SUMMARY:Sesquicentennial Tea
DESCRIPTION:Celebrate the farm’s 150th anniversary with an afternoon tea.
URL:https://www.atlantaparent.com/event/sesquicentennial-tea/
LOCATION:Donaldson-Bannister Farm\, 4831 Chamblee Dunwoody Road\, Dunwoody
GEO:33.9328092;-84.3173467
X-APPLE-STRUCTURED-LOCATION;VALUE=URI;X-ADDRESS=Donaldson-Bannister Farm 4831 Chamblee Dunwoody Road Dunwoody;X-APPLE-RADIUS=500;X-TITLE=4831 Chamblee Dunwoody Road:geo:-84.3173467,33.9328092
END:VEVENT
BEGIN:VEVENT
DTSTART;TZID=UTC:20200301T130000
DTEND;TZID=UTC:20200301T160000
DTSTAMP:20260424T044552
CREATED:20200217T050059Z
LAST-MODIFIED:20200302T133752Z
UID:10001777-1583067600-1583078400@www.atlantaparent.com
SUMMARY:Vanilla Sunday
DESCRIPTION:Learn about the process of turning vanilla beans into an extract and sample a mini vanilla ice cream sundae at this celebration of the vanilla orchid. $21.95; ages 3-12\, $18.95; ages 2 and younger\, free.
URL:https://www.atlantaparent.com/event/vanilla-sunday/
LOCATION:Atlanta Botanical Garden\, 1345 Piedmont Ave.\, Atlanta
ATTACH;FMTTYPE=image/jpeg:https://www.atlantaparent.com/wp-content/uploads/2019/02/vanilla-sunday-scaled.jpg
GEO:33.7900091;-84.3738585
X-APPLE-STRUCTURED-LOCATION;VALUE=URI;X-ADDRESS=Atlanta Botanical Garden 1345 Piedmont Ave. Atlanta;X-APPLE-RADIUS=500;X-TITLE=1345 Piedmont Ave.:geo:-84.3738585,33.7900091
END:VEVENT
BEGIN:VEVENT
DTSTART;TZID=America/New_York:20200229T193000
DTEND;TZID=America/New_York:20200229T193000
DTSTAMP:20260424T044552
CREATED:20200224T173551Z
LAST-MODIFIED:20200224T173618Z
UID:10004952-1583004600-1583004600@www.atlantaparent.com
SUMMARY:Leap Day Cabaret
DESCRIPTION:Enjoy an evening of song\, dance\, stories and merriment presented by the Seed & Feed Marching Abominable Endowment\, and funds support your local community arts program. Doors open at 7 p.m. $10-$15.
URL:https://www.atlantaparent.com/event/leap-day-cabaret/
LOCATION:First Existentialist Congregation of Atlanta\, 470 Candler Park Dr. NE\, Atlanta\, GA\, 30307
GEO:33.7669839;-84.3396947
X-APPLE-STRUCTURED-LOCATION;VALUE=URI;X-ADDRESS=First Existentialist Congregation of Atlanta 470 Candler Park Dr. NE Atlanta GA 30307;X-APPLE-RADIUS=500;X-TITLE=470 Candler Park Dr. NE:geo:-84.3396947,33.7669839
END:VEVENT
BEGIN:VEVENT
DTSTART;TZID=America/New_York:20200229T140000
DTEND;TZID=America/New_York:20200229T153000
DTSTAMP:20260424T044552
CREATED:20200224T171130Z
LAST-MODIFIED:20200224T171130Z
UID:10004953-1582984800-1582990200@www.atlantaparent.com
SUMMARY:Hoppy Leap Day
DESCRIPTION:Celebrate Leap Day by meeting Peter Rabbit from “Peter Rabbit 2: The Runaway” during the Live Animal Encounter at Fernbank. $20; ages 3-12\, $18; ages 2 and younger\, free.
URL:https://www.atlantaparent.com/event/hoppy-leap-day/
LOCATION:Fernbank Museum of Natural History\, 767 Clifton Road\, Atlanta
GEO:33.7739167;-84.3277484
X-APPLE-STRUCTURED-LOCATION;VALUE=URI;X-ADDRESS=Fernbank Museum of Natural History 767 Clifton Road Atlanta;X-APPLE-RADIUS=500;X-TITLE=767 Clifton Road:geo:-84.3277484,33.7739167
END:VEVENT
BEGIN:VEVENT
DTSTART;TZID=America/New_York:20200229T130000
DTEND;TZID=America/New_York:20200229T140000
DTSTAMP:20260424T044552
CREATED:20200128T191333Z
LAST-MODIFIED:20200128T191333Z
UID:10004891-1582981200-1582984800@www.atlantaparent.com
SUMMARY:African American Grounds Tour
DESCRIPTION:Tour the final resting places of Atlanta’s black history pioneers\, including Maynard Jackson\, the first African American mayor. Feb. 11\, 15\, 25 and 29\, 1-2 p.m. Registration required.
URL:https://www.atlantaparent.com/event/african-american-grounds-tour/2020-02-29/
LOCATION:Oakland Cemetery\, 248 Oakland Ave. SE\, Atlanta
GEO:33.748727;-84.3731212
X-APPLE-STRUCTURED-LOCATION;VALUE=URI;X-ADDRESS=Oakland Cemetery 248 Oakland Ave. SE Atlanta;X-APPLE-RADIUS=500;X-TITLE=248 Oakland Ave. SE:geo:-84.3731212,33.748727
END:VEVENT
BEGIN:VEVENT
DTSTART;TZID=America/New_York:20200229T100000
DTEND;TZID=America/New_York:20200229T120000
DTSTAMP:20260424T044552
CREATED:20200127T162016Z
LAST-MODIFIED:20200127T162016Z
UID:10004872-1582970400-1582977600@www.atlantaparent.com
SUMMARY:Leap Day Celebration
DESCRIPTION:Leap into fun with frog-themed crafts and activities\, jumping games and more. Registration required. For ages 6-12. $3 per person.
URL:https://www.atlantaparent.com/event/leap-day-celebration/
LOCATION:OneStop Buford\, 2755 Sawnee Ave.\, Buford
END:VEVENT
BEGIN:VEVENT
DTSTART;TZID=America/New_York:20200229T083000
DTEND;TZID=America/New_York:20200229T083000
DTSTAMP:20260424T044552
CREATED:20200224T174255Z
LAST-MODIFIED:20200224T174255Z
UID:10004998-1582965000-1582965000@www.atlantaparent.com
SUMMARY:Leap Day 5K
DESCRIPTION:Leap into the excitement of running with this flat course. Leaplings\, those born on a Leap Day\, get in for free. $29.
URL:https://www.atlantaparent.com/event/leap-day-5k/
LOCATION:Ozone Recreation\, 890 Cobb Pl Blvd NW\, Kennesaw\, GA
GEO:34.012072;-84.575009
X-APPLE-STRUCTURED-LOCATION;VALUE=URI;X-ADDRESS=Ozone Recreation 890 Cobb Pl Blvd NW Kennesaw GA;X-APPLE-RADIUS=500;X-TITLE=890 Cobb Pl Blvd NW:geo:-84.575009,34.012072
END:VEVENT
BEGIN:VEVENT
DTSTART;VALUE=DATE:20200228
DTEND;VALUE=DATE:20200301
DTSTAMP:20260424T044552
CREATED:20200219T145400Z
LAST-MODIFIED:20200226T181126Z
UID:10004917-1582848000-1583020799@www.atlantaparent.com
SUMMARY:What's Your Stuf?
DESCRIPTION:Help answer the question of what’s the perfect cookie-to-creme ratio with this five lane slide from OREO. Slide down one of the five lanes: Thins\, Original\, Double Stuf\, Mega Stuf or Most Stuf to vote for your favorite and get a cookie of your choice. Feb. 28-29\, 10 a.m.-9 p.m.
URL:https://www.atlantaparent.com/event/whats-your-stuf/
LOCATION:Atlantic Station\, 1380 Atlantic Drive\, Atlanta
GEO:33.7927258;-84.3978715
X-APPLE-STRUCTURED-LOCATION;VALUE=URI;X-ADDRESS=Atlantic Station 1380 Atlantic Drive Atlanta;X-APPLE-RADIUS=500;X-TITLE=1380 Atlantic Drive:geo:-84.3978715,33.7927258
END:VEVENT
BEGIN:VEVENT
DTSTART;TZID=America/New_York:20200226T193000
DTEND;TZID=America/New_York:20200226T193000
DTSTAMP:20260424T044552
CREATED:20200127T155236Z
LAST-MODIFIED:20200127T155236Z
UID:10004873-1582745400-1582745400@www.atlantaparent.com
SUMMARY:Mystery Science Theater 3000 Live: The Great Cheesy Movie Circus Tour
DESCRIPTION:The hit TV comedy comes to life as movie-riffing robots\, Tom Servo\, Crow and Gypsy examine some of the cheesiest films ever made.
URL:https://www.atlantaparent.com/event/mystery-science-theater-3000-live-the-great-cheesy-movie-circus-tour/
LOCATION:Fox Theatre\, 660 Peachtree St. NE\, Atlanta
GEO:33.772731;-84.385022
X-APPLE-STRUCTURED-LOCATION;VALUE=URI;X-ADDRESS=Fox Theatre 660 Peachtree St. NE Atlanta;X-APPLE-RADIUS=500;X-TITLE=660 Peachtree St. NE:geo:-84.385022,33.772731
END:VEVENT
BEGIN:VEVENT
DTSTART;TZID=America/New_York:20200226T190000
DTEND;TZID=America/New_York:20200226T190000
DTSTAMP:20260424T044552
CREATED:20200127T154719Z
LAST-MODIFIED:20200127T154719Z
UID:10004874-1582743600-1582743600@www.atlantaparent.com
SUMMARY:Cinema at the Red Clay
DESCRIPTION:Watch “Willy Wonka and the Chocolate Factory\,” where Charlie is one of five lucky people who will be given a tour of eccentric Willy Wonka’s chocolate factory and win a lifetime supply of chocolate.
URL:https://www.atlantaparent.com/event/cinema-at-the-red-clay/
LOCATION:Red Clay Music Foundry\, 3116 Main St.\, Duluth
END:VEVENT
BEGIN:VEVENT
DTSTART;TZID=America/New_York:20200223T140000
DTEND;TZID=America/New_York:20200223T160000
DTSTAMP:20260424T044552
CREATED:20200127T043514Z
LAST-MODIFIED:20200127T043514Z
UID:10004915-1582466400-1582473600@www.atlantaparent.com
SUMMARY:Late Winter/Early Spring Wildflower Hike
DESCRIPTION:This 2-mile hike passes through several beautiful wildflower habitats\, and participants may see 20-25 different species of flowers.  $5; parking\, $5.
URL:https://www.atlantaparent.com/event/late-winter-early-spring-wildflower-hike/
LOCATION:Sweetwater Creek State Park\, 1750 Mount Vernon Rd.\, Lithia Springs
GEO:33.7572181;-84.6385725
X-APPLE-STRUCTURED-LOCATION;VALUE=URI;X-ADDRESS=Sweetwater Creek State Park 1750 Mount Vernon Rd. Lithia Springs;X-APPLE-RADIUS=500;X-TITLE=1750 Mount Vernon Rd.:geo:-84.6385725,33.7572181
END:VEVENT
BEGIN:VEVENT
DTSTART;TZID=America/New_York:20200222T190000
DTEND;TZID=America/New_York:20200222T210000
DTSTAMP:20260424T044552
CREATED:20200126T050005Z
LAST-MODIFIED:20200127T035427Z
UID:10003957-1582398000-1582405200@www.atlantaparent.com
SUMMARY:The Georgia Boy Choir Grand Finale Concert
DESCRIPTION:All five levels of the Georgia Boy Choir\, various attending choirs and festival participants will perform. $15; ages 18 and younger\, $10.
URL:https://www.atlantaparent.com/event/the-georgia-boy-choir-festival-grand-finale-concert/
LOCATION:Peachtree Road United Methodist Church\, 3180 Peachtree Rd. NE\, Atlanta
END:VEVENT
BEGIN:VEVENT
DTSTART;TZID=America/New_York:20200221T170000
DTEND;TZID=America/New_York:20200221T200000
DTSTAMP:20260424T044552
CREATED:20200128T192241Z
LAST-MODIFIED:20200219T143608Z
UID:10004896-1582304400-1582315200@www.atlantaparent.com
SUMMARY:HBCUs: Past\, Present and Future Speaker Panel
DESCRIPTION:This event highlights African American players\, coaches and administrators who impacted football and looks ahead to the future. Free admission during event.
URL:https://www.atlantaparent.com/event/hbcus-past-present-and-future-speaker-panel/
LOCATION:Chick-fil-A Fan College Football Hall of Fame\, 250 Marietta St.\, Atlanta
GEO:33.7601926;-84.3955383
X-APPLE-STRUCTURED-LOCATION;VALUE=URI;X-ADDRESS=Chick-fil-A Fan College Football Hall of Fame 250 Marietta St. Atlanta;X-APPLE-RADIUS=500;X-TITLE=250 Marietta St.:geo:-84.3955383,33.7601926
END:VEVENT
BEGIN:VEVENT
DTSTART;TZID=America/New_York:20200219T180000
DTEND;TZID=America/New_York:20200219T180000
DTSTAMP:20260424T044552
CREATED:20200126T185520Z
LAST-MODIFIED:20200126T185520Z
UID:10004864-1582135200-1582135200@www.atlantaparent.com
SUMMARY:Blippi Live!
DESCRIPTION:Blippi will teach children about the world around them while singing and dancing.
URL:https://www.atlantaparent.com/event/blippi-live/
LOCATION:Cobb Energy Performing Arts Centre\, 2800 Cobb Galleria Pkwy.\, Atlanta
END:VEVENT
BEGIN:VEVENT
DTSTART;TZID=America/New_York:20200217T100000
DTEND;TZID=America/New_York:20200217T160000
DTSTAMP:20260424T044552
CREATED:20200126T184202Z
LAST-MODIFIED:20200126T184202Z
UID:10004866-1581933600-1581955200@www.atlantaparent.com
SUMMARY:President’s Day Programs
DESCRIPTION:Get the presidential treatment and learn more about the men in the Oval Office. $16.95-$18.95; ages 12 months and younger\, free.
URL:https://www.atlantaparent.com/event/presidents-day-programs/
LOCATION:Children’s Museum of Atlanta\, 275 Centennial Olympic Park Drive\, Atlanta\, GA
GEO:33.762568;-84.3914318
X-APPLE-STRUCTURED-LOCATION;VALUE=URI;X-ADDRESS=Children’s Museum of Atlanta 275 Centennial Olympic Park Drive Atlanta GA;X-APPLE-RADIUS=500;X-TITLE=275 Centennial Olympic Park Drive:geo:-84.3914318,33.762568
END:VEVENT
BEGIN:VEVENT
DTSTART;VALUE=DATE:20200217
DTEND;VALUE=DATE:20200222
DTSTAMP:20260424T044552
CREATED:20200126T185006Z
LAST-MODIFIED:20200126T185006Z
UID:10004865-1581897600-1582329599@www.atlantaparent.com
SUMMARY:Habitat Hike
DESCRIPTION:A docent will lead you on a hike to discover what habitats look like and where they’re located. Feb. 17-21\, 11 a.m.-noon. $10; ages 13-18\, $7; ages 3-12\, $6; ages 2 and younger\, free.
URL:https://www.atlantaparent.com/event/habitat-hike/
LOCATION:Chattahoochee Nature Center\, 9135 Willeo Road\, Roswell
GEO:34.0038514;-84.38312
X-APPLE-STRUCTURED-LOCATION;VALUE=URI;X-ADDRESS=Chattahoochee Nature Center 9135 Willeo Road Roswell;X-APPLE-RADIUS=500;X-TITLE=9135 Willeo Road:geo:-84.38312,34.0038514
END:VEVENT
BEGIN:VEVENT
DTSTART;TZID=America/New_York:20200216T150000
DTEND;TZID=America/New_York:20200216T150000
DTSTAMP:20260424T044552
CREATED:20200126T183712Z
LAST-MODIFIED:20200126T183712Z
UID:10004867-1581865200-1581865200@www.atlantaparent.com
SUMMARY:Metropolitan Youth Symphony Orchestras of Atlanta
DESCRIPTION:The two orchestras will perform works by Hans Zimmer\, Beethoven\, Tchaikovsky and Marquez. $15; ages 18 and younger\, $6.
URL:https://www.atlantaparent.com/event/metropolitan-youth-symphony-orchestras-of-atlanta/
LOCATION:Rialto Center for the Arts\, 80 Forsyth St. NW\, Atlanta
GEO:33.7567802;-84.3894375
X-APPLE-STRUCTURED-LOCATION;VALUE=URI;X-ADDRESS=Rialto Center for the Arts 80 Forsyth St. NW Atlanta;X-APPLE-RADIUS=500;X-TITLE=80 Forsyth St. NW:geo:-84.3894375,33.7567802
END:VEVENT
BEGIN:VEVENT
DTSTART;TZID=America/New_York:20200215T183000
DTEND;TZID=America/New_York:20200215T210000
DTSTAMP:20260424T044552
CREATED:20200124T141245Z
LAST-MODIFIED:20200124T141245Z
UID:10004905-1581791400-1581800400@www.atlantaparent.com
SUMMARY:Scream in the Dark
DESCRIPTION:Embark on a journey through the haunt “Night of the Gorgon” with your loved ones to take on the nightmare-inducing creatures or try the new One-Night-Only Laser Adventure. Feb. 15\, tickets sold for: 6:30\, 7\, 7:30\, 8\, 8:30 and 9 p.m. $25.95-$39.95.
URL:https://www.atlantaparent.com/event/scream-in-the-dark/
LOCATION:Netherworld Haunted House\, 1313 Netherworld Way\, Stone Mountain\, GA\, United States
GEO:33.8185861;-84.118857
X-APPLE-STRUCTURED-LOCATION;VALUE=URI;X-ADDRESS=Netherworld Haunted House 1313 Netherworld Way Stone Mountain GA United States;X-APPLE-RADIUS=500;X-TITLE=1313 Netherworld Way:geo:-84.118857,33.8185861
END:VEVENT
BEGIN:VEVENT
DTSTART;VALUE=DATE:20200215
DTEND;VALUE=DATE:20200216
DTSTAMP:20260424T044552
CREATED:20200126T182951Z
LAST-MODIFIED:20200126T182951Z
UID:10004860-1581724800-1581811199@www.atlantaparent.com
SUMMARY:Kid Koala’s Satellite Turntable Orchestra
DESCRIPTION:DJ Kid Koala shares an innovative collection of dreamy\, atmospheric tracks as audience members play along with mini turntable stations. Feb. 15\, 7 and 9:30 p.m.
URL:https://www.atlantaparent.com/event/kid-koalas-satellite-turntable-orchestra/
LOCATION:Ferst Center\, 349 Ferst Dr.\, Atlanta
GEO:33.7737189;-84.4001999
X-APPLE-STRUCTURED-LOCATION;VALUE=URI;X-ADDRESS=Ferst Center 349 Ferst Dr. Atlanta;X-APPLE-RADIUS=500;X-TITLE=349 Ferst Dr.:geo:-84.4001999,33.7737189
END:VEVENT
BEGIN:VEVENT
DTSTART;VALUE=DATE:20200215
DTEND;VALUE=DATE:20200216
DTSTAMP:20260424T044552
CREATED:20200110T111316Z
LAST-MODIFIED:20200110T111316Z
UID:10004843-1581724800-1581811199@www.atlantaparent.com
SUMMARY:Romantic Comedy with Jeff Dauler
DESCRIPTION:No matter what your love life currently looks like\, you’ll enjoy listening to these comedians joke about finding love\, losing love\, being in love and surviving love. Feb. 15\, 7:15 and 9:15 p.m.
URL:https://www.atlantaparent.com/event/romantic-comedy-with-jeff-dauler/
LOCATION: Aurora Theatre\, 128 East Pike St.\, Lawrenceville
END:VEVENT
BEGIN:VEVENT
DTSTART;TZID=America/New_York:20200214T200000
DTEND;TZID=America/New_York:20200214T230000
DTSTAMP:20260424T044552
CREATED:20200110T110747Z
LAST-MODIFIED:20200110T110747Z
UID:10004844-1581710400-1581721200@www.atlantaparent.com
SUMMARY:Eat Paint Love: Valentine’s Sip ‘n’ Paint Atlanta
DESCRIPTION:Enjoy dinner and a drink while painting and listening to live music.
URL:https://www.atlantaparent.com/event/eat-paint-love-valentines-sip-n-paint-atlanta/
LOCATION:Blu Lagoon Bar and Bistro\, 2263 Cheshire Bridge Rd. NE\, Atlanta
GEO:33.8169593;-84.3517608
X-APPLE-STRUCTURED-LOCATION;VALUE=URI;X-ADDRESS=Blu Lagoon Bar and Bistro 2263 Cheshire Bridge Rd. NE Atlanta;X-APPLE-RADIUS=500;X-TITLE=2263 Cheshire Bridge Rd. NE:geo:-84.3517608,33.8169593
END:VEVENT
BEGIN:VEVENT
DTSTART;TZID=America/New_York:20200214T193000
DTEND;TZID=America/New_York:20200214T213000
DTSTAMP:20260424T044552
CREATED:20200110T110351Z
LAST-MODIFIED:20200110T110351Z
UID:10004845-1581708600-1581715800@www.atlantaparent.com
SUMMARY:Holy Seduction
DESCRIPTION:Pastor Solomon realizes his commitment to counseling others has left him single\, while Thelma’s three-year relationship has hit a fork in the road at this dinner and a show. Doors open at 6:30 p.m.
URL:https://www.atlantaparent.com/event/holy-seduction/
LOCATION:Porter Sanford III Performing Arts Center\, 3181 Rainbow Dr.\, Decatur
GEO:33.7098754;-84.2591981
X-APPLE-STRUCTURED-LOCATION;VALUE=URI;X-ADDRESS=Porter Sanford III Performing Arts Center 3181 Rainbow Dr. Decatur;X-APPLE-RADIUS=500;X-TITLE=3181 Rainbow Dr.:geo:-84.2591981,33.7098754
END:VEVENT
BEGIN:VEVENT
DTSTART;TZID=America/New_York:20200214T190000
DTEND;TZID=America/New_York:20200214T230000
DTSTAMP:20260424T044552
CREATED:20200110T144448Z
LAST-MODIFIED:20200110T144448Z
UID:10004842-1581706800-1581721200@www.atlantaparent.com
SUMMARY:Valentines in the Garden
DESCRIPTION:Travel through eight decades of romance with themed music\, food and decor\, and dress in the style of your favorite decade. Feb. 14\, 7-11 p.m. $50; VIP Admission per couple\, $175.
URL:https://www.atlantaparent.com/event/valentines-in-the-garden/
LOCATION:Atlanta Botanical Garden\, 1345 Piedmont Ave.\, Atlanta
ATTACH;FMTTYPE=image/jpeg:https://www.atlantaparent.com/wp-content/uploads/2019/11/Valentines-at-ATL-Botanical-Garden-e1578665614282.jpg
GEO:33.7900091;-84.3738585
X-APPLE-STRUCTURED-LOCATION;VALUE=URI;X-ADDRESS=Atlanta Botanical Garden 1345 Piedmont Ave. Atlanta;X-APPLE-RADIUS=500;X-TITLE=1345 Piedmont Ave.:geo:-84.3738585,33.7900091
END:VEVENT
END:VCALENDAR