BEGIN:VCALENDAR
VERSION:2.0
PRODID:-//NEW Atlanta Parent - ECPv6.15.11//NONSGML v1.0//EN
CALSCALE:GREGORIAN
METHOD:PUBLISH
X-ORIGINAL-URL:https://www.atlantaparent.com
X-WR-CALDESC:Events for NEW Atlanta Parent
REFRESH-INTERVAL;VALUE=DURATION:PT1H
X-Robots-Tag:noindex
X-PUBLISHED-TTL:PT1H
BEGIN:VTIMEZONE
TZID:UTC
BEGIN:STANDARD
TZOFFSETFROM:+0000
TZOFFSETTO:+0000
TZNAME:UTC
DTSTART:20190101T000000
END:STANDARD
END:VTIMEZONE
BEGIN:VTIMEZONE
TZID:America/New_York
BEGIN:DAYLIGHT
TZOFFSETFROM:-0500
TZOFFSETTO:-0400
TZNAME:EDT
DTSTART:20190310T070000
END:DAYLIGHT
BEGIN:STANDARD
TZOFFSETFROM:-0400
TZOFFSETTO:-0500
TZNAME:EST
DTSTART:20191103T060000
END:STANDARD
BEGIN:DAYLIGHT
TZOFFSETFROM:-0500
TZOFFSETTO:-0400
TZNAME:EDT
DTSTART:20200308T070000
END:DAYLIGHT
BEGIN:STANDARD
TZOFFSETFROM:-0400
TZOFFSETTO:-0500
TZNAME:EST
DTSTART:20201101T060000
END:STANDARD
BEGIN:DAYLIGHT
TZOFFSETFROM:-0500
TZOFFSETTO:-0400
TZNAME:EDT
DTSTART:20210314T070000
END:DAYLIGHT
BEGIN:STANDARD
TZOFFSETFROM:-0400
TZOFFSETTO:-0500
TZNAME:EST
DTSTART:20211107T060000
END:STANDARD
END:VTIMEZONE
BEGIN:VEVENT
DTSTART;VALUE=DATE:20200502
DTEND;VALUE=DATE:20200504
DTSTAMP:20260423T230646
CREATED:20200303T050059Z
LAST-MODIFIED:20200417T181019Z
UID:10002530-1588377600-1588550399@www.atlantaparent.com
SUMMARY:Snellville Days Festival
DESCRIPTION:Due to cancellations to prevent the spread of coronavirus\, please verify event before you go. \nMore than 200 craft\, food and civic vendors\, a kid’s field\, live entertainment\, a farmer’s market and more. May 2\, 10 a.m.-6 p.m. and May 3\, noon-5 p.m.
URL:https://www.atlantaparent.com/event/snellville-days/
LOCATION:T.W. Briscoe Park\, 2500 Sawyer Pkwy.\, Snellville
GEO:33.8425937;-84.0103183
X-APPLE-STRUCTURED-LOCATION;VALUE=URI;X-ADDRESS=T.W. Briscoe Park 2500 Sawyer Pkwy. Snellville;X-APPLE-RADIUS=500;X-TITLE=2500 Sawyer Pkwy.:geo:-84.0103183,33.8425937
END:VEVENT
BEGIN:VEVENT
DTSTART;VALUE=DATE:20200502
DTEND;VALUE=DATE:20200504
DTSTAMP:20260423T230646
CREATED:20200203T003816Z
LAST-MODIFIED:20200408T181424Z
UID:10001528-1588377600-1588550399@www.atlantaparent.com
SUMMARY:Canton Festival of the Arts
DESCRIPTION:Due to cancellations to prevent the spread of coronavirus\, please verify event before you go. \nCreate live chalk art\, shop the artist’s and maker’s markets\, enjoy local food\, listen to live entertainment and more. May 2-3\, 10 a.m.-5 p.m. Free admission; donation of $5 per adult and $10 per family suggested.
URL:https://www.atlantaparent.com/event/canton-festival-arts/
LOCATION:Brown Park\, 270 E. Marietta St.\, Canton
END:VEVENT
BEGIN:VEVENT
DTSTART;TZID=America/New_York:20200501T180000
DTEND;TZID=America/New_York:20200501T180000
DTSTAMP:20260423T230646
CREATED:20200427T132247Z
LAST-MODIFIED:20200427T132732Z
UID:10004994-1588356000-1588356000@www.atlantaparent.com
SUMMARY:Pete The Cat: Archival Screening with Performer Q&A
DESCRIPTION:The Center for Puppetry Arts is showing a special digital presentation of the 2017 archival footage from Pete the Cat’s premiere run. The screening will be followed by a Q&A with the performers. For ages 4 and older. $10.
URL:https://www.atlantaparent.com/event/pete-the-cat-archival-screening-with-live-qa/
ATTACH;FMTTYPE=image/jpeg:https://www.atlantaparent.com/wp-content/uploads/2020/04/19-20_Pete-the-Cat_Event_Family-Series.jpg
END:VEVENT
BEGIN:VEVENT
DTSTART;TZID=America/New_York:20200425T150000
DTEND;TZID=America/New_York:20200425T220000
DTSTAMP:20260423T230646
CREATED:20200305T190228Z
LAST-MODIFIED:20200324T181614Z
UID:10005011-1587826800-1587852000@www.atlantaparent.com
SUMMARY:Ride Away Music Fest
DESCRIPTION:Due to cancellations to prevent the spread of coronavirus\, please verify event before you go. \nCelebrate music at this festival which supports providing scholarships and life-changing opportunities to young people.
URL:https://www.atlantaparent.com/event/ride-away-music-fest/
LOCATION:Suwanee Town Center Park\, 330 Town Center Avenue\, Suwanee
GEO:34.0554079;-84.0640898
X-APPLE-STRUCTURED-LOCATION;VALUE=URI;X-ADDRESS=Suwanee Town Center Park 330 Town Center Avenue Suwanee;X-APPLE-RADIUS=500;X-TITLE=330 Town Center Avenue:geo:-84.0640898,34.0554079
END:VEVENT
BEGIN:VEVENT
DTSTART;TZID=America/New_York:20200425T130000
DTEND;TZID=America/New_York:20200425T130000
DTSTAMP:20260423T230646
CREATED:20200420T202513Z
LAST-MODIFIED:20200420T202513Z
UID:10005034-1587819600-1587819600@www.atlantaparent.com
SUMMARY:Virtual: Steps for Kindness
DESCRIPTION:Walk 5\,400 steps in support of the 1 in 54 U.S. kids with autism with this online event by Autism Speaks. Join in on with the interactive program on Facebook on April 25 at 1 p.m.\, before starting the steps at 1:20 p.m.
URL:https://www.atlantaparent.com/event/virtual-steps-for-kindness/
END:VEVENT
BEGIN:VEVENT
DTSTART;TZID=UTC:20200425T110000
DTEND;TZID=UTC:20200425T160000
DTSTAMP:20260423T230646
CREATED:20200303T050034Z
LAST-MODIFIED:20200324T181542Z
UID:10002439-1587812400-1587830400@www.atlantaparent.com
SUMMARY:Spring Chicken Festival
DESCRIPTION:Due to cancellations to prevent the spread of coronavirus\, please verify event before you go. \nTaste the official chicken cook-off at the poultry capital of the world.
URL:https://www.atlantaparent.com/event/spring-chicken-festival/
LOCATION:Longwood Park\, 20 Pearl Nix Pkwy.\, Gainesville
GEO:34.3037599;-83.8463417
X-APPLE-STRUCTURED-LOCATION;VALUE=URI;X-ADDRESS=Longwood Park 20 Pearl Nix Pkwy. Gainesville;X-APPLE-RADIUS=500;X-TITLE=20 Pearl Nix Pkwy.:geo:-83.8463417,34.3037599
END:VEVENT
BEGIN:VEVENT
DTSTART;TZID=UTC:20200424T180000
DTEND;TZID=UTC:20200424T210000
DTSTAMP:20260423T230646
CREATED:20200303T050009Z
LAST-MODIFIED:20200324T181430Z
UID:10002429-1587751200-1587762000@www.atlantaparent.com
SUMMARY:Taste of Henry
DESCRIPTION:Due to cancellations to prevent the spread of coronavirus\, please verify event before you go. \nDine with friends\, family and neighbors to benefit A Friend’s House with face painting\, balloons and inflatables for kids. $20; ages 3-12\, $5; ages 2 and younger\, free.
URL:https://www.atlantaparent.com/event/taste-of-henry/
LOCATION:Heritage Park\, 99 Lake Dow Rd.\, McDonough
GEO:33.4413864;-84.1204241
X-APPLE-STRUCTURED-LOCATION;VALUE=URI;X-ADDRESS=Heritage Park 99 Lake Dow Rd. McDonough;X-APPLE-RADIUS=500;X-TITLE=99 Lake Dow Rd.:geo:-84.1204241,33.4413864
END:VEVENT
BEGIN:VEVENT
DTSTART;VALUE=DATE:20200423
DTEND;VALUE=DATE:20200427
DTSTAMP:20260423T230646
CREATED:20200211T174329Z
LAST-MODIFIED:20200324T181327Z
UID:10004026-1587600000-1587945599@www.atlantaparent.com
SUMMARY:Roswell Azalea Festival
DESCRIPTION:Due to cancellations to prevent the spread of coronavirus\, please verify event before you go. \nCelebrate spring with a garden faire\, open street festival\, bike ride\, food and drink\, music\, art and more at locations around Roswell. April 23-26. See website for locations\, times and admission fees.
URL:https://www.atlantaparent.com/event/roswell-azalea-festival/
LOCATION:Roswell
END:VEVENT
BEGIN:VEVENT
DTSTART;VALUE=DATE:20200420
DTEND;VALUE=DATE:20200425
DTSTAMP:20260423T230646
CREATED:20200420T140055Z
LAST-MODIFIED:20200427T133421Z
UID:10004993-1587340800-1587772799@www.atlantaparent.com
SUMMARY:#CMAatHome: Earth Week
DESCRIPTION:Each day this week at 11 a.m.\, enjoy earth-themed activities in celebration of Earth Day\, including crafts\, Professor Labcoat answering kids’ questions and more.
URL:https://www.atlantaparent.com/event/cmaathome-earth-week/
ATTACH;FMTTYPE=image/jpeg:https://www.atlantaparent.com/wp-content/uploads/2020/04/IMG_3902-rotated-e1587391071905.jpg
END:VEVENT
BEGIN:VEVENT
DTSTART;TZID=America/New_York:20200418T100000
DTEND;TZID=America/New_York:20200418T160000
DTSTAMP:20260423T230646
CREATED:20200220T144708Z
LAST-MODIFIED:20200319T181743Z
UID:10004755-1587204000-1587225600@www.atlantaparent.com
SUMMARY:Wealthy Habits One-Day Program
DESCRIPTION:Due to cancellations to prevent the spread of coronavirus\, please verify event before you go. \nThis Financial Literacy Boot Camp teaches saving\, investing\, tax\, economics and more through educational games\, real-world scenarios and hands-on activities. Ages 13-16: March 14\, 10 a.m.-4 p.m. Ages 14-18: April 4\, 10 a.m.-4 p.m. Ages 11-13: April 18\, 10 a.m.-4 p.m.
URL:https://www.atlantaparent.com/event/wealthy-habits-one-day-program/2020-04-18/
LOCATION:Wealthy Habits\, 1200 Ashwood Pkwy\, Dunwoody\, GA\, 30338
GEO:33.9335769;-84.3406477
X-APPLE-STRUCTURED-LOCATION;VALUE=URI;X-ADDRESS=Wealthy Habits 1200 Ashwood Pkwy Dunwoody GA 30338;X-APPLE-RADIUS=500;X-TITLE=1200 Ashwood Pkwy:geo:-84.3406477,33.9335769
END:VEVENT
BEGIN:VEVENT
DTSTART;TZID=UTC:20200416T170000
DTEND;TZID=UTC:20200416T203000
DTSTAMP:20260423T230646
CREATED:20200205T185814Z
LAST-MODIFIED:20200324T180253Z
UID:10002431-1587056400-1587069000@www.atlantaparent.com
SUMMARY:Taste of Newnan
DESCRIPTION:Due to cancellations to prevent the spread of coronavirus\, please verify event before you go. \nTaste regional restaurants’ most popular dishes\, and enjoy live music and family-friendly activities. April 16\, 5-8:30 p.m. Free admission.
URL:https://www.atlantaparent.com/event/taste-of-newnan/
LOCATION:Downtown Newnan\, North and South Court Square\, Newnan
GEO:33.374402;-84.7999812
X-APPLE-STRUCTURED-LOCATION;VALUE=URI;X-ADDRESS=Downtown Newnan North and South Court Square Newnan;X-APPLE-RADIUS=500;X-TITLE=North and South Court Square:geo:-84.7999812,33.374402
END:VEVENT
BEGIN:VEVENT
DTSTART;TZID=America/New_York:20200414T190000
DTEND;TZID=America/New_York:20200414T190000
DTSTAMP:20260423T230646
CREATED:20200410T131633Z
LAST-MODIFIED:20200415T191430Z
UID:10004996-1586890800-1586890800@www.atlantaparent.com
SUMMARY:Sesame Street: Elmo’s Playdate
DESCRIPTION:Celebrity guests Anne Hathaway\, Lin-Manuel Miranda and Tracee Ellis Ross join Elmo and friends for a half-hour “virtual playdate” on WarnerMedia Networks (HBO\, TNT\, TBS\, Cartoon Network\, Boomerang and truTV) and PBS KIDS. This simulcast special will help kids and families around the world feel connected in this time of uncertainty with songs\, games and dance breaks. The special starts on April 14\, 7 p.m.
URL:https://www.atlantaparent.com/event/sesame-street-elmos-playdate/
ATTACH;FMTTYPE=image/png:https://www.atlantaparent.com/wp-content/uploads/2020/04/elmoplaydate_final.png
END:VEVENT
BEGIN:VEVENT
DTSTART;TZID=America/New_York:20200412T140000
DTEND;TZID=America/New_York:20200412T140000
DTSTAMP:20260423T230646
CREATED:20200124T193451Z
LAST-MODIFIED:20200413T123523Z
UID:10004868-1586700000-1586700000@www.atlantaparent.com
SUMMARY:Swan Princess
DESCRIPTION:Watch a virtual Sunday matinee of this performance by the Atlanta Ballet 2\, where Odette\, the beautiful swan princess\, must escape the wicked Von Rothbart. April 12\, 2 p.m.
URL:https://www.atlantaparent.com/event/swan-princess/
ATTACH;FMTTYPE=image/jpeg:https://www.atlantaparent.com/wp-content/uploads/2020/01/Atlanta-Ballet-2-Dancers-Rehearsing-The-Swan-Princess_Photo-by-Kim-Kenney-scaled-e1580225602964.jpg
END:VEVENT
BEGIN:VEVENT
DTSTART;TZID=America/New_York:20200411T140000
DTEND;TZID=America/New_York:20200411T140000
DTSTAMP:20260423T230646
CREATED:20200210T050039Z
LAST-MODIFIED:20200324T175639Z
UID:10004058-1586613600-1586613600@www.atlantaparent.com
SUMMARY:Easter Egg Hunt at Sardis UMC
DESCRIPTION:Due to cancellations to prevent the spread of coronavirus\, please verify event before you go. \nBring your own basket for an egg hunt\, cookies\, visit from the Easter Bunny and more.
URL:https://www.atlantaparent.com/event/easter-egg-hunt-at-sardis-umc/
LOCATION:Sardis United Methodist Church\, 3725 Powers Ferry Rd. NW\, Atlanta
GEO:33.8574361;-84.3836832
X-APPLE-STRUCTURED-LOCATION;VALUE=URI;X-ADDRESS=Sardis United Methodist Church 3725 Powers Ferry Rd. NW Atlanta;X-APPLE-RADIUS=500;X-TITLE=3725 Powers Ferry Rd. NW:geo:-84.3836832,33.8574361
END:VEVENT
BEGIN:VEVENT
DTSTART;TZID=America/New_York:20200411T110000
DTEND;TZID=America/New_York:20200411T120000
DTSTAMP:20260423T230646
CREATED:20200309T182056Z
LAST-MODIFIED:20200324T175538Z
UID:10005017-1586602800-1586606400@www.atlantaparent.com
SUMMARY:Easter Egg Hunt
DESCRIPTION:Due to cancellations to prevent the spread of coronavirus\, please verify event before you go. \nLawrenceville First Baptist church hosts a traditional egg hunt on the courthouse front lawn.
URL:https://www.atlantaparent.com/event/easter-egg-hunt-5/
LOCATION:Lawrenceville Lawn\, 210 Luckie Street\, Lawrenceville
GEO:33.954352;-83.9867919
X-APPLE-STRUCTURED-LOCATION;VALUE=URI;X-ADDRESS=Lawrenceville Lawn 210 Luckie Street Lawrenceville;X-APPLE-RADIUS=500;X-TITLE=210 Luckie Street:geo:-83.9867919,33.954352
END:VEVENT
BEGIN:VEVENT
DTSTART;TZID=America/New_York:20200411T100000
DTEND;TZID=America/New_York:20200411T140000
DTSTAMP:20260423T230646
CREATED:20200305T185802Z
LAST-MODIFIED:20200324T174408Z
UID:10005010-1586599200-1586613600@www.atlantaparent.com
SUMMARY:Duluth Rotary Car Show
DESCRIPTION:Due to cancellations to prevent the spread of coronavirus\, please verify event before you go. \nSee exotic cars\, antique classics\, foreign sports\, hot rods and more\, along with music\, a raffle and food.
URL:https://www.atlantaparent.com/event/duluth-rotary-car-show/
LOCATION:Downtown Duluth\, Main St.\, Duluth
GEO:46.7339512;-92.1762692
X-APPLE-STRUCTURED-LOCATION;VALUE=URI;X-ADDRESS=Downtown Duluth Main St. Duluth;X-APPLE-RADIUS=500;X-TITLE=Main St.:geo:-92.1762692,46.7339512
END:VEVENT
BEGIN:VEVENT
DTSTART;TZID=America/New_York:20200411T083000
DTEND;TZID=America/New_York:20200411T103000
DTSTAMP:20260423T230646
CREATED:20200219T015305Z
LAST-MODIFIED:20200324T031845Z
UID:10004918-1586593800-1586601000@www.atlantaparent.com
SUMMARY:Sensory Underwater Egg Hunt
DESCRIPTION:Due to cancellations to prevent the spread of coronavirus\, please verify event before you go. \nKids with sensory sensitivities can hunt for eggs underwater\, play games\, visit with the Easter Bunny and more. Bring a swimsuit\, waterproof basket and towel. Pre-register.
URL:https://www.atlantaparent.com/event/sensory-underwater-egg-hunt/
LOCATION:Bethesda Park Aquatic Center\, 225 Bethesda Church Rd.\, Lawrenceville
GEO:33.9031048;-84.0868797
X-APPLE-STRUCTURED-LOCATION;VALUE=URI;X-ADDRESS=Bethesda Park Aquatic Center 225 Bethesda Church Rd. Lawrenceville;X-APPLE-RADIUS=500;X-TITLE=225 Bethesda Church Rd.:geo:-84.0868797,33.9031048
END:VEVENT
BEGIN:VEVENT
DTSTART;TZID=UTC:20200410T100000
DTEND;TZID=UTC:20200410T130000
DTSTAMP:20260423T230646
CREATED:20200210T050005Z
LAST-MODIFIED:20230828T145429Z
UID:10000951-1586512800-1586523600@www.atlantaparent.com
SUMMARY:Magic Mondays: Egg Hunt
DESCRIPTION:Search for eggs hidden through the farm\, play games\, meet the Easter Bunny and make crafts. Adults\, $6.50; children\, $5.50.
URL:https://www.atlantaparent.com/event/magic-monday-l-o-v-e/
LOCATION:Atlanta History Center\, 130 W. Paces Ferry Rd.\, Atlanta\, GA
ATTACH;FMTTYPE=image/jpeg:https://www.atlantaparent.com/wp-content/uploads/2020/02/Hales-Photo-AHC-Spring-Property-1067-scaled-e1581602836621.jpg
GEO:33.8413097;-84.3857926
X-APPLE-STRUCTURED-LOCATION;VALUE=URI;X-ADDRESS=Atlanta History Center 130 W. Paces Ferry Rd. Atlanta GA;X-APPLE-RADIUS=500;X-TITLE=130 W. Paces Ferry Rd.:geo:-84.3857926,33.8413097
END:VEVENT
BEGIN:VEVENT
DTSTART;TZID=America/New_York:20200410T100000
DTEND;TZID=America/New_York:20200410T113000
DTSTAMP:20260423T230646
CREATED:20200225T034453Z
LAST-MODIFIED:20200324T031418Z
UID:10004959-1586512800-1586518200@www.atlantaparent.com
SUMMARY:Egg-Citing Easter
DESCRIPTION:Due to cancellations to prevent the spread of coronavirus\, please verify event before you go. \nEnjoy outdoor fun with crafts\, face painting\, snacks and an egg hunt (starts at 11 a.m.) Bring your own basket. Ages 2-5.
URL:https://www.atlantaparent.com/event/egg-citing-easter/
LOCATION:OneStop Centerville\, 3025 Bethany Church Road\, Snellville
GEO:33.816837;-84.0495331
X-APPLE-STRUCTURED-LOCATION;VALUE=URI;X-ADDRESS=OneStop Centerville 3025 Bethany Church Road Snellville;X-APPLE-RADIUS=500;X-TITLE=3025 Bethany Church Road:geo:-84.0495331,33.816837
END:VEVENT
BEGIN:VEVENT
DTSTART;VALUE=DATE:20200410
DTEND;VALUE=DATE:20200427
DTSTAMP:20260423T230646
CREATED:20200318T020636Z
LAST-MODIFIED:20200318T020636Z
UID:10004990-1586476800-1587945599@www.atlantaparent.com
SUMMARY:POSTPONED: Grease
DESCRIPTION:Due to cancellations to prevent the spread of coronavirus\, please verify event before you go. \nIt’s 1959\, and Rydell High School’s senior class isn’t ready to leave their rebellious natures behind once they graduate in this musical presented by Theatre Buford. April 10-26. See website for showtimes. Recommended for ages 13 and older.
URL:https://www.atlantaparent.com/event/postponed-grease/
LOCATION:Buford Community Center Theatre\, 2200 Buford Hwy.\, Buford
GEO:34.1135467;-83.9959486
X-APPLE-STRUCTURED-LOCATION;VALUE=URI;X-ADDRESS=Buford Community Center Theatre 2200 Buford Hwy. Buford;X-APPLE-RADIUS=500;X-TITLE=2200 Buford Hwy.:geo:-83.9959486,34.1135467
END:VEVENT
BEGIN:VEVENT
DTSTART;VALUE=DATE:20200410
DTEND;VALUE=DATE:20200413
DTSTAMP:20260423T230646
CREATED:20250118T025839Z
LAST-MODIFIED:20250120T154005Z
UID:10004991-1586476800-1586735999@www.atlantaparent.com
SUMMARY:The Swan Princess
DESCRIPTION:Kim Kenney \nFrom Atlanta Ballet 2\, introduce your little ones to the beauty of ballet with this one-hour fairy tale. Feb. 15\, 1 and 5 p.m. and Feb. 16\, 1 p.m. $12-$72.
URL:https://www.atlantaparent.com/event/the-swan-princess/
LOCATION:Cobb Energy Centre\, 2800 Cobb Galleria Pkwy\, Atlanta
ATTACH;FMTTYPE=image/jpeg:https://www.atlantaparent.com/wp-content/uploads/2020/03/Atlanta-Ballet-2_The-Swan-Princess_credit-Kim-Kenney-b-e1737387558549.jpg
GEO:33.8847898;-84.4588515
X-APPLE-STRUCTURED-LOCATION;VALUE=URI;X-ADDRESS=Cobb Energy Centre 2800 Cobb Galleria Pkwy Atlanta;X-APPLE-RADIUS=500;X-TITLE=2800 Cobb Galleria Pkwy:geo:-84.4588515,33.8847898
END:VEVENT
BEGIN:VEVENT
DTSTART;TZID=America/New_York:20200405T100000
DTEND;TZID=America/New_York:20200405T170000
DTSTAMP:20260423T230646
CREATED:20200318T014827Z
LAST-MODIFIED:20200318T014827Z
UID:10005028-1586080800-1586106000@www.atlantaparent.com
SUMMARY:Cultural Explorations
DESCRIPTION:Due to cancellations to prevent the spread of coronavirus\, please verify event before you go. \nCelebrate the Jewish Passover with songs\, stories\, a performance and a themed craft. $18.95; younger than 1\, free.
URL:https://www.atlantaparent.com/event/cultural-explorations/
LOCATION:Children’s Museum of Atlanta\, 275 Centennial Olympic Park Drive\, Atlanta\, GA
GEO:33.762568;-84.3914318
X-APPLE-STRUCTURED-LOCATION;VALUE=URI;X-ADDRESS=Children’s Museum of Atlanta 275 Centennial Olympic Park Drive Atlanta GA;X-APPLE-RADIUS=500;X-TITLE=275 Centennial Olympic Park Drive:geo:-84.3914318,33.762568
END:VEVENT
BEGIN:VEVENT
DTSTART;TZID=America/New_York:20200404T150000
DTEND;TZID=America/New_York:20200404T170000
DTSTAMP:20260423T230646
CREATED:20200309T181319Z
LAST-MODIFIED:20200319T183016Z
UID:10004973-1586012400-1586019600@www.atlantaparent.com
SUMMARY:Egg Drop
DESCRIPTION:Due to cancellations to prevent the spread of coronavirus\, please verify event before you go. \nThousands of eggs will be dropped from a helicopter onto the church recreation fields for a massive egg hunt. Pre-register.
URL:https://www.atlantaparent.com/event/egg-drop/
LOCATION:Stockbridge First United Methodist Church\, 4863 N. Henry Blvd.\, Stockbridge
GEO:33.5441158;-84.2380671
X-APPLE-STRUCTURED-LOCATION;VALUE=URI;X-ADDRESS=Stockbridge First United Methodist Church 4863 N. Henry Blvd. Stockbridge;X-APPLE-RADIUS=500;X-TITLE=4863 N. Henry Blvd.:geo:-84.2380671,33.5441158
END:VEVENT
BEGIN:VEVENT
DTSTART;TZID=America/New_York:20200404T130000
DTEND;TZID=America/New_York:20200404T173000
DTSTAMP:20260423T230646
CREATED:20200317T040040Z
LAST-MODIFIED:20200317T182628Z
UID:10003004-1586005200-1586021400@www.atlantaparent.com
SUMMARY:Baby Expo
DESCRIPTION:Due to cancellations to prevent the spread of coronavirus\, please verify event before you go. \nThis fun educational expo has exhibitors\, giveaways\, raffles\, speakers\, games\, mommy goody bags and more for parents-to-be\, expecting moms and couples.
URL:https://www.atlantaparent.com/event/baby-expo/
LOCATION:Cobb Galleria Centre\, 2 Galleria Pkwy.\, Atlanta
ATTACH;FMTTYPE=image/jpeg:https://www.atlantaparent.com/wp-content/uploads/2017/09/20161016_142057.jpg
GEO:33.8835128;-84.4665684
X-APPLE-STRUCTURED-LOCATION;VALUE=URI;X-ADDRESS=Cobb Galleria Centre 2 Galleria Pkwy. Atlanta;X-APPLE-RADIUS=500;X-TITLE=2 Galleria Pkwy.:geo:-84.4665684,33.8835128
END:VEVENT
BEGIN:VEVENT
DTSTART;TZID=America/New_York:20200404T130000
DTEND;TZID=America/New_York:20200404T160000
DTSTAMP:20260423T230646
CREATED:20200225T040424Z
LAST-MODIFIED:20200319T182832Z
UID:10004957-1586005200-1586016000@www.atlantaparent.com
SUMMARY:Eggstravaganza Spring Festival
DESCRIPTION:Due to cancellations to prevent the spread of coronavirus\, please verify event before you go. \nEgg hunt for ages 13 and under\, plus exhibitors\, entertainment\, inflatables and a rock wall.
URL:https://www.atlantaparent.com/event/eggstravaganza-spring-festival/
LOCATION:Rum Creek Park\, 1303 Government Circle\, Jonesboro\, 30236
GEO:33.5352823;-84.3459888
X-APPLE-STRUCTURED-LOCATION;VALUE=URI;X-ADDRESS=Rum Creek Park 1303 Government Circle Jonesboro 30236;X-APPLE-RADIUS=500;X-TITLE=1303 Government Circle:geo:-84.3459888,33.5352823
END:VEVENT
BEGIN:VEVENT
DTSTART;TZID=America/New_York:20200404T110000
DTEND;TZID=America/New_York:20200404T160000
DTSTAMP:20260423T230646
CREATED:20200305T191359Z
LAST-MODIFIED:20200319T182558Z
UID:10004970-1585998000-1586016000@www.atlantaparent.com
SUMMARY:Urban Forest Festival
DESCRIPTION:Due to cancellations to prevent the spread of coronavirus\, please verify event before you go. \nCelebrate southwest Atlanta’s urban forests and wildlife inhabitants with educational and entertaining exhibits\, guided hikes\, hands-on activities and more.
URL:https://www.atlantaparent.com/event/urban-forest-festival/
LOCATION:Outdoor Activity Center\, 1442 Richland Rd. SW\, Atlanta
GEO:33.7302901;-84.4349289
X-APPLE-STRUCTURED-LOCATION;VALUE=URI;X-ADDRESS=Outdoor Activity Center 1442 Richland Rd. SW Atlanta;X-APPLE-RADIUS=500;X-TITLE=1442 Richland Rd. SW:geo:-84.4349289,33.7302901
END:VEVENT
BEGIN:VEVENT
DTSTART;TZID=America/New_York:20200404T100000
DTEND;TZID=America/New_York:20200404T170000
DTSTAMP:20260423T230646
CREATED:20200212T050010Z
LAST-MODIFIED:20200319T181558Z
UID:10003440-1585994400-1586019600@www.atlantaparent.com
SUMMARY:Easter Eggstravaganza
DESCRIPTION:Due to cancellations to prevent the spread of coronavirus\, please verify event before you go. \nFeatures over 40\,000 prize-filled eggs.
URL:https://www.atlantaparent.com/event/easter-eggstravaganza-2/
LOCATION:The Rock Ranch\, 5020 Barnesville Highway\, The Rock
ATTACH;FMTTYPE=image/jpeg:https://www.atlantaparent.com/wp-content/uploads/2020/02/The-Rock-Ranch-Easter-Eggstravaganza-scaled-e1582128011618.jpg
GEO:32.9644135;-84.2302872
X-APPLE-STRUCTURED-LOCATION;VALUE=URI;X-ADDRESS=The Rock Ranch 5020 Barnesville Highway The Rock;X-APPLE-RADIUS=500;X-TITLE=5020 Barnesville Highway:geo:-84.2302872,32.9644135
END:VEVENT
BEGIN:VEVENT
DTSTART;TZID=America/New_York:20200404T100000
DTEND;TZID=America/New_York:20200404T140000
DTSTAMP:20260423T230646
CREATED:20200308T050036Z
LAST-MODIFIED:20200319T182036Z
UID:10003500-1585994400-1586008800@www.atlantaparent.com
SUMMARY:Cobb County Egg Hunt
DESCRIPTION:Due to cancellations to prevent the spread of coronavirus\, please verify event before you go. \nHunt for eggs\, enjoy children’s art activities\, live entertainment\, inflatables\, games and contests.
URL:https://www.atlantaparent.com/event/cobb-county-egg-hunt/
LOCATION:Al Bishop Softball Complex\, 1082 Al Bishop Dr.\,\, Marietta
GEO:33.9027986;-84.5879267
X-APPLE-STRUCTURED-LOCATION;VALUE=URI;X-ADDRESS=Al Bishop Softball Complex 1082 Al Bishop Dr. Marietta;X-APPLE-RADIUS=500;X-TITLE=1082 Al Bishop Dr.\,:geo:-84.5879267,33.9027986
END:VEVENT
BEGIN:VEVENT
DTSTART;TZID=America/New_York:20200404T090000
DTEND;TZID=America/New_York:20200404T163000
DTSTAMP:20260423T230646
CREATED:20191217T155017Z
LAST-MODIFIED:20200319T181314Z
UID:10004852-1585990800-1586017800@www.atlantaparent.com
SUMMARY:Atlanta Adventure Challenge
DESCRIPTION:Due to cancellations to prevent the spread of coronavirus\, please verify event before you go.\n\nThis adventure scavenger hunt has a 4- or 8-hour course where you’ll compete as a team\, find control points or flags\, and walk\, bike or canoe to explore the area and retrieve items. See website for full schedule. $75-$145; ages 12 and younger are free with a paying adult.
URL:https://www.atlantaparent.com/event/atlanta-adventure-challenge/
LOCATION:Fort Yargo State Park\, 210 S Broad St.\, Winder\, GA\, 30680
GEO:33.9842248;-83.7335698
X-APPLE-STRUCTURED-LOCATION;VALUE=URI;X-ADDRESS=Fort Yargo State Park 210 S Broad St. Winder GA 30680;X-APPLE-RADIUS=500;X-TITLE=210 S Broad St.:geo:-83.7335698,33.9842248
END:VEVENT
BEGIN:VEVENT
DTSTART;VALUE=DATE:20200404
DTEND;VALUE=DATE:20200406
DTSTAMP:20260423T230646
CREATED:20200317T040032Z
LAST-MODIFIED:20200318T014002Z
UID:10002466-1585958400-1586131199@www.atlantaparent.com
SUMMARY:POSTPONED: Caboose Days at Southeastern Railway Museum
DESCRIPTION:Due to cancellations to prevent the spread of coronavirus\, please verify event before you go. \nHonor the history of cabooses with an art contest\, live music\, stories about life on the rails\, raffles and more. April 4-5\, 11 a.m.-4 p.m. $10; ages 2-12\, $7; ages 1 and younger\, free.
URL:https://www.atlantaparent.com/event/caboose-days/
LOCATION:Southeastern Railway Museum\, 3595 Buford Highway\, Duluth
ATTACH;FMTTYPE=image/jpeg:https://www.atlantaparent.com/wp-content/uploads/2020/03/IMG_43141-b.jpg
GEO:33.989078;-84.1558636
X-APPLE-STRUCTURED-LOCATION;VALUE=URI;X-ADDRESS=Southeastern Railway Museum 3595 Buford Highway Duluth;X-APPLE-RADIUS=500;X-TITLE=3595 Buford Highway:geo:-84.1558636,33.989078
END:VEVENT
END:VCALENDAR