BEGIN:VCALENDAR
VERSION:2.0
PRODID:-//NEW Atlanta Parent - ECPv6.15.11//NONSGML v1.0//EN
CALSCALE:GREGORIAN
METHOD:PUBLISH
X-ORIGINAL-URL:https://www.atlantaparent.com
X-WR-CALDESC:Events for NEW Atlanta Parent
REFRESH-INTERVAL;VALUE=DURATION:PT1H
X-Robots-Tag:noindex
X-PUBLISHED-TTL:PT1H
BEGIN:VTIMEZONE
TZID:America/New_York
BEGIN:DAYLIGHT
TZOFFSETFROM:-0500
TZOFFSETTO:-0400
TZNAME:EDT
DTSTART:20190310T070000
END:DAYLIGHT
BEGIN:STANDARD
TZOFFSETFROM:-0400
TZOFFSETTO:-0500
TZNAME:EST
DTSTART:20191103T060000
END:STANDARD
BEGIN:DAYLIGHT
TZOFFSETFROM:-0500
TZOFFSETTO:-0400
TZNAME:EDT
DTSTART:20200308T070000
END:DAYLIGHT
BEGIN:STANDARD
TZOFFSETFROM:-0400
TZOFFSETTO:-0500
TZNAME:EST
DTSTART:20201101T060000
END:STANDARD
BEGIN:DAYLIGHT
TZOFFSETFROM:-0500
TZOFFSETTO:-0400
TZNAME:EDT
DTSTART:20210314T070000
END:DAYLIGHT
BEGIN:STANDARD
TZOFFSETFROM:-0400
TZOFFSETTO:-0500
TZNAME:EST
DTSTART:20211107T060000
END:STANDARD
END:VTIMEZONE
BEGIN:VEVENT
DTSTART;VALUE=DATE:20200717
DTEND;VALUE=DATE:20200801
DTSTAMP:20260423T195525
CREATED:20200717T154253Z
LAST-MODIFIED:20200727T131722Z
UID:10005097-1594944000-1596239999@www.atlantaparent.com
SUMMARY:Bears at Colony Square
DESCRIPTION:Giant\, smiling teddy bears have been spotted hanging around at Colony Square sipping coffee in The Grove\, working out in C-Cycle\, chatting with Concierge and smiling and bringing joy wherever they are.
URL:https://www.atlantaparent.com/event/bears-at-colony-square/
LOCATION:Colony Square\, 1197 Peachtree St. NE\, Atlanta
ATTACH;FMTTYPE=image/jpeg:https://www.atlantaparent.com/wp-content/uploads/2020/07/CSBearOnProperty_AAA6185-scaled-e1595000548180.jpg
END:VEVENT
BEGIN:VEVENT
DTSTART;TZID=America/New_York:20200716T190000
DTEND;TZID=America/New_York:20200716T190000
DTSTAMP:20260423T195525
CREATED:20200625T161622Z
LAST-MODIFIED:20200625T161622Z
UID:10005273-1594926000-1594926000@www.atlantaparent.com
SUMMARY:Remote Control with Max Major
DESCRIPTION:Presented by Cobb Energy Performing Arts Centre\, this virtual mind-reading experience features mentalist Max Major’s powers of hypnosis and mentalism. The fun begins before the show with a special package in the mail. July 11 and 16\, 7 p.m. $45.
URL:https://www.atlantaparent.com/event/remote-control-with-max-major/2020-07-16/
END:VEVENT
BEGIN:VEVENT
DTSTART;VALUE=DATE:20200715
DTEND;VALUE=DATE:20200727
DTSTAMP:20260423T195525
CREATED:20200626T160839Z
LAST-MODIFIED:20200720T133122Z
UID:10005046-1594771200-1595807999@www.atlantaparent.com
SUMMARY:Santa's Missing Mail
DESCRIPTION:When two evil bad guys decide to stop Christmas by stealing Santa’s mail\, there is only one super hero who can help in this virtual performance from David Stephens. July 15-26. Wed.-Fri. 11 a.m. Sat.-Sun. 1 p.m. $11.
URL:https://www.atlantaparent.com/event/santas-missing-mail-2/
LOCATION:Center for Puppetry Arts\, 1404 Spring Street NW\, Atlanta
ATTACH;FMTTYPE=image/jpeg:https://www.atlantaparent.com/wp-content/uploads/2018/11/Santas-Missing-Mail--e1594647000418.jpg
GEO:33.7928692;-84.3895974
X-APPLE-STRUCTURED-LOCATION;VALUE=URI;X-ADDRESS=Center for Puppetry Arts 1404 Spring Street NW Atlanta;X-APPLE-RADIUS=500;X-TITLE=1404 Spring Street NW:geo:-84.3895974,33.7928692
END:VEVENT
BEGIN:VEVENT
DTSTART;TZID=America/New_York:20200711T120000
DTEND;TZID=America/New_York:20200711T140000
DTSTAMP:20260423T195525
CREATED:20200615T193827Z
LAST-MODIFIED:20200615T193827Z
UID:10005020-1594468800-1594476000@www.atlantaparent.com
SUMMARY:Virtual P3 Party for Girls
DESCRIPTION:The Princess\, Pearls & Puberty: A Discovery Party of Girls™ helps mothers and fathers comfortably talk with their preteen daughters about their impending body changes due to puberty in a fun\, educational\, positive and safe environment. This virtual party features education\, meeting girls from different cities\, speakers\, a DJ\, a dance choreographer and more. July 11\, Noon-2 p.m. $1.
URL:https://www.atlantaparent.com/event/virtual-p3-party-for-girls/
END:VEVENT
BEGIN:VEVENT
DTSTART;VALUE=DATE:20200710
DTEND;VALUE=DATE:20200803
DTSTAMP:20260423T195525
CREATED:20200625T153340Z
LAST-MODIFIED:20200713T132901Z
UID:10005036-1594339200-1596412799@www.atlantaparent.com
SUMMARY:Smoke on the Mountain
DESCRIPTION:The Sanders Family\, a traveling group of bluegrass performers\, try to inspire Mount Pleasant Baptist Church’s congregation with their perfection and faith\, but as the evening goes awry\, their hilariously imperfect natures are revealed. July 10-Aug. 2. Thur.-Sun.\, 7:45 p.m. $30-$45; ages 12 and younger\, $15.
URL:https://www.atlantaparent.com/event/smoke-on-the-mountain/
LOCATION: The Legacy Theatre\, 1175 Senoia Road\, Ste. C\, Tyrone
ATTACH;FMTTYPE=image/jpeg:https://www.atlantaparent.com/wp-content/uploads/2020/06/smoke-on-the-mtn-b-scaled-e1593099162891.jpg
GEO:33.489155;-84.5824515
X-APPLE-STRUCTURED-LOCATION;VALUE=URI;X-ADDRESS= The Legacy Theatre 1175 Senoia Road Ste. C Tyrone;X-APPLE-RADIUS=500;X-TITLE=1175 Senoia Road\, Ste. C:geo:-84.5824515,33.489155
END:VEVENT
BEGIN:VEVENT
DTSTART;VALUE=DATE:20200709
DTEND;VALUE=DATE:20200726
DTSTAMP:20260423T195525
CREATED:20200626T155252Z
LAST-MODIFIED:20200626T155252Z
UID:10005047-1594252800-1595721599@www.atlantaparent.com
SUMMARY:Summer Surf Party
DESCRIPTION:Georgia Ensemble Theatre presents a tribute to the Beach Boys and surf rock for you to enjoy outdoors with a picnic. July 9-25. Thur.-Sat. 8 p.m.; grounds open at 6:30 p.m. Box Office hours: Tue.-Sat. 12:30-6 p.m. Table seats: $36.50; Lawn seats: $21.50.
URL:https://www.atlantaparent.com/event/summer-surf-party/
LOCATION:Chattahoochee Nature Center\, 9135 Willeo Rd.\, Roswell\, GA\, 30075
GEO:34.0040047;-84.3827881
X-APPLE-STRUCTURED-LOCATION;VALUE=URI;X-ADDRESS=Chattahoochee Nature Center 9135 Willeo Rd. Roswell GA 30075;X-APPLE-RADIUS=500;X-TITLE=9135 Willeo Rd.:geo:-84.3827881,34.0040047
END:VEVENT
BEGIN:VEVENT
DTSTART;VALUE=DATE:20200706
DTEND;VALUE=DATE:20200712
DTSTAMP:20260423T195525
CREATED:20200608T133036Z
LAST-MODIFIED:20200706T135437Z
UID:10004988-1593993600-1594511999@www.atlantaparent.com
SUMMARY:The Dad's Garage Social Distancing Spectacular
DESCRIPTION:Enjoy streamed live shows\, podcasts\, improviser content and more. Donations welcomed. \nJuly 6: \n7 p.m. – Ultimate Werewolf! \n8 p.m. – Improviser in Dungeons Getting Dragons \nJuly 7: \n6 p.m. – Narrative Niceties \n6:30 p.m. – Clint’s Gwinnett Basement \n7 p.m. – The Scrapyard Scoop with Whittney \n7:30 p.m. – True Crimes Pajama Party \n8 p.m. – Couch Party with Amber\, Lucky and Schatz \n9 p.m. – You’re Welcome Hollywood \n10:30 p.m. – Monster Mash with Reed \nJuly 8: \n6 p.m. – Animal House with Whittney \n6:30 p.m. – Olga and Bubblegum \n7 p.m. – Digital Front Porch \n7:30 p.m. – So Easy a Kid Can Do It \n8 p.m. – Your Drunk Aunt with Gina \n8:30 p.m. – Blue Clues Trivia with Perry Frost \nJuly 9: \n6 p.m. – Care-Actor \n6:30 p.m. – It’s Tammy Time! \n7 p.m. – Checking In with Gina \n8 p.m. – Jackbox Games \n10 p.m. – Fireside Schatz \nJuly 10: \n6:30 p.m. – Quarantine Cooking with Meg \n7 p.m. – DGTV Fake News with M’Leahy \n7:30 p.m. – Freestyle Friday \n8 p.m. – Scandal!: League of Supervillains \n9:30 p.m. – Snackin’ and Yappin’ with Lucky Yates \nJuly 11: \nNoon – RoJoLo’s Kids \n12:30 p.m. – River Reviews It! \n1 p.m. – Don’t Try This at Home \n1:30 p.m. – Uncle Grampa’s Hoo-Dilly Storytime
URL:https://www.atlantaparent.com/event/the-dads-garage-social-distancing-spectacular/
END:VEVENT
BEGIN:VEVENT
DTSTART;TZID=America/New_York:20200704T130000
DTEND;TZID=America/New_York:20200704T220000
DTSTAMP:20260423T195525
CREATED:20200625T132341Z
LAST-MODIFIED:20200625T132341Z
UID:10005043-1593867600-1593900000@www.atlantaparent.com
SUMMARY:Fourth on the Farm
DESCRIPTION:Celebrate Independence Day with live music\, a petting zoo\, vendors\, cow train rides\, a giant jump pad and more with a fireworks show when it gets dark. Advanced ticket purchase only: $8; ages 3 and younger\, free.
URL:https://www.atlantaparent.com/event/fourth-on-the-farm/
LOCATION:Mitcham Farm\, 797 Macedonia Church Rd.\, Oxford
END:VEVENT
BEGIN:VEVENT
DTSTART;TZID=America/New_York:20200704T100000
DTEND;TZID=America/New_York:20200704T100000
DTSTAMP:20260423T195525
CREATED:20200701T175321Z
LAST-MODIFIED:20200701T175321Z
UID:10005092-1593856800-1593856800@www.atlantaparent.com
SUMMARY:Cumming Fourth of July Parade
DESCRIPTION:The parade starts at 10 a.m.\, starting at Forsyth Central High School and ending at the Cumming Fairgrounds. Free admission.
URL:https://www.atlantaparent.com/event/cumming-fourth-of-july-parade/
LOCATION:Cumming Fairgrounds\, 235 Castleberry Rd.\, Cumming\, GA
END:VEVENT
BEGIN:VEVENT
DTSTART;VALUE=DATE:20200701
DTEND;VALUE=DATE:20200709
DTSTAMP:20260423T195525
CREATED:20200701T130918Z
LAST-MODIFIED:20200706T133451Z
UID:10005045-1593561600-1594252799@www.atlantaparent.com
SUMMARY:Children's Museum of Atlanta Reopening
DESCRIPTION:The Children’s Museum of Atlanta has reopened. Reserve time to play in their six permanent exhibits: Fundamentally Food\, Gateway to the World\, Leaping into Learning\, Let Your Creative Flow\, Step Up to Science and Tools for Solutions. 9:30-11:30 a.m.\, 12:30-2:30 p.m. and 3:30-5:30 p.m.; reservations required. $18.95; ages under 1\, free.
URL:https://www.atlantaparent.com/event/childrens-museum-of-atlanta-reopening/
LOCATION:Children’s Museum of Atlanta\, 275 Centennial Olympic Park Dr. NW\, Atlanta\, GA
ATTACH;FMTTYPE=image/jpeg:https://www.atlantaparent.com/wp-content/uploads/2020/01/Childrens-Museum-scaled-e1580240490897.jpg
END:VEVENT
BEGIN:VEVENT
DTSTART;TZID=America/New_York:20200628T150000
DTEND;TZID=America/New_York:20200628T150000
DTSTAMP:20260423T195525
CREATED:20200618T160804Z
LAST-MODIFIED:20200618T160804Z
UID:10005030-1593356400-1593356400@www.atlantaparent.com
SUMMARY:Virtual Patriotic Celebration Concert
DESCRIPTION:Roswell United Methodist’s Virtual Patriotic Celebration Concerts will feature highlights from past concerts and new surprises. June 26\, 7:30 p.m. and June 28\, 3 p.m.
URL:https://www.atlantaparent.com/event/virtual-patriotic-celebration-concert/2020-06-28/
END:VEVENT
BEGIN:VEVENT
DTSTART;TZID=America/New_York:20200627T120000
DTEND;TZID=America/New_York:20200627T180000
DTSTAMP:20260423T195525
CREATED:20200610T125421Z
LAST-MODIFIED:20200610T125421Z
UID:10005004-1593259200-1593280800@www.atlantaparent.com
SUMMARY:Brickworld LEGO Fireworks Virtual Con
DESCRIPTION:The Brickworld LEGO Fireworks Virtual Con presents an online array of LEGO activities\, exhibits\, presentations\, builds\, games and vendors in a suite of Zoom rooms. Interact with popular “LEGO Masters” TV contestants and fan favorite displays like the Great Ball Contraption and LEGO fireworks. $9.
URL:https://www.atlantaparent.com/event/brickworld-lego-fireworks-virtual-con/
ATTACH;FMTTYPE=image/jpeg:https://www.atlantaparent.com/wp-content/uploads/2020/06/Learn20how20to20build20these20LEGO20Critters20at20Brickworld20LR-scaled-e1591793591459.jpg
END:VEVENT
BEGIN:VEVENT
DTSTART;TZID=America/New_York:20200627T100000
DTEND;TZID=America/New_York:20200627T110000
DTSTAMP:20260423T195525
CREATED:20200624T141609Z
LAST-MODIFIED:20200624T141609Z
UID:10005267-1593252000-1593255600@www.atlantaparent.com
SUMMARY:Mi Gente Drive-Up Mural Launch
DESCRIPTION:Atlanta History Center will unveil a major new work of public art by Atlanta artist Yehimi Cambrón at this Drive-Up Mural Launch. Guests will be invited to view the mural from their car or standing outside while observing social distance protocols. The first 50 guests will receive a grab bag with goodies and information from project partners\, a print of the mural\, along with coloring sheets and crayons for our youngest visitors.
URL:https://www.atlantaparent.com/event/mi-gente-drive-up-mural-launch/
LOCATION:Northeast Plaza\, 3307 Buford Hwy. NE\, Atlanta\, GA\, 30329
ATTACH;FMTTYPE=image/jpeg:https://www.atlantaparent.com/wp-content/uploads/2020/06/Mi-Gente_Mural_Header.jpg
GEO:33.8413428;-84.3265121
X-APPLE-STRUCTURED-LOCATION;VALUE=URI;X-ADDRESS=Northeast Plaza 3307 Buford Hwy. NE Atlanta GA 30329;X-APPLE-RADIUS=500;X-TITLE=3307 Buford Hwy. NE:geo:-84.3265121,33.8413428
END:VEVENT
BEGIN:VEVENT
DTSTART;TZID=America/New_York:20200621T150000
DTEND;TZID=America/New_York:20200621T150000
DTSTAMP:20260423T195525
CREATED:20200610T134528Z
LAST-MODIFIED:20200610T134528Z
UID:10005016-1592751600-1592751600@www.atlantaparent.com
SUMMARY:Father's Day Cabaret
DESCRIPTION:Hosted by Ann-Carol Pence\, this Father’s Day Cabaret features performances\, live interviews\, funny stories and more from some amazing fathers\, as part of Aurora Theatre’s Digital Series. June 21\, 3 p.m. Free.
URL:https://www.atlantaparent.com/event/fathers-day-cabaret/
END:VEVENT
BEGIN:VEVENT
DTSTART;TZID=America/New_York:20200620T130000
DTEND;TZID=America/New_York:20200620T200000
DTSTAMP:20260423T195525
CREATED:20200224T170829Z
LAST-MODIFIED:20200305T172003Z
UID:10001639-1592658000-1592683200@www.atlantaparent.com
SUMMARY:McDonough Caribbean Cultural Festival
DESCRIPTION:The Caribbean Association of Georgia presents this family-friendly event will feature a kids zone\, live entertainment\, authentic Caribbean cuisine and more. June 20\, 1-8 p.m.
URL:https://www.atlantaparent.com/event/caribbean-cultural-festival/
LOCATION:Avalon Park\, 1045 Industrial Pkwy.\, McDonough\, GA\, 30253
GEO:33.4174408;-84.181879
X-APPLE-STRUCTURED-LOCATION;VALUE=URI;X-ADDRESS=Avalon Park 1045 Industrial Pkwy. McDonough GA 30253;X-APPLE-RADIUS=500;X-TITLE=1045 Industrial Pkwy.:geo:-84.181879,33.4174408
END:VEVENT
BEGIN:VEVENT
DTSTART;TZID=America/New_York:20200619T183000
DTEND;TZID=America/New_York:20200619T183000
DTSTAMP:20260423T195525
CREATED:20200617T171351Z
LAST-MODIFIED:20200617T171351Z
UID:10005033-1592591400-1592591400@www.atlantaparent.com
SUMMARY:CommUNITY Rally for Hope and Healing
DESCRIPTION:This live stream event will feature prayer\, worship\, spoken word and reflection on how to promote change. Watch on Facebook or YouTube.
URL:https://www.atlantaparent.com/event/community-rally-for-hope-and-healing/
END:VEVENT
BEGIN:VEVENT
DTSTART;TZID=America/New_York:20200619T120000
DTEND;TZID=America/New_York:20200619T130000
DTSTAMP:20260423T195525
CREATED:20200617T191518Z
LAST-MODIFIED:20200617T191518Z
UID:10005032-1592568000-1592571600@www.atlantaparent.com
SUMMARY:Juneteenth Virtual Tour of the Flat Rock Historic Cemetery
DESCRIPTION:This Friday\, join Arabia Mountain National Heritage Area and Flat Rock Archives co-founder and president Johnny Waits for a live\, virtual tour of the Flat Rock Historic Cemetery on Facebook.
URL:https://www.atlantaparent.com/event/juneteenth-virtual-tour-of-the-flat-rock-historic-cemetery/
END:VEVENT
BEGIN:VEVENT
DTSTART;TZID=America/New_York:20200619T110000
DTEND;TZID=America/New_York:20200619T180000
DTSTAMP:20260423T195525
CREATED:20200616T171715Z
LAST-MODIFIED:20200616T171715Z
UID:10005026-1592564400-1592589600@www.atlantaparent.com
SUMMARY:The Juneteenth Takeover
DESCRIPTION:Power Haus Creative is curating this installation event in partnership with community organizations and downtown residents in this temporary exhibit\, which will feature professional Black artists from Atlanta. June 19\, 11 a.m.-6 p.m.
URL:https://www.atlantaparent.com/event/the-juneteenth-takeover/
LOCATION:FlatironCity\, 84 Peachtree St. NW\, Atlanta\, GA\, 30303
GEO:33.7558823;-84.38892
X-APPLE-STRUCTURED-LOCATION;VALUE=URI;X-ADDRESS=FlatironCity 84 Peachtree St. NW Atlanta GA 30303;X-APPLE-RADIUS=500;X-TITLE=84 Peachtree St. NW:geo:-84.38892,33.7558823
END:VEVENT
BEGIN:VEVENT
DTSTART;VALUE=DATE:20200619
DTEND;VALUE=DATE:20200622
DTSTAMP:20260423T195525
CREATED:20200611T132515Z
LAST-MODIFIED:20200611T132515Z
UID:10005014-1592524800-1592783999@www.atlantaparent.com
SUMMARY:Father’s Day Fun in the Forest
DESCRIPTION:In celebration of Father’s Day weekend\, families can follow the downloadable Trail Map\, and explore the ground of Dunwoody Nature Center while completing fun activities.
URL:https://www.atlantaparent.com/event/fathers-day-fun-in-the-forest/
LOCATION:Dunwoody Nature Center\, 5343 Roberts Drive\, Dunwoody
GEO:33.9567738;-84.3359325
X-APPLE-STRUCTURED-LOCATION;VALUE=URI;X-ADDRESS=Dunwoody Nature Center 5343 Roberts Drive Dunwoody;X-APPLE-RADIUS=500;X-TITLE=5343 Roberts Drive:geo:-84.3359325,33.9567738
END:VEVENT
BEGIN:VEVENT
DTSTART;VALUE=DATE:20200619
DTEND;VALUE=DATE:20200621
DTSTAMP:20260423T195525
CREATED:20200616T174127Z
LAST-MODIFIED:20200616T174127Z
UID:10005023-1592524800-1592697599@www.atlantaparent.com
SUMMARY:Academy Art Museum's Virtual Juneteenth
DESCRIPTION:Performances and programming include storytelling\, art\, music\, crafts\, exhibitions and more. June 19-20.
URL:https://www.atlantaparent.com/event/academy-art-museums-virtual-juneteenth/
END:VEVENT
BEGIN:VEVENT
DTSTART;VALUE=DATE:20200619
DTEND;VALUE=DATE:20200621
DTSTAMP:20260423T195525
CREATED:20200616T172843Z
LAST-MODIFIED:20200616T172843Z
UID:10005024-1592524800-1592697599@www.atlantaparent.com
SUMMARY:Juneteenth Live Streaming Music Festival
DESCRIPTION:Presented by Jim Austin Online\, the Juneteenth Live Streaming Music Festival will feature zydeco\, blues and jazz performances. June 19-20. See the full schedule online. $10-$45.
URL:https://www.atlantaparent.com/event/juneteenth-live-streaming-music-festival/
END:VEVENT
BEGIN:VEVENT
DTSTART;TZID=America/New_York:20200618T190000
DTEND;TZID=America/New_York:20200618T190000
DTSTAMP:20260423T195525
CREATED:20200616T133924Z
LAST-MODIFIED:20200616T133924Z
UID:10005018-1592506800-1592506800@www.atlantaparent.com
SUMMARY:Juneteenth Virtual Celebration
DESCRIPTION:Join the Sandy Spring Slave Museum and African Art Gallery for special performances and historical talks from the team.
URL:https://www.atlantaparent.com/event/juneteenth-virtual-celebration/
END:VEVENT
BEGIN:VEVENT
DTSTART;VALUE=DATE:20200618
DTEND;VALUE=DATE:20200620
DTSTAMP:20260423T195525
CREATED:20200616T172257Z
LAST-MODIFIED:20200616T172257Z
UID:10005025-1592438400-1592611199@www.atlantaparent.com
SUMMARY:Juneteenth Music Festival
DESCRIPTION:Join this virtual festival for a positive\, educational and entertaining day celebrating African American history with the sixth annual DREAM BIG Awards\, musical performances\, live podcasts\, a virtual cypher\, virtual dance competition\, comedy\, financial literacy segments and more. See the full schedule online.
URL:https://www.atlantaparent.com/event/juneteenth-music-festival/
END:VEVENT
BEGIN:VEVENT
DTSTART;VALUE=DATE:20200617
DTEND;VALUE=DATE:20200629
DTSTAMP:20260423T195525
CREATED:20200608T130049Z
LAST-MODIFIED:20200629T132405Z
UID:10004989-1592352000-1593388799@www.atlantaparent.com
SUMMARY:Center for Puppetry Arts @ Home
DESCRIPTION:The Digital Learning platform includes new programming for children and adults\, with puppet shows\, puppet presentations and workshops.
URL:https://www.atlantaparent.com/event/center-for-puppetry-arts-home/
ATTACH;FMTTYPE=image/png:https://www.atlantaparent.com/wp-content/uploads/2020/05/Africa_Lft_Rgt.png
END:VEVENT
BEGIN:VEVENT
DTSTART;VALUE=DATE:20200615
DTEND;VALUE=DATE:20200621
DTSTAMP:20260423T195525
CREATED:20200616T174542Z
LAST-MODIFIED:20200616T174542Z
UID:10005127-1592179200-1592697599@www.atlantaparent.com
SUMMARY:African American Museum of Iowa's Juneteenth
DESCRIPTION:This week-long virtual celebration includes new videos each day including history\, trivia\, readings\, interviews and more.
URL:https://www.atlantaparent.com/event/african-american-museum-of-iowas-juneteenth/
END:VEVENT
BEGIN:VEVENT
DTSTART;VALUE=DATE:20200615
DTEND;VALUE=DATE:20200620
DTSTAMP:20260423T195525
CREATED:20200413T124316Z
LAST-MODIFIED:20200615T133209Z
UID:10004995-1592179200-1592611199@www.atlantaparent.com
SUMMARY:Aurora Theatre Digital Series
DESCRIPTION:Enjoy this free interactive\, digital series to appreciate art and artists at home. Donations encourage. \nCody’s Crafting Corner – Tuesdays\, 7 p.m. \nCyber Stage – Wednesdays\, 7:30 p.m. \nAurora Storytime – Thursdays\, 11 a.m.
URL:https://www.atlantaparent.com/event/aurora-theatre-digital-series/
ATTACH;FMTTYPE=image/jpeg:https://www.atlantaparent.com/wp-content/uploads/2020/04/Image-1-scaled-e1586781543390.jpg
END:VEVENT
BEGIN:VEVENT
DTSTART;TZID=America/New_York:20200613T140000
DTEND;TZID=America/New_York:20200613T190000
DTSTAMP:20260423T195525
CREATED:20200527T151228Z
LAST-MODIFIED:20200615T132046Z
UID:10005048-1592056800-1592074800@www.atlantaparent.com
SUMMARY:Drive Thru ATL
DESCRIPTION:Carley Rickles \nThe Creatives Project is sharing the work of artists with a pop-up experiment enjoying art in the comfort of your car. June 13\, 2-7 p.m. Free; reservation requested.
URL:https://www.atlantaparent.com/event/drive-thru-atl/
LOCATION:Atlanta Art District\, 1374 Moreland Ave.\, Atlanta\, GA\, 30316
ATTACH;FMTTYPE=image/jpeg:https://www.atlantaparent.com/wp-content/uploads/2020/05/CarleyRickles_DriveThruExistingConditions_2020-scaled-e1590592079596.jpg
GEO:33.7136517;-84.3459066
X-APPLE-STRUCTURED-LOCATION;VALUE=URI;X-ADDRESS=Atlanta Art District 1374 Moreland Ave. Atlanta GA 30316;X-APPLE-RADIUS=500;X-TITLE=1374 Moreland Ave.:geo:-84.3459066,33.7136517
END:VEVENT
BEGIN:VEVENT
DTSTART;TZID=America/New_York:20200613T110000
DTEND;TZID=America/New_York:20200613T110000
DTSTAMP:20260423T195525
CREATED:20200611T181449Z
LAST-MODIFIED:20200611T181449Z
UID:10005116-1592046000-1592046000@www.atlantaparent.com
SUMMARY:Zip\, Zing\, Pow!
DESCRIPTION:This special at-home edition of Music for the Very Young features Principal Percussion Joe Petrasek as he introduces little ones to different types of percussion instruments—some can even be found in your own kitchen. June 13\, 11 a.m.
URL:https://www.atlantaparent.com/event/zip-zing-pow/
END:VEVENT
BEGIN:VEVENT
DTSTART;VALUE=DATE:20200613
DTEND;VALUE=DATE:20200615
DTSTAMP:20260423T195526
CREATED:20200610T130306Z
LAST-MODIFIED:20200610T130306Z
UID:10005094-1592006400-1592179199@www.atlantaparent.com
SUMMARY:Clues and Cocktails Brunch
DESCRIPTION:Each week\, “Highlighting Black Chefs” will feature a chef and a menu will be presented based on the chef’s specialty. This week\, join Louisiana born Chef Lorenzo. June 13-14\, 11:30 a.m.-4 p.m. Price varies.
URL:https://www.atlantaparent.com/event/clues-and-cocktails-brunch/
LOCATION:Clues and Cocktails\, 314 Auburn Ave. NE\, Atlanta\, GA\, 30303
ATTACH;FMTTYPE=image/jpeg:https://www.atlantaparent.com/wp-content/uploads/2020/06/CC-Event.jpg
GEO:33.7556735;-84.377353
X-APPLE-STRUCTURED-LOCATION;VALUE=URI;X-ADDRESS=Clues and Cocktails 314 Auburn Ave. NE Atlanta GA 30303;X-APPLE-RADIUS=500;X-TITLE=314 Auburn Ave. NE:geo:-84.377353,33.7556735
END:VEVENT
BEGIN:VEVENT
DTSTART;TZID=America/New_York:20200609T153000
DTEND;TZID=America/New_York:20200609T153000
DTSTAMP:20260423T195526
CREATED:20200608T203807Z
LAST-MODIFIED:20200609T124916Z
UID:10005005-1591716600-1591716600@www.atlantaparent.com
SUMMARY:Talking to Children Authentically about Race and Racism
DESCRIPTION:This virtual PBS KIDS event will help parents talk to their children about racial injustice and violence against African Americans.
URL:https://www.atlantaparent.com/event/talking-to-children-authentically-about-race-and-racism/
ATTACH;FMTTYPE=image/jpeg:https://www.atlantaparent.com/wp-content/uploads/2020/06/PBS-KIDS-Talking-to-Children-Authentically-About-Race-and-Racism-2.jpeg
END:VEVENT
END:VCALENDAR