BEGIN:VCALENDAR
VERSION:2.0
PRODID:-//NEW Atlanta Parent - ECPv6.15.11//NONSGML v1.0//EN
CALSCALE:GREGORIAN
METHOD:PUBLISH
X-WR-CALNAME:NEW Atlanta Parent
X-ORIGINAL-URL:https://www.atlantaparent.com
X-WR-CALDESC:Events for NEW Atlanta Parent
REFRESH-INTERVAL;VALUE=DURATION:PT1H
X-Robots-Tag:noindex
X-PUBLISHED-TTL:PT1H
BEGIN:VTIMEZONE
TZID:UTC
BEGIN:STANDARD
TZOFFSETFROM:+0000
TZOFFSETTO:+0000
TZNAME:UTC
DTSTART:20210101T000000
END:STANDARD
END:VTIMEZONE
BEGIN:VTIMEZONE
TZID:America/New_York
BEGIN:DAYLIGHT
TZOFFSETFROM:-0500
TZOFFSETTO:-0400
TZNAME:EDT
DTSTART:20210314T070000
END:DAYLIGHT
BEGIN:STANDARD
TZOFFSETFROM:-0400
TZOFFSETTO:-0500
TZNAME:EST
DTSTART:20211107T060000
END:STANDARD
BEGIN:DAYLIGHT
TZOFFSETFROM:-0500
TZOFFSETTO:-0400
TZNAME:EDT
DTSTART:20220313T070000
END:DAYLIGHT
BEGIN:STANDARD
TZOFFSETFROM:-0400
TZOFFSETTO:-0500
TZNAME:EST
DTSTART:20221106T060000
END:STANDARD
BEGIN:DAYLIGHT
TZOFFSETFROM:-0500
TZOFFSETTO:-0400
TZNAME:EDT
DTSTART:20230312T070000
END:DAYLIGHT
BEGIN:STANDARD
TZOFFSETFROM:-0400
TZOFFSETTO:-0500
TZNAME:EST
DTSTART:20231105T060000
END:STANDARD
BEGIN:DAYLIGHT
TZOFFSETFROM:-0500
TZOFFSETTO:-0400
TZNAME:EDT
DTSTART:20240310T070000
END:DAYLIGHT
BEGIN:STANDARD
TZOFFSETFROM:-0400
TZOFFSETTO:-0500
TZNAME:EST
DTSTART:20241103T060000
END:STANDARD
END:VTIMEZONE
BEGIN:VEVENT
DTSTART;VALUE=DATE:20220507
DTEND;VALUE=DATE:20220509
DTSTAMP:20260419T114800
CREATED:20190424T193818Z
LAST-MODIFIED:20220418T161325Z
UID:10002598-1651881600-1652054399@www.atlantaparent.com
SUMMARY:Mother's Day Weekend at North Georgia Zoo
DESCRIPTION:Moms get in free with paid child admission. Tours explore the lives of “moms” in the animal kingdom. $24.99; ages 2-11\, $22.99; ages 1 and younger\, free.
URL:https://www.atlantaparent.com/event/celebrating-moms/
LOCATION:North Georgia Zoo\, 2912 Paradise Valley Road\, Cleveland
GEO:34.6221615;-83.8653338
X-APPLE-STRUCTURED-LOCATION;VALUE=URI;X-ADDRESS=North Georgia Zoo 2912 Paradise Valley Road Cleveland;X-APPLE-RADIUS=500;X-TITLE=2912 Paradise Valley Road:geo:-83.8653338,34.6221615
END:VEVENT
BEGIN:VEVENT
DTSTART;VALUE=DATE:20220507
DTEND;VALUE=DATE:20221017
DTSTAMP:20260419T114800
CREATED:20220415T164620Z
LAST-MODIFIED:20220615T143701Z
UID:10006320-1651881600-1665964799@www.atlantaparent.com
SUMMARY:Origami in the Garden
DESCRIPTION:This exhibit features 18 installations of metal sculptures inspired by the art of folding paper with birds\, butterflies\, deer\, boats and more. $24.95-$27.95; ages 3-12\, $21.95-$24.95; ages 2 and younger\, free.
URL:https://www.atlantaparent.com/event/origami-in-the-garden/
LOCATION:Atlanta Botanical Garden\, 1345 Piedmont Ave.\, Atlanta
ATTACH;FMTTYPE=image/jpeg:https://www.atlantaparent.com/wp-content/uploads/2022/04/Ghost_Deer_ATL-BG-Origami-scaled-e1650041081857.jpg
GEO:33.7900091;-84.3738585
X-APPLE-STRUCTURED-LOCATION;VALUE=URI;X-ADDRESS=Atlanta Botanical Garden 1345 Piedmont Ave. Atlanta;X-APPLE-RADIUS=500;X-TITLE=1345 Piedmont Ave.:geo:-84.3738585,33.7900091
END:VEVENT
BEGIN:VEVENT
DTSTART;TZID=America/New_York:20220507T100000
DTEND;TZID=America/New_York:20220507T130000
DTSTAMP:20260419T114800
CREATED:20210422T162232Z
LAST-MODIFIED:20220509T123749Z
UID:10001643-1651917600-1651928400@www.atlantaparent.com
SUMMARY:Robots Day at Fernbank Museum of Natural History
DESCRIPTION:Meet amazing robots at this meet-and-greet event\, which includes machines and droids. Reservation required. $24.95; ages 3-12\, $22.95; ages 2 and younger\, free.
URL:https://www.atlantaparent.com/event/robots-day/
LOCATION:Fernbank Museum of Natural History\, 767 Clifton Rd. NE\, Atlanta
ATTACH;FMTTYPE=image/jpeg:https://www.atlantaparent.com/wp-content/uploads/2019/04/fernbank-robot-day-Discovery-Days20190518_102115-scaled-e1618584185190.jpg
GEO:33.7739166;-84.3277485
X-APPLE-STRUCTURED-LOCATION;VALUE=URI;X-ADDRESS=Fernbank Museum of Natural History 767 Clifton Rd. NE Atlanta;X-APPLE-RADIUS=500;X-TITLE=767 Clifton Rd. NE:geo:-84.3277485,33.7739166
END:VEVENT
BEGIN:VEVENT
DTSTART;TZID=America/New_York:20220507T100000
DTEND;TZID=America/New_York:20220507T130000
DTSTAMP:20260419T114800
CREATED:20220415T165842Z
LAST-MODIFIED:20220428T153257Z
UID:10006386-1651917600-1651928400@www.atlantaparent.com
SUMMARY:Circus FantaSea
DESCRIPTION:This aquatic adventure features puppets made from recycled and repurposed plastic bottles as Octavius the tap-dancing Octopus\, Cecilia the unicycling seahorse and Stella the starfish perform for the circus. May 7\, 10 and 11:30 a.m. $7.
URL:https://www.atlantaparent.com/event/circus-fantasea/
LOCATION: Aurora Theatre\, 128 East Pike St.\, Lawrenceville
ATTACH;FMTTYPE=image/jpeg:https://www.atlantaparent.com/wp-content/uploads/2022/04/Fantasea2.jpg
END:VEVENT
BEGIN:VEVENT
DTSTART;TZID=America/New_York:20220507T110000
DTEND;TZID=America/New_York:20220507T130000
DTSTAMP:20260419T114800
CREATED:20220317T164452Z
LAST-MODIFIED:20220317T164452Z
UID:10006267-1651921200-1651928400@www.atlantaparent.com
SUMMARY:Mother’s Day Tea & PopUp Shop
DESCRIPTION:This charitable tea benefits Wellspring Living\, a non-profit organization that provides domestic sex trafficking victims\, and will include a tea menu\, flower pin\, crafts and vendors. $25.
URL:https://www.atlantaparent.com/event/mothers-day-tea-popup-shop/
LOCATION:Winder Woman’s Club\, 15 W. Midland Ave.\, Winder
GEO:33.994062;-83.7198721
X-APPLE-STRUCTURED-LOCATION;VALUE=URI;X-ADDRESS=Winder Woman’s Club 15 W. Midland Ave. Winder;X-APPLE-RADIUS=500;X-TITLE=15 W. Midland Ave.:geo:-83.7198721,33.994062
END:VEVENT
BEGIN:VEVENT
DTSTART;TZID=UTC:20220507T130000
DTEND;TZID=UTC:20220507T230000
DTSTAMP:20260419T114800
CREATED:20190423T185733Z
LAST-MODIFIED:20220415T163306Z
UID:10002735-1651928400-1651964400@www.atlantaparent.com
SUMMARY:Astronomy Day at Tellus Science Museum
DESCRIPTION:View the Sun with the solar telescope\, enjoy astronomy-themed activities\, watch the new summer shows and “E.T.\,” and take a tour of the night sky. $17; ages 3-17\, $13; ages 2 and younger\,\nfree.
URL:https://www.atlantaparent.com/event/national-astronomy-day-tellus/
LOCATION:Tellus Science Museum\, 100 Tellus Drive\, Cartersville
ATTACH;FMTTYPE=image/jpeg:https://www.atlantaparent.com/wp-content/uploads/2018/03/Tellus-Observatory-from-web-b.jpg
GEO:34.2418518;-84.7706004
X-APPLE-STRUCTURED-LOCATION;VALUE=URI;X-ADDRESS=Tellus Science Museum 100 Tellus Drive Cartersville;X-APPLE-RADIUS=500;X-TITLE=100 Tellus Drive:geo:-84.7706004,34.2418518
END:VEVENT
BEGIN:VEVENT
DTSTART;TZID=America/New_York:20220508T100000
DTEND;TZID=America/New_York:20220508T140000
DTSTAMP:20260419T114800
CREATED:20220506T185945Z
LAST-MODIFIED:20220506T185945Z
UID:10006385-1652004000-1652018400@www.atlantaparent.com
SUMMARY:Mother's Day Farmers Market
DESCRIPTION:Spend the day with mom at this special farmers market with vendors from Sweet T.’s Candles\, Bell Biscuits\, Manzi Lip Balm and more.
URL:https://www.atlantaparent.com/event/mothers-day-farmers-market/
LOCATION:The Point\, 1540 Avenue Place\, Atlanta
GEO:33.8009687;-84.3274858
X-APPLE-STRUCTURED-LOCATION;VALUE=URI;X-ADDRESS=The Point 1540 Avenue Place Atlanta;X-APPLE-RADIUS=500;X-TITLE=1540 Avenue Place:geo:-84.3274858,33.8009687
END:VEVENT
BEGIN:VEVENT
DTSTART;TZID=America/New_York:20220508T100000
DTEND;TZID=America/New_York:20220508T200000
DTSTAMP:20260419T114800
CREATED:20220418T162844Z
LAST-MODIFIED:20220418T162844Z
UID:10006333-1652004000-1652040000@www.atlantaparent.com
SUMMARY:Mother’s Day
DESCRIPTION:Mom will get a free delicious Aurora Bakery treat while the family enjoys a movie or a game of mini golf. Mini golf\, $6-$16; Cineplex\, $7.50-$10.
URL:https://www.atlantaparent.com/event/mothers-day-2/
LOCATION:Aurora Cineplex\, 5100 Commerce Pkwy.\, Roswell
GEO:34.0376162;-84.3400488
X-APPLE-STRUCTURED-LOCATION;VALUE=URI;X-ADDRESS=Aurora Cineplex 5100 Commerce Pkwy. Roswell;X-APPLE-RADIUS=500;X-TITLE=5100 Commerce Pkwy.:geo:-84.3400488,34.0376162
END:VEVENT
BEGIN:VEVENT
DTSTART;TZID=America/New_York:20220508T110000
DTEND;TZID=America/New_York:20220508T123000
DTSTAMP:20260419T114800
CREATED:20220418T163037Z
LAST-MODIFIED:20220418T163037Z
UID:10006332-1652007600-1652013000@www.atlantaparent.com
SUMMARY:Mother’s Day English Tea
DESCRIPTION:Dress in tea party attire to make strawberry tea cake sandwiches\, scones and mini cupcakes. $40 for two people; additional participants\, $15.
URL:https://www.atlantaparent.com/event/mothers-day-english-tea/
LOCATION:Flour Power Cooking Studio\, 131 S. Main St.\, Alpharetta
GEO:34.0722885;-84.296299
X-APPLE-STRUCTURED-LOCATION;VALUE=URI;X-ADDRESS=Flour Power Cooking Studio 131 S. Main St. Alpharetta;X-APPLE-RADIUS=500;X-TITLE=131 S. Main St.:geo:-84.296299,34.0722885
END:VEVENT
BEGIN:VEVENT
DTSTART;TZID=America/New_York:20220512T130000
DTEND;TZID=America/New_York:20220512T160000
DTSTAMP:20260419T114800
CREATED:20220426T205257Z
LAST-MODIFIED:20220426T205257Z
UID:10006368-1652360400-1652371200@www.atlantaparent.com
SUMMARY:Hike it Baby – Bring it Outside Family Festival for the Atlanta Community
DESCRIPTION:Local community partners and friends from across the children and nature movement will join together for accessible hikes\, nature games\, activities\, gear giveaways and more.
URL:https://www.atlantaparent.com/event/hike-it-baby-bring-it-outside-family-festival-for-the-atlanta-community/
LOCATION:Rodney Cook Sr. Park\, Vine St. NW\, Atlanta
GEO:33.761575;-84.4078942
X-APPLE-STRUCTURED-LOCATION;VALUE=URI;X-ADDRESS=Rodney Cook Sr. Park Vine St. NW Atlanta;X-APPLE-RADIUS=500;X-TITLE=Vine St. NW:geo:-84.4078942,33.761575
END:VEVENT
BEGIN:VEVENT
DTSTART;VALUE=DATE:20220513
DTEND;VALUE=DATE:20220809
DTSTAMP:20260419T114800
CREATED:20220328T135230Z
LAST-MODIFIED:20220809T122934Z
UID:10006289-1652400000-1660003199@www.atlantaparent.com
SUMMARY:Sean Kenney's Nature POP!
DESCRIPTION:Sean Kenney \nThis exhibit features more than 40 nature sculptures made of LEGO pieces of startling bursts of color. $25.70-$32.45; ages 3-11\, $19.70-$24.95; ages 2 and younger\, free.
URL:https://www.atlantaparent.com/event/sean-kenneys-nature-pop/
LOCATION:Zoo Atlanta\,  800 Cherokee Avenue SE\, Atlanta
ATTACH;FMTTYPE=image/jpeg:https://www.atlantaparent.com/wp-content/uploads/2022/03/dragonfly-scaled-e1648475402789.jpg
GEO:33.7321624;-84.3713351
X-APPLE-STRUCTURED-LOCATION;VALUE=URI;X-ADDRESS=Zoo Atlanta  800 Cherokee Avenue SE Atlanta;X-APPLE-RADIUS=500;X-TITLE=800 Cherokee Avenue SE:geo:-84.3713351,33.7321624
END:VEVENT
BEGIN:VEVENT
DTSTART;VALUE=DATE:20220514
DTEND;VALUE=DATE:20220829
DTSTAMP:20260419T114800
CREATED:20210412T202527Z
LAST-MODIFIED:20220516T183806Z
UID:10005726-1652486400-1661731199@www.atlantaparent.com
SUMMARY:Games in the Gallery
DESCRIPTION:Play outdoors at WildWoods with oversized games and fun skill challenges. Reservation required. $24.95; ages 3-12\, $22.95; ages 2 and younger\, free.
URL:https://www.atlantaparent.com/event/games-in-the-gallery/
LOCATION:Fernbank Museum of Natural History\, 767 Clifton Rd. NE\, Atlanta
ATTACH;FMTTYPE=image/jpeg:https://www.atlantaparent.com/wp-content/uploads/2021/04/JTP_5953-scaled-e1619708079525.jpg
GEO:33.7739166;-84.3277485
X-APPLE-STRUCTURED-LOCATION;VALUE=URI;X-ADDRESS=Fernbank Museum of Natural History 767 Clifton Rd. NE Atlanta;X-APPLE-RADIUS=500;X-TITLE=767 Clifton Rd. NE:geo:-84.3277485,33.7739166
END:VEVENT
BEGIN:VEVENT
DTSTART;TZID=America/New_York:20220514T100000
DTEND;TZID=America/New_York:20220514T130000
DTSTAMP:20260419T114800
CREATED:20220415T170050Z
LAST-MODIFIED:20220428T153449Z
UID:10006389-1652522400-1652533200@www.atlantaparent.com
SUMMARY:Rhythm in Motion
DESCRIPTION:Experience the sounds of Sunu\, ceremonial music played by the Malinke people of Guinea and Mali during traditional festivals with dance\, drums\, fashion\, songs\, crafts and more. May 14\, 10 and 11:30 a.m. $7.
URL:https://www.atlantaparent.com/event/rhythm-in-motion/
LOCATION: Aurora Theatre\, 128 East Pike St.\, Lawrenceville
ATTACH;FMTTYPE=image/jpeg:https://www.atlantaparent.com/wp-content/uploads/2022/04/RIM8-scaled-e1651160078751.jpg
END:VEVENT
BEGIN:VEVENT
DTSTART;TZID=America/New_York:20220514T100000
DTEND;TZID=America/New_York:20220514T160000
DTSTAMP:20260419T114800
CREATED:20220428T140136Z
LAST-MODIFIED:20220428T140136Z
UID:10006366-1652522400-1652544000@www.atlantaparent.com
SUMMARY:Children’s Book Festival
DESCRIPTION:From the Fulton County Library System and the Atlanta-Fulton Public Library Foundation\, engage young readers in all the resources the library has to offer with local organizations\, well-known authors\, book readings\, performances\, a puppet workshop and more.
URL:https://www.atlantaparent.com/event/childrens-book-festival/
LOCATION:Central Library/Library System HQ\, 1 Margaret Mitchell Square\, Atlanta\, 30303
GEO:33.7575615;-84.3879201
X-APPLE-STRUCTURED-LOCATION;VALUE=URI;X-ADDRESS=Central Library/Library System HQ 1 Margaret Mitchell Square Atlanta 30303;X-APPLE-RADIUS=500;X-TITLE=1 Margaret Mitchell Square:geo:-84.3879201,33.7575615
END:VEVENT
BEGIN:VEVENT
DTSTART;TZID=America/New_York:20220514T130000
DTEND;TZID=America/New_York:20220514T130000
DTSTAMP:20260419T114800
CREATED:20220415T170559Z
LAST-MODIFIED:20220415T170559Z
UID:10006328-1652533200-1652533200@www.atlantaparent.com
SUMMARY:The Lost Queen
DESCRIPTION:Presented by ALL STARS Performing Arts\, this take on “The 12 Dancing Princesses” has the princesses return to the Fairy’s Realm to save their mother. May 14\, 1 and 7 p.m. $27.
URL:https://www.atlantaparent.com/event/the-lost-queen/2022-05-14/1/
LOCATION:Gas South District\, 6400 Sugarloaf Parkway\, Duluth
GEO:33.9913579;-84.0938603
X-APPLE-STRUCTURED-LOCATION;VALUE=URI;X-ADDRESS=Gas South District 6400 Sugarloaf Parkway Duluth;X-APPLE-RADIUS=500;X-TITLE=6400 Sugarloaf Parkway:geo:-84.0938603,33.9913579
END:VEVENT
BEGIN:VEVENT
DTSTART;TZID=America/New_York:20220514T130000
DTEND;TZID=America/New_York:20220514T210000
DTSTAMP:20260419T114800
CREATED:20220505T124353Z
LAST-MODIFIED:20220505T124353Z
UID:10006375-1652533200-1652562000@www.atlantaparent.com
SUMMARY:La Feria Atlanta
DESCRIPTION:Celebrate La feria de april in Seville and the restaurant’s first anniversary with a live flamenco show\, kids’ activities\, cooking demonstration and more. $25-$75.
URL:https://www.atlantaparent.com/event/la-feria-atlanta/
LOCATION:Madrid Spanish Taverna\, 1055 Canton St.\, Roswell
GEO:34.0271735;-84.360469
X-APPLE-STRUCTURED-LOCATION;VALUE=URI;X-ADDRESS=Madrid Spanish Taverna 1055 Canton St. Roswell;X-APPLE-RADIUS=500;X-TITLE=1055 Canton St.:geo:-84.360469,34.0271735
END:VEVENT
BEGIN:VEVENT
DTSTART;TZID=America/New_York:20220515T130000
DTEND;TZID=America/New_York:20220515T150000
DTSTAMP:20260419T114800
CREATED:20220425T172147Z
LAST-MODIFIED:20220505T123653Z
UID:10006405-1652619600-1652626800@www.atlantaparent.com
SUMMARY:Unicorn Day
DESCRIPTION:Watch the unicorns frolic in the wooded area for an exciting day of adventure with farm animals and fun. $20.
URL:https://www.atlantaparent.com/event/unicorn-day/
LOCATION:The Art Barn\, 208 Roper Rd.\, Canton\, GA\, 30115
GEO:34.1628976;-84.3764854
X-APPLE-STRUCTURED-LOCATION;VALUE=URI;X-ADDRESS=The Art Barn 208 Roper Rd. Canton GA 30115;X-APPLE-RADIUS=500;X-TITLE=208 Roper Rd.:geo:-84.3764854,34.1628976
END:VEVENT
BEGIN:VEVENT
DTSTART;TZID=America/New_York:20220515T140000
DTEND;TZID=America/New_York:20220515T160000
DTSTAMP:20260419T114800
CREATED:20220415T171859Z
LAST-MODIFIED:20220415T171859Z
UID:10006325-1652623200-1652630400@www.atlantaparent.com
SUMMARY:Spring Family Fun Day
DESCRIPTION:Explore gardening and the outdoors with an expert beekeeper\, tours of the pollinator garden\, crafts\, activities\, games\, face painting and more. Registration required. Free admission.
URL:https://www.atlantaparent.com/event/spring-family-fun-day/
LOCATION:Marietta Educational Garden Center\, 505 Kennesaw Ave.\, Marietta
GEO:33.9640784;-84.559733
X-APPLE-STRUCTURED-LOCATION;VALUE=URI;X-ADDRESS=Marietta Educational Garden Center 505 Kennesaw Ave. Marietta;X-APPLE-RADIUS=500;X-TITLE=505 Kennesaw Ave.:geo:-84.559733,33.9640784
END:VEVENT
BEGIN:VEVENT
DTSTART;VALUE=DATE:20220516
DTEND;VALUE=DATE:20220523
DTSTAMP:20260419T114800
CREATED:20220513T134344Z
LAST-MODIFIED:20220513T134344Z
UID:10006383-1652659200-1653263999@www.atlantaparent.com
SUMMARY:Atlanta Fringe Festival
DESCRIPTION:This festival celebrates arts and culture with different performances including circus\, puppetry\, storytelling\, comedy and more. 7 Stages\, The Marianna and Neighborhood Church. $15 per show; festival pass\, $75-$120.
URL:https://www.atlantaparent.com/event/atlanta-fringe-festival/
END:VEVENT
BEGIN:VEVENT
DTSTART;VALUE=DATE:20220520
DTEND;VALUE=DATE:20220523
DTSTAMP:20260419T114800
CREATED:20220513T133852Z
LAST-MODIFIED:20220513T134400Z
UID:10006384-1653004800-1653263999@www.atlantaparent.com
SUMMARY:Cirque Us - RagTag: A Circus in Stitches
DESCRIPTION:Part of the Atlanta Fringe Festival\, Cirque Us will be performing a high-flying\, knot-tying spectacular show with aerialists\, acrobats and performers. May 20\, 8 p.m.; May 21\, 5 and 11 p.m. and May 22\, 3:30 p.m. $15.
URL:https://www.atlantaparent.com/event/cirque-us-ragtag-a-circus-in-stitches/
LOCATION:7 Stages Theatre\, 1105 Euclid Avenue\, Atlanta
ATTACH;FMTTYPE=image/jpeg:https://www.atlantaparent.com/wp-content/uploads/2022/05/RagTag-2-scaled-e1652449102955.jpg
GEO:33.7637829;-84.3508289
X-APPLE-STRUCTURED-LOCATION;VALUE=URI;X-ADDRESS=7 Stages Theatre 1105 Euclid Avenue Atlanta;X-APPLE-RADIUS=500;X-TITLE=1105 Euclid Avenue:geo:-84.3508289,33.7637829
END:VEVENT
BEGIN:VEVENT
DTSTART;TZID=America/New_York:20220520T193000
DTEND;TZID=America/New_York:20220520T193000
DTSTAMP:20260419T114800
CREATED:20220415T170824Z
LAST-MODIFIED:20220523T114700Z
UID:10006326-1653075000-1653075000@www.atlantaparent.com
SUMMARY:Little Mermaid
DESCRIPTION:The Northeast Atlanta Ballet embarks on a sea adventure with the tale of the Little Mermaid. May 20\, 7:30 p.m. and May 22\, 2 p.m. $25.
URL:https://www.atlantaparent.com/event/little-mermaid/2022-05-20/
LOCATION:Gas South District\, 6400 Sugarloaf Parkway\, Duluth
ATTACH;FMTTYPE=image/jpeg:https://www.atlantaparent.com/wp-content/uploads/2022/04/Little-Mermaid.jpg
GEO:33.9913579;-84.0938603
X-APPLE-STRUCTURED-LOCATION;VALUE=URI;X-ADDRESS=Gas South District 6400 Sugarloaf Parkway Duluth;X-APPLE-RADIUS=500;X-TITLE=6400 Sugarloaf Parkway:geo:-84.0938603,33.9913579
END:VEVENT
BEGIN:VEVENT
DTSTART;TZID=America/New_York:20220520T200000
DTEND;TZID=America/New_York:20220520T220000
DTSTAMP:20260419T114800
CREATED:20210312T220409Z
LAST-MODIFIED:20220425T145714Z
UID:10002128-1653076800-1653084000@www.atlantaparent.com
SUMMARY:LIVE at the DTL Concert
DESCRIPTION:Concerts start at 8 p.m.
URL:https://www.atlantaparent.com/event/lawrenceville-summer-concert-series/2022-05-20/
LOCATION:Lawrenceville Lawn\, 210 Luckie Street\, Lawrenceville
GEO:33.95471;-83.987239
X-APPLE-STRUCTURED-LOCATION;VALUE=URI;X-ADDRESS=Lawrenceville Lawn 210 Luckie Street Lawrenceville;X-APPLE-RADIUS=500;X-TITLE=210 Luckie Street:geo:-83.987239,33.95471
END:VEVENT
BEGIN:VEVENT
DTSTART;VALUE=DATE:20220521
DTEND;VALUE=DATE:20230109
DTSTAMP:20260419T114800
CREATED:20220518T144944Z
LAST-MODIFIED:20220518T144944Z
UID:10006400-1653091200-1673222399@www.atlantaparent.com
SUMMARY:Gear Up: The Science of Bikes
DESCRIPTION:Marvel at the science and technology of bikes with their history\, how they work and how they’ve changed transportation and culture. $17; ages 3-17\, $13; ages 2 and younger\, free.
URL:https://www.atlantaparent.com/event/gear-up-the-science-of-bikes/
LOCATION:Tellus Science Museum\, 100 Tellus Drive\, Cartersville
GEO:34.2418518;-84.7706004
X-APPLE-STRUCTURED-LOCATION;VALUE=URI;X-ADDRESS=Tellus Science Museum 100 Tellus Drive Cartersville;X-APPLE-RADIUS=500;X-TITLE=100 Tellus Drive:geo:-84.7706004,34.2418518
END:VEVENT
BEGIN:VEVENT
DTSTART;TZID=America/New_York:20220522T070000
DTEND;TZID=America/New_York:20220522T100000
DTSTAMP:20260419T114800
CREATED:20220418T184732Z
LAST-MODIFIED:20220418T184732Z
UID:10006396-1653202800-1653213600@www.atlantaparent.com
SUMMARY:Chastain Chase
DESCRIPTION:Run 5K course or walk the 1 mile for this fundraiser to provide support services for people facing cancer. $30.
URL:https://www.atlantaparent.com/event/chastain-chase/
LOCATION:Chastain Park Red Lot\, 4425 Powers Ferry Rd. NW\, Atlanta
GEO:33.8767643;-84.3974579
X-APPLE-STRUCTURED-LOCATION;VALUE=URI;X-ADDRESS=Chastain Park Red Lot 4425 Powers Ferry Rd. NW Atlanta;X-APPLE-RADIUS=500;X-TITLE=4425 Powers Ferry Rd. NW:geo:-84.3974579,33.8767643
END:VEVENT
BEGIN:VEVENT
DTSTART;TZID=America/New_York:20220522T130000
DTEND;TZID=America/New_York:20220522T160000
DTSTAMP:20260419T114800
CREATED:20220516T195423Z
LAST-MODIFIED:20220516T195423Z
UID:10006387-1653224400-1653235200@www.atlantaparent.com
SUMMARY:May Day
DESCRIPTION:Celebrate warm weather and the reopening of the Big Creek Greenway’s Halcyon Trailhead with live music\, food\, spring-themed crafts\, a flower truck\, Tinkerbell leading a Halcyon Fairy Garden egg hunt and more.
URL:https://www.atlantaparent.com/event/may-day/
LOCATION:Halcyon\, 6365 Halcyon Way\, Alpharetta\, GA\, 30005
GEO:34.1106637;-84.2242307
X-APPLE-STRUCTURED-LOCATION;VALUE=URI;X-ADDRESS=Halcyon 6365 Halcyon Way Alpharetta GA 30005;X-APPLE-RADIUS=500;X-TITLE=6365 Halcyon Way:geo:-84.2242307,34.1106637
END:VEVENT
BEGIN:VEVENT
DTSTART;VALUE=DATE:20220528
DTEND;VALUE=DATE:20220530
DTSTAMP:20260419T114800
CREATED:20190510T163648Z
LAST-MODIFIED:20220518T140530Z
UID:10003527-1653696000-1653868799@www.atlantaparent.com
SUMMARY:Summer Bash at Children's Museum of Atlanta
DESCRIPTION:Play classic summer games\, like ring toss\, jumping rope and hula-hooping\, create oobleck\, design a skyscraper and more to celebrate summer. Reservation required. $19.95.
URL:https://www.atlantaparent.com/event/summer-bash/
LOCATION:Children’s Museum of Atlanta\, 275 Centennial Olympic Park Drive\, Atlanta\, GA
ATTACH;FMTTYPE=image/jpeg:https://www.atlantaparent.com/wp-content/uploads/2018/05/Childrens-Museum-0048-2.jpg
GEO:33.762568;-84.3914318
X-APPLE-STRUCTURED-LOCATION;VALUE=URI;X-ADDRESS=Children’s Museum of Atlanta 275 Centennial Olympic Park Drive Atlanta GA;X-APPLE-RADIUS=500;X-TITLE=275 Centennial Olympic Park Drive:geo:-84.3914318,33.762568
END:VEVENT
BEGIN:VEVENT
DTSTART;TZID=America/New_York:20220530T100000
DTEND;TZID=America/New_York:20220530T110000
DTSTAMP:20260419T114800
CREATED:20220421T132655Z
LAST-MODIFIED:20220421T132655Z
UID:10006347-1653904800-1653908400@www.atlantaparent.com
SUMMARY:Memorial Day Ceremony Hosted by Roswell Rotary
DESCRIPTION:Honor the men and women who have sacrificed their lives in the defense of our country with a military ceremony\, presentation of colors\, the national anthem and more. \n\n 
URL:https://www.atlantaparent.com/event/memorial-day-ceremony-hosted-by-roswell-rotary/
LOCATION:Roswell City Hall\, 38 Hill St.\, Roswell\, United States
END:VEVENT
BEGIN:VEVENT
DTSTART;TZID=America/New_York:20220530T110000
DTEND;TZID=America/New_York:20220530T120000
DTSTAMP:20260419T114800
CREATED:20210521T133957Z
LAST-MODIFIED:20220415T174612Z
UID:10005837-1653908400-1653912000@www.atlantaparent.com
SUMMARY:Memorial Day Celebration at Veterans Monument
DESCRIPTION:Honor veterans at this ceremony. Free.
URL:https://www.atlantaparent.com/event/memorial-day-celebration-at-veterans-monument/
LOCATION:Peachtree Corners Town Green\, 5140 Town Center Blvd\, Peachtree Corners\, GA\, 30092
GEO:33.9793581;-84.2133568
X-APPLE-STRUCTURED-LOCATION;VALUE=URI;X-ADDRESS=Peachtree Corners Town Green 5140 Town Center Blvd Peachtree Corners GA 30092;X-APPLE-RADIUS=500;X-TITLE=5140 Town Center Blvd:geo:-84.2133568,33.9793581
END:VEVENT
BEGIN:VEVENT
DTSTART;VALUE=DATE:20220602
DTEND;VALUE=DATE:20220613
DTSTAMP:20260419T114800
CREATED:20220502T143415Z
LAST-MODIFIED:20220606T124130Z
UID:10006373-1654128000-1655078399@www.atlantaparent.com
SUMMARY:Disney’s Frozen
DESCRIPTION:Photo by Deen van Meer \nSee the magical story of “Frozen” come to life with amazing actors\, special effects and costumes. June 2-12. See website for showtimes. $31-$129; children younger than 2 will not be admitted.
URL:https://www.atlantaparent.com/event/disneys-frozen/
LOCATION:Fox Theatre\, 660 Peachtree St. NE\, Atlanta
ATTACH;FMTTYPE=image/jpeg:https://www.atlantaparent.com/wp-content/uploads/2022/05/Caroline-Bowman-Elsa-and-Caroline-Innerbichler-Anna-in-Frozen-North-American-Tour-photo-by-Deen-van-Meer-scaled-e1651502018552.jpg
GEO:33.772731;-84.385022
X-APPLE-STRUCTURED-LOCATION;VALUE=URI;X-ADDRESS=Fox Theatre 660 Peachtree St. NE Atlanta;X-APPLE-RADIUS=500;X-TITLE=660 Peachtree St. NE:geo:-84.385022,33.772731
END:VEVENT
BEGIN:VEVENT
DTSTART;TZID=America/New_York:20220602T180000
DTEND;TZID=America/New_York:20220602T180000
DTSTAMP:20260419T114800
CREATED:20190422T205624Z
LAST-MODIFIED:20220603T172652Z
UID:10002761-1654192800-1654192800@www.atlantaparent.com
SUMMARY:Thursday Thunder Legends Series
DESCRIPTION:Cheer on your favorite racers on this tricky 1/4-mile race and motorsport competition. $10-$20. \n\nFrom July 2019: \nOn Track: Visit the Atlanta Motor Speedway’s Thursday Thunder \nJust an hour outside of Atlanta\, Thursday Thunder at Atlanta Motor Speedway offers an accessible experience for any racing enthusiast. This trip is a must for race fans of all ages; I was accompanied by two 16-year-olds\, but I saw kids as young as 3 in the stands.    \nThe races were wild! Racers ages 8 and up come from around the nation to zip around a ¼ mile track in cars that look like scale models of a regular race car. Cars were peeling out\, spinning out and crashing into each other. When asked what their favorite part of the races were both Sam and Drew said\, “The crashes\, all the crashes.” All the excitement on the track kept our attention during each race as we cheered for our newly appointed favorite car.  \nBefore the feature races\, all the cars are parked on the track\, and fans are invited on the track to meet the drivers and get autographs. This was a hit with everyone in the stands.     \nA child who is really interested in racing may enjoy visiting the pit\, which opens at 4 p.m. before the races began. We parked in the infield and walked around the garage checking out all the cars up close.   \nThursday Thunder makes the racing so accessible to all fans; fans can sit against the fence to feel the cars go by. We saw many little fans in race car pajamas waving checkered flags against the fencing.    \nKnow Before You Go: To make the visit even more family and budget friendly\, you can pack a cooler with food and drinks (no glass) to enjoy during the races. Consider bringing ear plugs. While they don’t eliminate all the noise\, they do help muffle some of the sound. Be sure to pack sunscreen especially if you’re sitting near the fencing; however\, there is shaded seating in the grandstands if you forget.   \nYolanda Veith 
URL:https://www.atlantaparent.com/event/thursday-thunder-legends-series/2022-06-02/
LOCATION:EchoPark Speedway\, 1500 Tara Place\, Hampton
ATTACH;FMTTYPE=image/jpeg:https://www.atlantaparent.com/wp-content/uploads/2018/07/Thursday-Thunder-2-b.jpg
GEO:33.384517;-84.313377
X-APPLE-STRUCTURED-LOCATION;VALUE=URI;X-ADDRESS=EchoPark Speedway 1500 Tara Place Hampton;X-APPLE-RADIUS=500;X-TITLE=1500 Tara Place:geo:-84.313377,33.384517
END:VEVENT
END:VCALENDAR