BEGIN:VCALENDAR
VERSION:2.0
PRODID:-//NEW Atlanta Parent - ECPv6.15.11//NONSGML v1.0//EN
CALSCALE:GREGORIAN
METHOD:PUBLISH
X-ORIGINAL-URL:https://www.atlantaparent.com
X-WR-CALDESC:Events for NEW Atlanta Parent
REFRESH-INTERVAL;VALUE=DURATION:PT1H
X-Robots-Tag:noindex
X-PUBLISHED-TTL:PT1H
BEGIN:VTIMEZONE
TZID:America/New_York
BEGIN:DAYLIGHT
TZOFFSETFROM:-0500
TZOFFSETTO:-0400
TZNAME:EDT
DTSTART:20220313T070000
END:DAYLIGHT
BEGIN:STANDARD
TZOFFSETFROM:-0400
TZOFFSETTO:-0500
TZNAME:EST
DTSTART:20221106T060000
END:STANDARD
BEGIN:DAYLIGHT
TZOFFSETFROM:-0500
TZOFFSETTO:-0400
TZNAME:EDT
DTSTART:20230312T070000
END:DAYLIGHT
BEGIN:STANDARD
TZOFFSETFROM:-0400
TZOFFSETTO:-0500
TZNAME:EST
DTSTART:20231105T060000
END:STANDARD
BEGIN:DAYLIGHT
TZOFFSETFROM:-0500
TZOFFSETTO:-0400
TZNAME:EDT
DTSTART:20240310T070000
END:DAYLIGHT
BEGIN:STANDARD
TZOFFSETFROM:-0400
TZOFFSETTO:-0500
TZNAME:EST
DTSTART:20241103T060000
END:STANDARD
END:VTIMEZONE
BEGIN:VTIMEZONE
TZID:UTC
BEGIN:STANDARD
TZOFFSETFROM:+0000
TZOFFSETTO:+0000
TZNAME:UTC
DTSTART:20220101T000000
END:STANDARD
END:VTIMEZONE
BEGIN:VEVENT
DTSTART;TZID=America/New_York:20231020T190000
DTEND;TZID=America/New_York:20231020T210000
DTSTAMP:20260425T160043
CREATED:20230914T160640Z
LAST-MODIFIED:20230914T160640Z
UID:10007438-1697828400-1697835600@www.atlantaparent.com
SUMMARY:Halloween Heroes Bash
DESCRIPTION:Superheroes\, pirates and princesses are invited to this Halloween dance with games\, contests and more. For ages 4 and older. $11; non-Gwinnett resident\, $13.
URL:https://www.atlantaparent.com/event/halloween-heroes-bash/
LOCATION:George Pierce Park Community Recreation Center\, 55 Buford Hwy.\, Suwanee
GEO:34.0606638;-84.0616299
X-APPLE-STRUCTURED-LOCATION;VALUE=URI;X-ADDRESS=George Pierce Park Community Recreation Center 55 Buford Hwy. Suwanee;X-APPLE-RADIUS=500;X-TITLE=55 Buford Hwy.:geo:-84.0616299,34.0606638
END:VEVENT
BEGIN:VEVENT
DTSTART;TZID=America/New_York:20231021T080000
DTEND;TZID=America/New_York:20231021T170000
DTSTAMP:20260425T160043
CREATED:20230913T143633Z
LAST-MODIFIED:20230914T190736Z
UID:10006557-1697875200-1697907600@www.atlantaparent.com
SUMMARY:Fly Day
DESCRIPTION:Children and youth with special needs can enjoy a day of face painting\, a 30-minute flight\, aircraft\, clowns and more. For ages 7 and older. Registration required. Free admission. \n 
URL:https://www.atlantaparent.com/event/fly-day/
LOCATION:Atlanta Regional Airport – Falcon Field\, 7 Falcon Dr.\, Peachtree City
ATTACH;FMTTYPE=image/jpeg:https://www.atlantaparent.com/wp-content/uploads/2022/09/family-scaled-e1663338988402.jpg
GEO:33.3584882;-84.5713504
X-APPLE-STRUCTURED-LOCATION;VALUE=URI;X-ADDRESS=Atlanta Regional Airport – Falcon Field 7 Falcon Dr. Peachtree City;X-APPLE-RADIUS=500;X-TITLE=7 Falcon Dr.:geo:-84.5713504,33.3584882
END:VEVENT
BEGIN:VEVENT
DTSTART;TZID=America/New_York:20231021T170000
DTEND;TZID=America/New_York:20231021T200000
DTSTAMP:20260425T160043
CREATED:20231010T150639Z
LAST-MODIFIED:20231011T160710Z
UID:10005484-1697907600-1697918400@www.atlantaparent.com
SUMMARY:Movies on The Lawn
DESCRIPTION:Enjoy a spooky showing of “The Mummy\,” along with Halloween-themed dishes\, trick-or-treat stations\, a live DJ and more. Free; registration required.
URL:https://www.atlantaparent.com/event/movies-on-the-lawn-2/
LOCATION:The Lawn at Uptown\, 2400 Garson Dr. NE\, Atlanta\, GA\, 30324
ATTACH;FMTTYPE=image/jpeg:https://www.atlantaparent.com/wp-content/uploads/2020/10/201030UptownMovieLawnLRM-0099-scaled-e1697040411621.jpg
GEO:33.8218785;-84.3704698
X-APPLE-STRUCTURED-LOCATION;VALUE=URI;X-ADDRESS=The Lawn at Uptown 2400 Garson Dr. NE Atlanta GA 30324;X-APPLE-RADIUS=500;X-TITLE=2400 Garson Dr. NE:geo:-84.3704698,33.8218785
END:VEVENT
BEGIN:VEVENT
DTSTART;TZID=America/New_York:20231022T100000
DTEND;TZID=America/New_York:20231022T120000
DTSTAMP:20260425T160043
CREATED:20231010T190022Z
LAST-MODIFIED:20231010T190042Z
UID:10007514-1697968800-1697976000@www.atlantaparent.com
SUMMARY:Pumpkin Patch Family Fun
DESCRIPTION:Fall fun includes coffee\, donuts\, kid-friendly snacks and access to the activities at Sleepy Hollow Farm. Reservation required. $15-$20.
URL:https://www.atlantaparent.com/event/pumpkin-patch-family-fun/
LOCATION:Sleepy Hollow Farm\, 628 Sleepy Hollow Rd.\, Powder Springs\, GA\, United States
GEO:33.801944;-84.73528
X-APPLE-STRUCTURED-LOCATION;VALUE=URI;X-ADDRESS=Sleepy Hollow Farm 628 Sleepy Hollow Rd. Powder Springs GA United States;X-APPLE-RADIUS=500;X-TITLE=628 Sleepy Hollow Rd.:geo:-84.73528,33.801944
END:VEVENT
BEGIN:VEVENT
DTSTART;VALUE=DATE:20231027
DTEND;VALUE=DATE:20231029
DTSTAMP:20260425T160043
CREATED:20250826T165850Z
LAST-MODIFIED:20250908T163617Z
UID:10003020-1698364800-1698537599@www.atlantaparent.com
SUMMARY:Halloween at Hogwarts + ASO
DESCRIPTION:Come dressed in costume for a spooky and cheerful Halloween concert bringing the wizarding world to life. Oct. 26\, 1:30 and 3 p.m. $26-$38+.
URL:https://www.atlantaparent.com/event/nightmare-before-christmas/
LOCATION:Atlanta Symphony Hall\, 1280 Peachtree St. NE\, Atlanta
ATTACH;FMTTYPE=image/jpeg:https://www.atlantaparent.com/wp-content/uploads/2021/08/23004483_10156017164689015_5961315713618873773_o-e1635165641545.jpg
GEO:33.7891582;-84.3849351
X-APPLE-STRUCTURED-LOCATION;VALUE=URI;X-ADDRESS=Atlanta Symphony Hall 1280 Peachtree St. NE Atlanta;X-APPLE-RADIUS=500;X-TITLE=1280 Peachtree St. NE:geo:-84.3849351,33.7891582
END:VEVENT
BEGIN:VEVENT
DTSTART;VALUE=DATE:20231027
DTEND;VALUE=DATE:20231030
DTSTAMP:20260425T160043
CREATED:20250903T135104Z
LAST-MODIFIED:20250912T125431Z
UID:10006591-1698364800-1698623999@www.atlantaparent.com
SUMMARY:Tick or Treat at YRWS
DESCRIPTION:Go trick-or-treating at this animal sanctuary. Oct. 25\, 10 a.m.-6 p.m. $22; ages 3-12\, $15; ages 2 and younger\, free.
URL:https://www.atlantaparent.com/event/jonathans-jack-o-lantern-jubilee/
LOCATION:Yellow River Wildlife Sanctuary\, 4524 US Hwy. 78\, Lilburn
GEO:33.8307619;-83.8701319
X-APPLE-STRUCTURED-LOCATION;VALUE=URI;X-ADDRESS=Yellow River Wildlife Sanctuary 4524 US Hwy. 78 Lilburn;X-APPLE-RADIUS=500;X-TITLE=4524 US Hwy. 78:geo:-83.8701319,33.8307619
END:VEVENT
BEGIN:VEVENT
DTSTART;TZID=America/New_York:20231027T150000
DTEND;TZID=America/New_York:20231027T170000
DTSTAMP:20260425T160043
CREATED:20230914T151317Z
LAST-MODIFIED:20230914T151317Z
UID:10007429-1698418800-1698426000@www.atlantaparent.com
SUMMARY:Trick or Treat on the McDonough Square
DESCRIPTION:Come costumed to enjoy fun and candy.
URL:https://www.atlantaparent.com/event/trick-or-treat-on-the-mcdonough-square/
LOCATION: McDonough Square\, 5 Griffin Street\, McDonough
GEO:33.447532;-84.1474954
X-APPLE-STRUCTURED-LOCATION;VALUE=URI;X-ADDRESS= McDonough Square 5 Griffin Street McDonough;X-APPLE-RADIUS=500;X-TITLE=5 Griffin Street:geo:-84.1474954,33.447532
END:VEVENT
BEGIN:VEVENT
DTSTART;TZID=America/New_York:20231027T180000
DTEND;TZID=America/New_York:20231027T210000
DTSTAMP:20260425T160043
CREATED:20231020T170207Z
LAST-MODIFIED:20231020T170207Z
UID:10007574-1698429600-1698440400@www.atlantaparent.com
SUMMARY:Trunk or Treat & Haunted House
DESCRIPTION:Celebrate Halloween with candy\, music\, hayrides\, a photo booth and more.
URL:https://www.atlantaparent.com/event/trunk-or-treat-haunted-house/
LOCATION:Tracey Wyatt Recreation Center\, 2300 Godby Rd.\, College Park
END:VEVENT
BEGIN:VEVENT
DTSTART;TZID=America/New_York:20231027T190000
DTEND;TZID=America/New_York:20231027T220000
DTSTAMP:20260425T160043
CREATED:20231011T161136Z
LAST-MODIFIED:20231011T161136Z
UID:10007532-1698433200-1698444000@www.atlantaparent.com
SUMMARY:Let the Ghoul Times Roll
DESCRIPTION:Enjoy live music\, Halloween-themed activities\, a costume contest\, face painting and more. Free admission.
URL:https://www.atlantaparent.com/event/let-the-ghoul-times-roll/
LOCATION:Ashford Lane\, 4500 Olde Perimeter Way\, Atlanta
GEO:33.9310997;-84.3415516
X-APPLE-STRUCTURED-LOCATION;VALUE=URI;X-ADDRESS=Ashford Lane 4500 Olde Perimeter Way Atlanta;X-APPLE-RADIUS=500;X-TITLE=4500 Olde Perimeter Way:geo:-84.3415516,33.9310997
END:VEVENT
BEGIN:VEVENT
DTSTART;TZID=America/New_York:20231028T100000
DTEND;TZID=America/New_York:20231028T110000
DTSTAMP:20260425T160043
CREATED:20230927T192545Z
LAST-MODIFIED:20230927T192545Z
UID:10007508-1698487200-1698490800@www.atlantaparent.com
SUMMARY:Doggie Day Halloween Parade
DESCRIPTION:Dress you and your pup in a Halloween costume to participate in this parade. $10; ages 3-17\, $5; ages 2 and younger\, free.
URL:https://www.atlantaparent.com/event/doggie-day-halloween-parade/
LOCATION:Smith-Gilbert Gardens\, 2382 Pine Mountain Rd.\, Kennesaw
GEO:34.0094229;-84.6309314
X-APPLE-STRUCTURED-LOCATION;VALUE=URI;X-ADDRESS=Smith-Gilbert Gardens 2382 Pine Mountain Rd. Kennesaw;X-APPLE-RADIUS=500;X-TITLE=2382 Pine Mountain Rd.:geo:-84.6309314,34.0094229
END:VEVENT
BEGIN:VEVENT
DTSTART;TZID=America/New_York:20231028T100000
DTEND;TZID=America/New_York:20231028T130000
DTSTAMP:20260425T160043
CREATED:20230914T161639Z
LAST-MODIFIED:20230914T161639Z
UID:10007439-1698487200-1698498000@www.atlantaparent.com
SUMMARY:Monster Mash
DESCRIPTION:Enjoy themed tables full of goodies\, crafts and activities. $25.95; ages 3-12\, $23.95; ages 2 and younger\, free.
URL:https://www.atlantaparent.com/event/monster-mash/
LOCATION:Fernbank Museum of Natural History\, 767 Clifton Road\, Atlanta
GEO:33.7739167;-84.3277484
X-APPLE-STRUCTURED-LOCATION;VALUE=URI;X-ADDRESS=Fernbank Museum of Natural History 767 Clifton Road Atlanta;X-APPLE-RADIUS=500;X-TITLE=767 Clifton Road:geo:-84.3277484,33.7739167
END:VEVENT
BEGIN:VEVENT
DTSTART;TZID=America/New_York:20231028T100000
DTEND;TZID=America/New_York:20231028T130000
DTSTAMP:20260425T160043
CREATED:20231009T153031Z
LAST-MODIFIED:20231009T153031Z
UID:10007513-1698487200-1698498000@www.atlantaparent.com
SUMMARY:Something's Brewing
DESCRIPTION:Have a spooktacular good time with candy stations\, crafts\, face painting\, stilt walkers and more. For ages 3-13. $10; adults and ages 2 and younger\, free.
URL:https://www.atlantaparent.com/event/somethings-brewing/
LOCATION:The Works\, 1235 Chattahoochee Ave. NW\, Atlanta
GEO:33.8022496;-84.4285908
X-APPLE-STRUCTURED-LOCATION;VALUE=URI;X-ADDRESS=The Works 1235 Chattahoochee Ave. NW Atlanta;X-APPLE-RADIUS=500;X-TITLE=1235 Chattahoochee Ave. NW:geo:-84.4285908,33.8022496
END:VEVENT
BEGIN:VEVENT
DTSTART;TZID=America/New_York:20231028T130000
DTEND;TZID=America/New_York:20231028T130000
DTSTAMP:20260425T160043
CREATED:20230825T135412Z
LAST-MODIFIED:20230825T135412Z
UID:10007390-1698498000-1698498000@www.atlantaparent.com
SUMMARY:Fall Festival
DESCRIPTION:Celebrate fall with activities for all ages\, including a pumpkin patch\, inflatables and a trunk-or-treat.
URL:https://www.atlantaparent.com/event/fall-festival-9/
LOCATION:North Springs United Methodist Church\, 7770 Roswell Rd.\, Atlanta\, GA\, United States
GEO:33.9678351;-84.362972
X-APPLE-STRUCTURED-LOCATION;VALUE=URI;X-ADDRESS=North Springs United Methodist Church 7770 Roswell Rd. Atlanta GA United States;X-APPLE-RADIUS=500;X-TITLE=7770 Roswell Rd.:geo:-84.362972,33.9678351
END:VEVENT
BEGIN:VEVENT
DTSTART;TZID=America/New_York:20231028T130000
DTEND;TZID=America/New_York:20231028T130000
DTSTAMP:20260425T160043
CREATED:20230914T154644Z
LAST-MODIFIED:20230914T154644Z
UID:10007436-1698498000-1698498000@www.atlantaparent.com
SUMMARY:Fall Festival
DESCRIPTION:This festival will include a trunk-or-treat\, a pumpkin patch\, inflatables and more. Free admission.
URL:https://www.atlantaparent.com/event/fall-festival-10/
LOCATION:North Springs United Methodist Church\, 7770 Roswell Rd.\, Atlanta\, GA\, United States
GEO:33.9678351;-84.362972
X-APPLE-STRUCTURED-LOCATION;VALUE=URI;X-ADDRESS=North Springs United Methodist Church 7770 Roswell Rd. Atlanta GA United States;X-APPLE-RADIUS=500;X-TITLE=7770 Roswell Rd.:geo:-84.362972,33.9678351
END:VEVENT
BEGIN:VEVENT
DTSTART;TZID=America/New_York:20231028T150000
DTEND;TZID=America/New_York:20231028T150000
DTSTAMP:20260425T160043
CREATED:20230914T143311Z
LAST-MODIFIED:20230914T143311Z
UID:10007427-1698505200-1698505200@www.atlantaparent.com
SUMMARY:Downtown Trick or Treating
DESCRIPTION:Participating stores\, restaurants and businesses will offer treats. Free admission.
URL:https://www.atlantaparent.com/event/downtown-trick-or-treating/
LOCATION:Downtown Norcross\, 73 S Peachtree Street\, Norcross
ATTACH;FMTTYPE=image/jpeg:https://www.atlantaparent.com/wp-content/uploads/2023/09/E2W.SparksCo.GermanCarTrickTreat-107-of-144-e1694701947947.jpg
END:VEVENT
BEGIN:VEVENT
DTSTART;TZID=America/New_York:20231028T200000
DTEND;TZID=America/New_York:20231028T200000
DTSTAMP:20260425T160043
CREATED:20230914T153955Z
LAST-MODIFIED:20230914T153955Z
UID:10007435-1698523200-1698523200@www.atlantaparent.com
SUMMARY:Frankenstein
DESCRIPTION:The 1931 classic horror film is brought to life with a vibrant score and The Atlanta Opera. $25-$95.
URL:https://www.atlantaparent.com/event/frankenstein/
LOCATION:Cobb Energy Performance Arts Center\, 2800 Cobb Galleria Pkwy.\, Atlanta
END:VEVENT
BEGIN:VEVENT
DTSTART;TZID=America/New_York:20231029T120000
DTEND;TZID=America/New_York:20231029T120000
DTSTAMP:20260425T160043
CREATED:20231021T183421Z
LAST-MODIFIED:20231023T151721Z
UID:10004195-1698580800-1698580800@www.atlantaparent.com
SUMMARY:Rock and Roll Playhouse: Halloween Spectacular And The Music of Fleetwood Mac for Kids
DESCRIPTION:These kid-friendly concerts showcase rock and roll music and celebrate Halloween with classic rock songs. Doors open at 11 a.m. $16-$17.
URL:https://www.atlantaparent.com/event/rock-and-roll-playhouse-grateful-dead-for-kids/
LOCATION:The Garden Club at Wild Heaven Beer – West End\, 1010 White St. SW\, Atlanta
ATTACH;FMTTYPE=image/jpeg:https://www.atlantaparent.com/wp-content/uploads/2019/05/images_uploads_gallery_RRPH_bday_4-e1651504165343.jpeg
END:VEVENT
BEGIN:VEVENT
DTSTART;TZID=America/New_York:20231029T150000
DTEND;TZID=America/New_York:20231029T190000
DTSTAMP:20260425T160043
CREATED:20230914T154913Z
LAST-MODIFIED:20230914T154913Z
UID:10007437-1698591600-1698606000@www.atlantaparent.com
SUMMARY:Fall Harvest Festival
DESCRIPTION:Enjoy candy\, music\, crafts and fun at this family festival. Free admission.
URL:https://www.atlantaparent.com/event/fall-harvest-festival-2/
LOCATION:Wholistic Life Church\, 2210 Pine Mountain Rd. NW\, Kennesaw
GEO:34.0073582;-84.6340818
X-APPLE-STRUCTURED-LOCATION;VALUE=URI;X-ADDRESS=Wholistic Life Church 2210 Pine Mountain Rd. NW Kennesaw;X-APPLE-RADIUS=500;X-TITLE=2210 Pine Mountain Rd. NW:geo:-84.6340818,34.0073582
END:VEVENT
BEGIN:VEVENT
DTSTART;TZID=America/New_York:20231029T180000
DTEND;TZID=America/New_York:20231030T203000
DTSTAMP:20260425T160044
CREATED:20230920T152306Z
LAST-MODIFIED:20230922T153539Z
UID:10006627-1698602400-1698697800@www.atlantaparent.com
SUMMARY:Prince/Princess Halloween Extravaganza
DESCRIPTION:A magical Candy Land experience awaits your prince or princess with music\, crafts\, candy\, a costume contest and more. $5-$20.
URL:https://www.atlantaparent.com/event/prince-princess-halloween-extravaganza/
LOCATION:The Lumberyard Office Lofts\, 1425 Ellsworth Industrial Blvd. NW\, Atlanta
GEO:33.7937805;-84.4259651
X-APPLE-STRUCTURED-LOCATION;VALUE=URI;X-ADDRESS=The Lumberyard Office Lofts 1425 Ellsworth Industrial Blvd. NW Atlanta;X-APPLE-RADIUS=500;X-TITLE=1425 Ellsworth Industrial Blvd. NW:geo:-84.4259651,33.7937805
END:VEVENT
BEGIN:VEVENT
DTSTART;TZID=America/New_York:20231030T173000
DTEND;TZID=America/New_York:20231030T190000
DTSTAMP:20260425T160044
CREATED:20230913T160230Z
LAST-MODIFIED:20230922T150904Z
UID:10003874-1698687000-1698692400@www.atlantaparent.com
SUMMARY:Halloween Party
DESCRIPTION:With candy\, games\, a trick-or-treat and more\, party at this Halloween event. RSVP to info@capoeiratlanta.com.
URL:https://www.atlantaparent.com/event/posh-tacular-kid-party-fest/
LOCATION:Capoeira Maculelê Decatur\, 519 N. McDonough St.\, Decatur
GEO:33.7741986;-84.296231
X-APPLE-STRUCTURED-LOCATION;VALUE=URI;X-ADDRESS=Capoeira Maculelê Decatur 519 N. McDonough St. Decatur;X-APPLE-RADIUS=500;X-TITLE=519 N. McDonough St.:geo:-84.296231,33.7741986
END:VEVENT
BEGIN:VEVENT
DTSTART;TZID=America/New_York:20231031T110000
DTEND;TZID=America/New_York:20231031T210000
DTSTAMP:20260425T160044
CREATED:20230926T190534Z
LAST-MODIFIED:20231009T152752Z
UID:10005533-1698750000-1698786000@www.atlantaparent.com
SUMMARY:Trick-or-Treat at Chattahoochee Food Works
DESCRIPTION:Visit Chattahoochee Food Works in your costumes for trick-or-treating and goodies.
URL:https://www.atlantaparent.com/event/somethings-brewing-at-the-works/
LOCATION:The Works\, 1235 Chattahoochee Ave. NW\, Atlanta
GEO:33.8022496;-84.4285908
X-APPLE-STRUCTURED-LOCATION;VALUE=URI;X-ADDRESS=The Works 1235 Chattahoochee Ave. NW Atlanta;X-APPLE-RADIUS=500;X-TITLE=1235 Chattahoochee Ave. NW:geo:-84.4285908,33.8022496
END:VEVENT
BEGIN:VEVENT
DTSTART;TZID=America/New_York:20231031T120000
DTEND;TZID=America/New_York:20231031T133000
DTSTAMP:20260425T160044
CREATED:20231025T145951Z
LAST-MODIFIED:20231025T145951Z
UID:10007585-1698753600-1698759000@www.atlantaparent.com
SUMMARY:Spooktacular Atlanta
DESCRIPTION:This spine-tingling celebration features dance performances\, a DJ\, fall florals and more.
URL:https://www.atlantaparent.com/event/spooktacular-atlanta/
LOCATION:Downtown Atlanta\, 135 Andrew Young International Blvd.\, Atlanta
GEO:33.7599121;-84.3917791
X-APPLE-STRUCTURED-LOCATION;VALUE=URI;X-ADDRESS=Downtown Atlanta 135 Andrew Young International Blvd. Atlanta;X-APPLE-RADIUS=500;X-TITLE=135 Andrew Young International Blvd.:geo:-84.3917791,33.7599121
END:VEVENT
BEGIN:VEVENT
DTSTART;TZID=America/New_York:20231031T180000
DTEND;TZID=America/New_York:20231031T200000
DTSTAMP:20260425T160044
CREATED:20230909T155926Z
LAST-MODIFIED:20230926T171244Z
UID:10006531-1698775200-1698782400@www.atlantaparent.com
SUMMARY:Trunk or Treat
DESCRIPTION:Enjoy a night of trick-or-treating\, games\, bounce houses and more. Free admission.
URL:https://www.atlantaparent.com/event/trunk-or-treat-7/
LOCATION:Cobb Vineyard Church\, 3206 Old 41 Hwy.\, Kennesaw
GEO:34.0331984;-84.6386718
X-APPLE-STRUCTURED-LOCATION;VALUE=URI;X-ADDRESS=Cobb Vineyard Church 3206 Old 41 Hwy. Kennesaw;X-APPLE-RADIUS=500;X-TITLE=3206 Old 41 Hwy.:geo:-84.6386718,34.0331984
END:VEVENT
BEGIN:VEVENT
DTSTART;TZID=America/New_York:20231101T120000
DTEND;TZID=America/New_York:20231101T130000
DTSTAMP:20260425T160044
CREATED:20231010T190601Z
LAST-MODIFIED:20231010T190743Z
UID:10007516-1698840000-1698843600@www.atlantaparent.com
SUMMARY:Virtual: Online Classes with MESH moms
DESCRIPTION:Take part in informative classes about travel\, exercise and more. $0-$15. \n\nNov. 1\, noon-1 p.m.: Traveling with Kids\nNov. 15\, noon-1 p.m.: Prenatal Yoga\nNov. 29\, noon-1 p.m.: Pelvic Floor 101\nDec. 1\, 9:30-10:30 a.m.: Baby Yoga Moves\nDec. 6\, noon-1 p.m.: Strategies for Dealing with your “Fix-It” Family
URL:https://www.atlantaparent.com/event/virtual-online-classes-with-mesh-moms/2023-11-01/
LOCATION:GA
END:VEVENT
BEGIN:VEVENT
DTSTART;VALUE=DATE:20231102
DTEND;VALUE=DATE:20231105
DTSTAMP:20260425T160044
CREATED:20231008T040002Z
LAST-MODIFIED:20231012T155927Z
UID:10003321-1698883200-1699142399@www.atlantaparent.com
SUMMARY:Holiday Gift Show
DESCRIPTION:This school fundraiser features goods from artisans\, unique jewelry\, clothing\, handcrafted items and gourmet treats. Nov. 2\, 6-8 p.m. and Nov. 3-4\, 9 a.m.-3 p.m. $5.
URL:https://www.atlantaparent.com/event/holiday-gift-show/
LOCATION:Northside Methodist Preschool\, 2799 Northside Drive\, Atlanta\, United States
GEO:33.8311193;-84.4059819
X-APPLE-STRUCTURED-LOCATION;VALUE=URI;X-ADDRESS=Northside Methodist Preschool 2799 Northside Drive Atlanta United States;X-APPLE-RADIUS=500;X-TITLE=2799 Northside Drive:geo:-84.4059819,33.8311193
END:VEVENT
BEGIN:VEVENT
DTSTART;VALUE=DATE:20231103
DTEND;VALUE=DATE:20231106
DTSTAMP:20260425T160044
CREATED:20231012T162033Z
LAST-MODIFIED:20231012T162033Z
UID:10007535-1698969600-1699228799@www.atlantaparent.com
SUMMARY:Atlanta Holiday Boutique
DESCRIPTION:Shop vendors’ items for jewelry\, gifts\, children’s items\, gourmet foods and more. Nov. 3\, 10 a.m.-9 p.m.; Nov. 4\, 9 a.m.-7 p.m. and Nov. 5\, 10 a.m.-5 p.m. $10-$12; ages 12 and younger\, free.
URL:https://www.atlantaparent.com/event/atlanta-holiday-boutique/
LOCATION:Gas South District\, 6400 Sugarloaf Parkway\, Duluth
GEO:33.9913579;-84.0938603
X-APPLE-STRUCTURED-LOCATION;VALUE=URI;X-ADDRESS=Gas South District 6400 Sugarloaf Parkway Duluth;X-APPLE-RADIUS=500;X-TITLE=6400 Sugarloaf Parkway:geo:-84.0938603,33.9913579
END:VEVENT
BEGIN:VEVENT
DTSTART;VALUE=DATE:20231103
DTEND;VALUE=DATE:20231120
DTSTAMP:20260425T160044
CREATED:20230603T155055Z
LAST-MODIFIED:20231018T172820Z
UID:10005905-1698969600-1700438399@www.atlantaparent.com
SUMMARY:Into the Woods
DESCRIPTION:Fairytale characters Cinderella\, Jack\, Rapunzel\, Little Red Riding Hood and more meet in this musical adventure. Nov. 3-19. See website for showtimes. $18-$23.
URL:https://www.atlantaparent.com/event/into-the-woods/
LOCATION:Woodstock Arts\, 8534 Main St.\, Woodstock
GEO:34.1017163;-84.5199758
X-APPLE-STRUCTURED-LOCATION;VALUE=URI;X-ADDRESS=Woodstock Arts 8534 Main St. Woodstock;X-APPLE-RADIUS=500;X-TITLE=8534 Main St.:geo:-84.5199758,34.1017163
END:VEVENT
BEGIN:VEVENT
DTSTART;VALUE=DATE:20231103
DTEND;VALUE=DATE:20231113
DTSTAMP:20260425T160044
CREATED:20231102T210625Z
LAST-MODIFIED:20231102T210625Z
UID:10007614-1698969600-1699833599@www.atlantaparent.com
SUMMARY:Big Rock Amusements Carnival
DESCRIPTION:Enjoy rides\, games and food for the whole family. Nov. 3-12. Mon.-Fri. 5-11 p.m. and Sat.-Sun. 1-11 p.m. Unlimited ride wristbands\, $25-$30.
URL:https://www.atlantaparent.com/event/big-rock-amusements-carnival/
LOCATION:Mall of Georgia\, 3333 Buford Drive\, Buford
GEO:34.0649736;-83.9844867
X-APPLE-STRUCTURED-LOCATION;VALUE=URI;X-ADDRESS=Mall of Georgia 3333 Buford Drive Buford;X-APPLE-RADIUS=500;X-TITLE=3333 Buford Drive:geo:-83.9844867,34.0649736
END:VEVENT
BEGIN:VEVENT
DTSTART;VALUE=DATE:20231103
DTEND;VALUE=DATE:20240108
DTSTAMP:20260425T160044
CREATED:20251002T040028Z
LAST-MODIFIED:20251002T172728Z
UID:10001022-1698969600-1704671999@www.atlantaparent.com
SUMMARY:Christmas at the Biltmore
DESCRIPTION:During the day\, see the elegant rooms of Biltmore House shimmer with lights and décor\, and at night\, enjoy candlelight\, glowing fireplaces and live music. Nov. 1-Jan. 4. See website for schedule. $130+; ages 10-16\, $72.50+; ages 9 and younger\, free.
URL:https://www.atlantaparent.com/event/christmas-at-the-biltmore/
LOCATION:Biltmore Estate\, 1 Lodge St.\, Asheville \, North Carolina
GEO:35.5670324;-82.5442522
X-APPLE-STRUCTURED-LOCATION;VALUE=URI;X-ADDRESS=Biltmore Estate 1 Lodge St. Asheville  North Carolina;X-APPLE-RADIUS=500;X-TITLE=1 Lodge St.:geo:-82.5442522,35.5670324
END:VEVENT
BEGIN:VEVENT
DTSTART;VALUE=DATE:20231104
DTEND;VALUE=DATE:20231106
DTSTAMP:20260425T160044
CREATED:20251007T044651Z
LAST-MODIFIED:20251103T205017Z
UID:10006659-1699056000-1699228799@www.atlantaparent.com
SUMMARY:Holiday Artists Market
DESCRIPTION:Spend the day shopping unique handmade items and enjoying food\, drink and live music. Nov. 8-9\, 11 a.m.-5 p.m.
URL:https://www.atlantaparent.com/event/halcyon-holiday-artist-market/
LOCATION:Halcyon\, 6365 Halcyon Way\, Alpharetta\, GA\, 30005
GEO:34.1106637;-84.2242307
X-APPLE-STRUCTURED-LOCATION;VALUE=URI;X-ADDRESS=Halcyon 6365 Halcyon Way Alpharetta GA 30005;X-APPLE-RADIUS=500;X-TITLE=6365 Halcyon Way:geo:-84.2242307,34.1106637
END:VEVENT
END:VCALENDAR