BEGIN:VCALENDAR
VERSION:2.0
PRODID:-//NEW Atlanta Parent - ECPv6.15.11//NONSGML v1.0//EN
CALSCALE:GREGORIAN
METHOD:PUBLISH
X-ORIGINAL-URL:https://www.atlantaparent.com
X-WR-CALDESC:Events for NEW Atlanta Parent
REFRESH-INTERVAL;VALUE=DURATION:PT1H
X-Robots-Tag:noindex
X-PUBLISHED-TTL:PT1H
BEGIN:VTIMEZONE
TZID:America/New_York
BEGIN:DAYLIGHT
TZOFFSETFROM:-0500
TZOFFSETTO:-0400
TZNAME:EDT
DTSTART:20220313T070000
END:DAYLIGHT
BEGIN:STANDARD
TZOFFSETFROM:-0400
TZOFFSETTO:-0500
TZNAME:EST
DTSTART:20221106T060000
END:STANDARD
BEGIN:DAYLIGHT
TZOFFSETFROM:-0500
TZOFFSETTO:-0400
TZNAME:EDT
DTSTART:20230312T070000
END:DAYLIGHT
BEGIN:STANDARD
TZOFFSETFROM:-0400
TZOFFSETTO:-0500
TZNAME:EST
DTSTART:20231105T060000
END:STANDARD
BEGIN:DAYLIGHT
TZOFFSETFROM:-0500
TZOFFSETTO:-0400
TZNAME:EDT
DTSTART:20240310T070000
END:DAYLIGHT
BEGIN:STANDARD
TZOFFSETFROM:-0400
TZOFFSETTO:-0500
TZNAME:EST
DTSTART:20241103T060000
END:STANDARD
BEGIN:DAYLIGHT
TZOFFSETFROM:-0500
TZOFFSETTO:-0400
TZNAME:EDT
DTSTART:20250309T070000
END:DAYLIGHT
BEGIN:STANDARD
TZOFFSETFROM:-0400
TZOFFSETTO:-0500
TZNAME:EST
DTSTART:20251102T060000
END:STANDARD
END:VTIMEZONE
BEGIN:VEVENT
DTSTART;VALUE=DATE:20230908
DTEND;VALUE=DATE:20231030
DTSTAMP:20260425T120725
CREATED:20230831T153035Z
LAST-MODIFIED:20230914T174601Z
UID:10005362-1694131200-1698623999@www.atlantaparent.com
SUMMARY:Goblins & Giggles
DESCRIPTION:Seasonal activities include an interactive show\, a scavenger hunt with Spookley the Square Pumpkin\, trick-or-treating\, an escape room and more. Room prices vary; activities\, $0-$19.50.
URL:https://www.atlantaparent.com/event/goblins-giggles/
LOCATION:Gaylord Opryland Resort & Convention Center\, 2800 Opryland Dr.\, Nashville\, TN
ATTACH;FMTTYPE=image/jpeg:https://www.atlantaparent.com/wp-content/uploads/2021/08/Frightfully-Fun-Zone-scaled-e1662648477846.jpg
GEO:36.2116523;-86.6940593
X-APPLE-STRUCTURED-LOCATION;VALUE=URI;X-ADDRESS=Gaylord Opryland Resort & Convention Center 2800 Opryland Dr. Nashville TN;X-APPLE-RADIUS=500;X-TITLE=2800 Opryland Dr.:geo:-86.6940593,36.2116523
END:VEVENT
BEGIN:VEVENT
DTSTART;TZID=America/New_York:20230909T113000
DTEND;TZID=America/New_York:20230909T113000
DTSTAMP:20260425T120725
CREATED:20230816T152554Z
LAST-MODIFIED:20230816T152554Z
UID:10007356-1694259000-1694259000@www.atlantaparent.com
SUMMARY:The Planets: A Universe of Friends
DESCRIPTION:Blast off with musician and storyteller Jerry G. White for an interactive and intergalactic adventure. $7.
URL:https://www.atlantaparent.com/event/the-planets-a-universe-of-friends/
LOCATION: Aurora Theatre\, 128 East Pike St.\, Lawrenceville
END:VEVENT
BEGIN:VEVENT
DTSTART;TZID=America/New_York:20230909T120000
DTEND;TZID=America/New_York:20230909T220000
DTSTAMP:20260425T120725
CREATED:20230806T183050Z
LAST-MODIFIED:20230809T180714Z
UID:10004403-1694260800-1694296800@www.atlantaparent.com
SUMMARY:Pizza\, Pints and Pigskins
DESCRIPTION:Enjoy pizzerias from all over Cobb County\, live music\, games and a Kid’s Zone; for adults\, stop by the beer garden. Free admission.
URL:https://www.atlantaparent.com/event/pizza-pints-and-pigskins/
LOCATION:Logan Farm Park\, 4405 Cherokee St.\, Acworth
ATTACH;FMTTYPE=image/jpeg:https://www.atlantaparent.com/wp-content/uploads/2019/08/pizza-21-ee.jpg
END:VEVENT
BEGIN:VEVENT
DTSTART;TZID=America/New_York:20230910T110000
DTEND;TZID=America/New_York:20230910T180000
DTSTAMP:20260425T120725
CREATED:20230830T123839Z
LAST-MODIFIED:20230830T123839Z
UID:10007397-1694343600-1694368800@www.atlantaparent.com
SUMMARY:National Grandparents' Day
DESCRIPTION:Celebrate grandparents with an all-day party featuring custom slime\, photo booth opportunities\, sweet treats and more. $39; Elmer’s Kitchen Tour\, $15.
URL:https://www.atlantaparent.com/event/national-grandparents-day/
LOCATION:Sloomoo Institute\, 3637 Peachtree Rd. NE\, Atlanta
GEO:33.8529711;-84.3583126
X-APPLE-STRUCTURED-LOCATION;VALUE=URI;X-ADDRESS=Sloomoo Institute 3637 Peachtree Rd. NE Atlanta;X-APPLE-RADIUS=500;X-TITLE=3637 Peachtree Rd. NE:geo:-84.3583126,33.8529711
END:VEVENT
BEGIN:VEVENT
DTSTART;TZID=America/New_York:20230915T190000
DTEND;TZID=America/New_York:20230915T190000
DTSTAMP:20260425T120725
CREATED:20230906T134943Z
LAST-MODIFIED:20230906T134943Z
UID:10007411-1694804400-1694804400@www.atlantaparent.com
SUMMARY:La Candela Flamenco
DESCRIPTION:Explore the cultural exchange between Spain and Latin America with a flamenco performance. $24.50.
URL:https://www.atlantaparent.com/event/la-candela-flamenco/
LOCATION:Roswell Cultural Arts Center\, 950 Forrest St.\, Roswell
GEO:34.0234904;-84.3578365
X-APPLE-STRUCTURED-LOCATION;VALUE=URI;X-ADDRESS=Roswell Cultural Arts Center 950 Forrest St. Roswell;X-APPLE-RADIUS=500;X-TITLE=950 Forrest St.:geo:-84.3578365,34.0234904
END:VEVENT
BEGIN:VEVENT
DTSTART;VALUE=DATE:20230916
DTEND;VALUE=DATE:20240108
DTSTAMP:20260425T120725
CREATED:20230816T145724Z
LAST-MODIFIED:20230918T123150Z
UID:10007351-1694822400-1704671999@www.atlantaparent.com
SUMMARY:Emotions at Play with Pixar’s Inside Out
DESCRIPTION:This interactive exhibit based on the beloved movie explores the importance of emotions\, memory and imagination in our everyday lives. $15.95-$19.95; ages 11 months and younger\, free.
URL:https://www.atlantaparent.com/event/emotions-at-play-with-pixars-inside-out/
LOCATION:Children’s Museum of Atlanta\, 275 Centennial Olympic Park Dr. NW\, Atlanta\, GA
ATTACH;FMTTYPE=image/jpeg:https://www.atlantaparent.com/wp-content/uploads/2023/08/210124_0269-scaled.jpg
END:VEVENT
BEGIN:VEVENT
DTSTART;VALUE=DATE:20230916
DTEND;VALUE=DATE:20240506
DTSTAMP:20260425T120725
CREATED:20230922T165531Z
LAST-MODIFIED:20230922T165531Z
UID:10007485-1694822400-1714953599@www.atlantaparent.com
SUMMARY:Sportsology
DESCRIPTION:Learn how your body works and test your athletic abilities with hands-on challenges. $19; ages 3-17\, $15; ages 2 and younger\, free.
URL:https://www.atlantaparent.com/event/sportsology/
LOCATION:Tellus Science Museum\, 100 Tellus Drive\, Cartersville
GEO:34.2418518;-84.7706004
X-APPLE-STRUCTURED-LOCATION;VALUE=URI;X-ADDRESS=Tellus Science Museum 100 Tellus Drive Cartersville;X-APPLE-RADIUS=500;X-TITLE=100 Tellus Drive:geo:-84.7706004,34.2418518
END:VEVENT
BEGIN:VEVENT
DTSTART;TZID=America/New_York:20230916T150000
DTEND;TZID=America/New_York:20230916T210000
DTSTAMP:20260425T120725
CREATED:20230809T184154Z
LAST-MODIFIED:20230809T184154Z
UID:10007337-1694876400-1694898000@www.atlantaparent.com
SUMMARY:The Lawrenceville Boogie
DESCRIPTION:Join in Downtown Lawrenceville’s first food\, music and arts festival with live performances\, talented artisans and more. Free admission.
URL:https://www.atlantaparent.com/event/the-lawrenceville-boogie/
LOCATION:Downtown Lawrenceville\, 185 E Crogan St.\, Lawrenceville\, GA\, United States
GEO:33.9583353;-83.9745458
X-APPLE-STRUCTURED-LOCATION;VALUE=URI;X-ADDRESS=Downtown Lawrenceville 185 E Crogan St. Lawrenceville GA United States;X-APPLE-RADIUS=500;X-TITLE=185 E Crogan St.:geo:-83.9745458,33.9583353
END:VEVENT
BEGIN:VEVENT
DTSTART;TZID=America/New_York:20230921T180000
DTEND;TZID=America/New_York:20230921T220000
DTSTAMP:20260425T120725
CREATED:20230818T141205Z
LAST-MODIFIED:20230818T141205Z
UID:10007384-1695319200-1695333600@www.atlantaparent.com
SUMMARY:Noon to Night: Fall Fashion Benefit
DESCRIPTION:Join Avalon and Bert’s Big Adventure for the ninth annual Noon to Night: Fall Fashion Benefit\, a night full of fashion and fun in support of Bert’s Big Adventure\, a nonprofit organization that provides a magical\, all-expenses-paid\, five-day journey to Walt Disney World® for children with chronic and terminal illnesses and their families. $50-$150.
URL:https://www.atlantaparent.com/event/noon-to-night-fall-fashion-benefit/
LOCATION:Avalon\, 2200 Avalon Blvd.\, Alpharetta
ATTACH;FMTTYPE=image/jpeg:https://www.atlantaparent.com/wp-content/uploads/2023/08/NoonToNight-for-BBA-scaled.jpg
END:VEVENT
BEGIN:VEVENT
DTSTART;TZID=America/New_York:20230922T180000
DTEND;TZID=America/New_York:20230922T180000
DTSTAMP:20260425T120725
CREATED:20230816T154208Z
LAST-MODIFIED:20230816T154208Z
UID:10007358-1695405600-1695405600@www.atlantaparent.com
SUMMARY:ARIUM Presents Sounds of Summer: All Roads Lead Home
DESCRIPTION:Enjoy an evening of refreshments\, festivities and performances from nationally recognized musicians. Free admission; registration required.
URL:https://www.atlantaparent.com/event/arium-presents-sounds-of-summer-all-roads-lead-home/
LOCATION:Brook Run Park\, 4770 N. Peachtree Rd.\, Dunwoody
GEO:33.9320923;-84.3008638
X-APPLE-STRUCTURED-LOCATION;VALUE=URI;X-ADDRESS=Brook Run Park 4770 N. Peachtree Rd. Dunwoody;X-APPLE-RADIUS=500;X-TITLE=4770 N. Peachtree Rd.:geo:-84.3008638,33.9320923
END:VEVENT
BEGIN:VEVENT
DTSTART;TZID=America/New_York:20230923T103000
DTEND;TZID=America/New_York:20230923T120000
DTSTAMP:20260425T120725
CREATED:20230718T133625Z
LAST-MODIFIED:20230718T133625Z
UID:10007288-1695465000-1695470400@www.atlantaparent.com
SUMMARY:Nurture's 1st Birthday and Li'l Shabbat in the Garden
DESCRIPTION:Families are invited for a special Shabbat morning celebrating Nurture’s 1st Birthday to experience a beautiful Shabbat filled with joy\, friends and cake.
URL:https://www.atlantaparent.com/event/nurtures-1st-birthday-and-lil-shabbat-in-the-garden/
LOCATION:The Davis Academy Lower School\, 8105 Roberts Dr.\, Atlanta\, GA\, 30350
ATTACH;FMTTYPE=image/png:https://www.atlantaparent.com/wp-content/uploads/2023/06/7.png
ORGANIZER;CN="Nurture":MAILTO:info@nurtureatlanta.org
GEO:33.977514;-84.3404712
X-APPLE-STRUCTURED-LOCATION;VALUE=URI;X-ADDRESS=The Davis Academy Lower School 8105 Roberts Dr. Atlanta GA 30350;X-APPLE-RADIUS=500;X-TITLE=8105 Roberts Dr.:geo:-84.3404712,33.977514
END:VEVENT
BEGIN:VEVENT
DTSTART;TZID=America/New_York:20230923T103000
DTEND;TZID=America/New_York:20230923T120000
DTSTAMP:20260425T120725
CREATED:20230920T153849Z
LAST-MODIFIED:20230920T153849Z
UID:10007459-1695465000-1695470400@www.atlantaparent.com
SUMMARY:Storybook Tales Children's Tea by Waldorf
DESCRIPTION:This playful\, interactive tea party and storytelling experience features child-centric entertainment\, a buffet-style tea service and take-home crafts. Reservation required. $85.
URL:https://www.atlantaparent.com/event/storybook-tales-childrens-tea-by-waldorf/2023-09-23/
LOCATION:Waldorf Astoria Atlanta Buckhead\, 3376 Peachtree Rd. NE\, Atlanta
GEO:33.849835;-84.3667323
X-APPLE-STRUCTURED-LOCATION;VALUE=URI;X-ADDRESS=Waldorf Astoria Atlanta Buckhead 3376 Peachtree Rd. NE Atlanta;X-APPLE-RADIUS=500;X-TITLE=3376 Peachtree Rd. NE:geo:-84.3667323,33.849835
END:VEVENT
BEGIN:VEVENT
DTSTART;VALUE=DATE:20230928
DTEND;VALUE=DATE:20240408
DTSTAMP:20260425T120725
CREATED:20230816T150018Z
LAST-MODIFIED:20240311T190237Z
UID:10007352-1695859200-1712534399@www.atlantaparent.com
SUMMARY:Tutankhamun: His Tomb and His Treasures
DESCRIPTION:Journey to ancient Egypt to view the burial chambers and treasures of King Tut with this blockbuster experience. $24.90+; ages 4-12\, $17.90+; ages 3 and younger\, free.
URL:https://www.atlantaparent.com/event/tutankhamun-his-tomb-and-his-treasures/
LOCATION:Exhibition Hub\, Atlanta Art Center\, 5660 Buford Hwy. NE\, Atlanta
ATTACH;FMTTYPE=image/jpeg:https://www.atlantaparent.com/wp-content/uploads/2023/08/495426-EXPO_TUT_12-eafdd7-original-1690571408-scaled.jpeg
GEO:33.9070243;-84.2711871
X-APPLE-STRUCTURED-LOCATION;VALUE=URI;X-ADDRESS=Exhibition Hub Atlanta Art Center 5660 Buford Hwy. NE Atlanta;X-APPLE-RADIUS=500;X-TITLE=5660 Buford Hwy. NE:geo:-84.2711871,33.9070243
END:VEVENT
BEGIN:VEVENT
DTSTART;TZID=America/New_York:20230928T180000
DTEND;TZID=America/New_York:20230928T190000
DTSTAMP:20260425T120725
CREATED:20230825T135835Z
LAST-MODIFIED:20230825T135835Z
UID:10007391-1695924000-1695927600@www.atlantaparent.com
SUMMARY:Night at the Movies
DESCRIPTION:This orchestral extravaganza will feature iconic movie music and movie clips on a grand screen for an immersive experience. Free admission.
URL:https://www.atlantaparent.com/event/night-at-the-movies/
LOCATION:Town at Trilith\, 305 Trilith Pkwy.\, Fayetteville
GEO:33.4691729;-84.5065085
X-APPLE-STRUCTURED-LOCATION;VALUE=URI;X-ADDRESS=Town at Trilith 305 Trilith Pkwy. Fayetteville;X-APPLE-RADIUS=500;X-TITLE=305 Trilith Pkwy.:geo:-84.5065085,33.4691729
END:VEVENT
BEGIN:VEVENT
DTSTART;TZID=America/New_York:20230928T183000
DTEND;TZID=America/New_York:20230928T183000
DTSTAMP:20260425T120725
CREATED:20230914T152826Z
LAST-MODIFIED:20230914T152826Z
UID:10007432-1695925800-1695925800@www.atlantaparent.com
SUMMARY:The Adventures of Tortoise and Hare: The Next Gen
DESCRIPTION:Presented by Lightwire Theater\, this classic fable from Aesop features a high-tech performance\, dazzling visual effects and fantastic light and music. $18.
URL:https://www.atlantaparent.com/event/the-adventures-of-tortoise-and-hare-the-next-gen/
LOCATION: Aurora Theatre\, 128 East Pike St.\, Lawrenceville
END:VEVENT
BEGIN:VEVENT
DTSTART;VALUE=DATE:20230929
DTEND;VALUE=DATE:20231028
DTSTAMP:20260425T120725
CREATED:20230816T151319Z
LAST-MODIFIED:20230816T151319Z
UID:10007355-1695945600-1698451199@www.atlantaparent.com
SUMMARY:Oodles of Doodles
DESCRIPTION:Filled with live music\, movement\, imaginative drawings and engaging storytelling\, this show helps little ones learn to express themselves. For ages 0-5. See website for showtimes. $10; ages 6-17\, $5; ages 5 and younger\, free.
URL:https://www.atlantaparent.com/event/oodles-of-doodles/
LOCATION:Alliance Theatre\, 1280 Peachtree Street\, Atlanta
END:VEVENT
BEGIN:VEVENT
DTSTART;TZID=America/New_York:20230929T183000
DTEND;TZID=America/New_York:20231028T230000
DTSTAMP:20260425T120725
CREATED:20230907T150037Z
LAST-MODIFIED:20230914T162153Z
UID:10006015-1696012200-1698534000@www.atlantaparent.com
SUMMARY:The Village
DESCRIPTION:Walk through this outdoor haunted attraction with intense effects. Recommended for ages 13 and older. Sept. 29-Oct. 28. Fri.-Sat. 6:30-11 p.m. $30.
URL:https://www.atlantaparent.com/event/the-village/
LOCATION:Fairburn\, 6732 Virlyn B. Smith Rd.\, Fairburn
GEO:33.5645601;-84.6026285
X-APPLE-STRUCTURED-LOCATION;VALUE=URI;X-ADDRESS=Fairburn 6732 Virlyn B. Smith Rd. Fairburn;X-APPLE-RADIUS=500;X-TITLE=6732 Virlyn B. Smith Rd.:geo:-84.6026285,33.5645601
END:VEVENT
BEGIN:VEVENT
DTSTART;VALUE=DATE:20230930
DTEND;VALUE=DATE:20231002
DTSTAMP:20260425T120726
CREATED:20230412T202148Z
LAST-MODIFIED:20230914T190105Z
UID:10005727-1696032000-1696204799@www.atlantaparent.com
SUMMARY:Hansel & Gretel
DESCRIPTION:From the Sugarloaf Youth Ballet\, watch this spectacular production of the classic fairytale. Sept. 30-\, 2 and 7 p.m. and Oct. 1\, 2 p.m. $15-$35+.
URL:https://www.atlantaparent.com/event/sleeping-beauty-2/
LOCATION:Gas South District\, 6400 Sugarloaf Parkway\, Duluth
GEO:33.9913579;-84.0938603
X-APPLE-STRUCTURED-LOCATION;VALUE=URI;X-ADDRESS=Gas South District 6400 Sugarloaf Parkway Duluth;X-APPLE-RADIUS=500;X-TITLE=6400 Sugarloaf Parkway:geo:-84.0938603,33.9913579
END:VEVENT
BEGIN:VEVENT
DTSTART;TZID=America/New_York:20230930T110000
DTEND;TZID=America/New_York:20230930T150000
DTSTAMP:20260425T120726
CREATED:20230914T182836Z
LAST-MODIFIED:20230914T182836Z
UID:10007451-1696071600-1696086000@www.atlantaparent.com
SUMMARY:CompassionCon
DESCRIPTION:Celebrate compassion and community with this interactive festival featuring activities and family-friendly attractions\, including youth performances\, a learning garden\, face painting and more.
URL:https://www.atlantaparent.com/event/compassioncon/
LOCATION:Legacy Park\, 500 S. Columbia Dr.\, Decatur
END:VEVENT
BEGIN:VEVENT
DTSTART;TZID=America/New_York:20230930T113000
DTEND;TZID=America/New_York:20230930T113000
DTSTAMP:20260425T120726
CREATED:20230420T135441Z
LAST-MODIFIED:20230816T152343Z
UID:10006828-1696073400-1696073400@www.atlantaparent.com
SUMMARY:Mago Junior Show
DESCRIPTION:Venezuelan artist Mago Junior Ascanio combines the arts of magic\, clown\, mime\, juggling\, music and more to create a hilarious show. $7.
URL:https://www.atlantaparent.com/event/mago-junior-show/
LOCATION:Aurora Theatre\, 128 E. Pike St.\, Lawrenceville
GEO:33.9569793;-83.9872763
X-APPLE-STRUCTURED-LOCATION;VALUE=URI;X-ADDRESS=Aurora Theatre 128 E. Pike St. Lawrenceville;X-APPLE-RADIUS=500;X-TITLE=128 E. Pike St.:geo:-83.9872763,33.9569793
END:VEVENT
BEGIN:VEVENT
DTSTART;TZID=America/New_York:20230930T120000
DTEND;TZID=America/New_York:20230930T150000
DTSTAMP:20260425T120726
CREATED:20230914T182456Z
LAST-MODIFIED:20230914T182456Z
UID:10007450-1696075200-1696086000@www.atlantaparent.com
SUMMARY:Kilwins Grand Re-Opening
DESCRIPTION:Taste sweet treats and special products\, meet the Kilwins Moose\, have your face painted and more at this grand re-opening event.
URL:https://www.atlantaparent.com/event/kilwins-grand-re-opening/
LOCATION:Kilwins\, 1380 Atlantic Dr. NW\, Atlanta
GEO:33.7927258;-84.3978715
X-APPLE-STRUCTURED-LOCATION;VALUE=URI;X-ADDRESS=Kilwins 1380 Atlantic Dr. NW Atlanta;X-APPLE-RADIUS=500;X-TITLE=1380 Atlantic Dr. NW:geo:-84.3978715,33.7927258
END:VEVENT
BEGIN:VEVENT
DTSTART;VALUE=DATE:20231001
DTEND;VALUE=DATE:20231002
DTSTAMP:20260425T120726
CREATED:20230909T153852Z
LAST-MODIFIED:20230922T153755Z
UID:10007472-1696118400-1696204799@www.atlantaparent.com
SUMMARY:Celebrate Halloween
DESCRIPTION:Don your costume for trick-or-treating every weekend\, and visit on Oct. 28-29 for a special Malibooo Party. $12.99-$36.99.
URL:https://www.atlantaparent.com/event/happy-hauntings/2023-10-01/
LOCATION:Malibu Norcross\, 5400 Brook Hollow Pkwy.\, Norcross
GEO:33.9252573;-84.1851759
X-APPLE-STRUCTURED-LOCATION;VALUE=URI;X-ADDRESS=Malibu Norcross 5400 Brook Hollow Pkwy. Norcross;X-APPLE-RADIUS=500;X-TITLE=5400 Brook Hollow Pkwy.:geo:-84.1851759,33.9252573
END:VEVENT
BEGIN:VEVENT
DTSTART;VALUE=DATE:20231004
DTEND;VALUE=DATE:20231016
DTSTAMP:20260425T120726
CREATED:20230906T155806Z
LAST-MODIFIED:20231009T123813Z
UID:10007412-1696377600-1697414399@www.atlantaparent.com
SUMMARY:The Rainbow Fish
DESCRIPTION:Based on the colorful story\, the beautiful Rainbow Fish discovers the deep sea wonderland\, exploring shapes\, sizes and colors. Oct. 4-15. See website for showtimes. $22-$27; ages 1 and younger\, free.
URL:https://www.atlantaparent.com/event/the-rainbow-fish/
LOCATION:Center for Puppetry Arts\, 1404 Spring Street NW\, Atlanta
ATTACH;FMTTYPE=image/jpeg:https://www.atlantaparent.com/wp-content/uploads/2023/09/The-Rainbow-Fish.jpg
GEO:33.7928692;-84.3895974
X-APPLE-STRUCTURED-LOCATION;VALUE=URI;X-ADDRESS=Center for Puppetry Arts 1404 Spring Street NW Atlanta;X-APPLE-RADIUS=500;X-TITLE=1404 Spring Street NW:geo:-84.3895974,33.7928692
END:VEVENT
BEGIN:VEVENT
DTSTART;TZID=America/New_York:20231005T173000
DTEND;TZID=America/New_York:20231005T183000
DTSTAMP:20260425T120726
CREATED:20230914T183417Z
LAST-MODIFIED:20230914T183417Z
UID:10007452-1696527000-1696530600@www.atlantaparent.com
SUMMARY:The Escape Game Open House
DESCRIPTION:Preview the escape rooms\, play sample puzzles\, receive door prizes\, and enjoy refreshments.
URL:https://www.atlantaparent.com/event/the-escape-game-open-house/
LOCATION:Escape Game\, 900 Battery Ave. SE\, Atlanta
ATTACH;FMTTYPE=image/jpeg:https://www.atlantaparent.com/wp-content/uploads/2023/09/Playground-e1694716449303.jpg
GEO:33.8891986;-84.4702992
X-APPLE-STRUCTURED-LOCATION;VALUE=URI;X-ADDRESS=Escape Game 900 Battery Ave. SE Atlanta;X-APPLE-RADIUS=500;X-TITLE=900 Battery Ave. SE:geo:-84.4702992,33.8891986
END:VEVENT
BEGIN:VEVENT
DTSTART;TZID=America/New_York:20231005T180000
DTEND;TZID=America/New_York:20231005T180000
DTSTAMP:20260425T120726
CREATED:20230906T160555Z
LAST-MODIFIED:20230914T185246Z
UID:10007413-1696528800-1696528800@www.atlantaparent.com
SUMMARY:Disney Junior Live On Tour: Costume Palooza!
DESCRIPTION:Disney / Lorenzo Bevilaqua \nMickey\, Minnie and their pals are hosting a huge costume party\, but mysterious green rain\, wind and smoke interrupt the fun. Can Spidey and his fellow heroes save the party? $29.50-$89.50.
URL:https://www.atlantaparent.com/event/disney-junior-live-on-tour-costume-palooza/
LOCATION:Cobb Energy Centre\, 2800 Cobb Galleria Pkwy.\, Atlanta
ATTACH;FMTTYPE=image/jpeg:https://www.atlantaparent.com/wp-content/uploads/2023/09/170065_0018-Photo-Credit-Lorenzo-Bevilaqua-e1694717537346.jpg
END:VEVENT
BEGIN:VEVENT
DTSTART;VALUE=DATE:20231007
DTEND;VALUE=DATE:20240102
DTSTAMP:20260425T120726
CREATED:20230816T150209Z
LAST-MODIFIED:20231009T123850Z
UID:10007353-1696636800-1704153599@www.atlantaparent.com
SUMMARY:Vikings: Warriors of the Sea
DESCRIPTION:Explore Viking culture\, society and technology with archeological discoveries\, brilliant innovations\, beautiful jewelry and 140 authentic artifacts. $25.95; ages 3-12\, $23.95; ages 2 and younger\, free.
URL:https://www.atlantaparent.com/event/vikings-warriors-of-the-sea/
LOCATION:Fernbank Museum of Natural History\, 767 Clifton Road\, Atlanta
ATTACH;FMTTYPE=image/jpeg:https://www.atlantaparent.com/wp-content/uploads/2023/08/Vikings-1-scaled-e1696250068905.jpg
GEO:33.7739167;-84.3277484
X-APPLE-STRUCTURED-LOCATION;VALUE=URI;X-ADDRESS=Fernbank Museum of Natural History 767 Clifton Road Atlanta;X-APPLE-RADIUS=500;X-TITLE=767 Clifton Road:geo:-84.3277484,33.7739167
END:VEVENT
BEGIN:VEVENT
DTSTART;VALUE=DATE:20231008
DTEND;VALUE=DATE:20231009
DTSTAMP:20260425T120726
CREATED:20230927T192211Z
LAST-MODIFIED:20230927T192211Z
UID:10007506-1696723200-1696809599@www.atlantaparent.com
SUMMARY:Walk with Amal
DESCRIPTION:Little Amal is the 12-foot puppet of a 10-year-old Syrian refugee representing human rights. Through Nov. 5\, she is journey 6\,000 miles across the U.S. as part of a free public festival. See her in metro Atlanta spots on Oct. 8 and 10.
URL:https://www.atlantaparent.com/event/walk-with-amal/2023-10-08/
END:VEVENT
BEGIN:VEVENT
DTSTART;TZID=America/New_York:20231012T180000
DTEND;TZID=America/New_York:20231015T180000
DTSTAMP:20260425T120726
CREATED:20230925T151157Z
LAST-MODIFIED:20230925T151157Z
UID:10007505-1697133600-1697392800@www.atlantaparent.com
SUMMARY:Peter & the Starcatcher
DESCRIPTION:Performed by Legacy students\, see how an orphan boy becomes the legendary Peter Pan. Oct. 12-13 and 15\, 6 p.m. and Oct. 14\, 2 and 6 p.m. $20; ages 12 and younger\, $15.
URL:https://www.atlantaparent.com/event/peter-the-starcatcher/
LOCATION: The Legacy Theatre\, 1175 Senoia Road\, Ste. C\, Tyrone
GEO:33.489155;-84.5824515
X-APPLE-STRUCTURED-LOCATION;VALUE=URI;X-ADDRESS= The Legacy Theatre 1175 Senoia Road Ste. C Tyrone;X-APPLE-RADIUS=500;X-TITLE=1175 Senoia Road\, Ste. C:geo:-84.5824515,33.489155
END:VEVENT
BEGIN:VEVENT
DTSTART;VALUE=DATE:20231013
DTEND;VALUE=DATE:20240108
DTSTAMP:20260425T120726
CREATED:20230816T150421Z
LAST-MODIFIED:20231016T124412Z
UID:10007354-1697155200-1704671999@www.atlantaparent.com
SUMMARY:Beatrix Potter: Drawn to Nature
DESCRIPTION:This playful exhibit showcases one of the most renowned authors of children’s fiction with more than 125 personal objects\, including sketches from “The Tale of Peter Rabbit\,” “The Tale of Mrs. Tiggy-Winkle” and “The Tale of Squirrel Nutkin.” $18.50.
URL:https://www.atlantaparent.com/event/beatrix-potter-drawn-to-nature/
LOCATION:High Museum of Art\, 1280 Peachtree Street\, Atlanta
ATTACH;FMTTYPE=image/jpeg:https://www.atlantaparent.com/wp-content/uploads/2023/08/POT124-Original-size_o2-scaled.jpg
GEO:33.7891582;-84.3849351
X-APPLE-STRUCTURED-LOCATION;VALUE=URI;X-ADDRESS=High Museum of Art 1280 Peachtree Street Atlanta;X-APPLE-RADIUS=500;X-TITLE=1280 Peachtree Street:geo:-84.3849351,33.7891582
END:VEVENT
BEGIN:VEVENT
DTSTART;TZID=America/New_York:20231013T160000
DTEND;TZID=America/New_York:20231013T190000
DTSTAMP:20260425T120726
CREATED:20231003T135824Z
LAST-MODIFIED:20231009T152527Z
UID:10006589-1697212800-1697223600@www.atlantaparent.com
SUMMARY:Scary Movie Night
DESCRIPTION:Bring your blankets or chairs to view “Trick-or-Treat Scooby Doo\,” and enjoy delicious snacks and an appearance from the Mystery Machine. Free admission.
URL:https://www.atlantaparent.com/event/scary-movie-night/
LOCATION:The Works\, 1235 Chattahoochee Ave. NW\, Atlanta
GEO:33.8022496;-84.4285908
X-APPLE-STRUCTURED-LOCATION;VALUE=URI;X-ADDRESS=The Works 1235 Chattahoochee Ave. NW Atlanta;X-APPLE-RADIUS=500;X-TITLE=1235 Chattahoochee Ave. NW:geo:-84.4285908,33.8022496
END:VEVENT
END:VCALENDAR