BEGIN:VCALENDAR
VERSION:2.0
PRODID:-//NEW Atlanta Parent - ECPv6.15.11//NONSGML v1.0//EN
CALSCALE:GREGORIAN
METHOD:PUBLISH
X-ORIGINAL-URL:https://www.atlantaparent.com
X-WR-CALDESC:Events for NEW Atlanta Parent
REFRESH-INTERVAL;VALUE=DURATION:PT1H
X-Robots-Tag:noindex
X-PUBLISHED-TTL:PT1H
BEGIN:VTIMEZONE
TZID:America/New_York
BEGIN:DAYLIGHT
TZOFFSETFROM:-0500
TZOFFSETTO:-0400
TZNAME:EDT
DTSTART:20230312T070000
END:DAYLIGHT
BEGIN:STANDARD
TZOFFSETFROM:-0400
TZOFFSETTO:-0500
TZNAME:EST
DTSTART:20231105T060000
END:STANDARD
BEGIN:DAYLIGHT
TZOFFSETFROM:-0500
TZOFFSETTO:-0400
TZNAME:EDT
DTSTART:20240310T070000
END:DAYLIGHT
BEGIN:STANDARD
TZOFFSETFROM:-0400
TZOFFSETTO:-0500
TZNAME:EST
DTSTART:20241103T060000
END:STANDARD
BEGIN:DAYLIGHT
TZOFFSETFROM:-0500
TZOFFSETTO:-0400
TZNAME:EDT
DTSTART:20250309T070000
END:DAYLIGHT
BEGIN:STANDARD
TZOFFSETFROM:-0400
TZOFFSETTO:-0500
TZNAME:EST
DTSTART:20251102T060000
END:STANDARD
BEGIN:DAYLIGHT
TZOFFSETFROM:-0500
TZOFFSETTO:-0400
TZNAME:EDT
DTSTART:20260308T070000
END:DAYLIGHT
BEGIN:STANDARD
TZOFFSETFROM:-0400
TZOFFSETTO:-0500
TZNAME:EST
DTSTART:20261101T060000
END:STANDARD
END:VTIMEZONE
BEGIN:VEVENT
DTSTART;TZID=America/New_York:20240317T150000
DTEND;TZID=America/New_York:20240317T170000
DTSTAMP:20260425T153942
CREATED:20240229T173422Z
LAST-MODIFIED:20240229T173422Z
UID:10007917-1710687600-1710694800@www.atlantaparent.com
SUMMARY:Tea & Stories: Celebrating Women's History Month
DESCRIPTION:Celebrate women’s contributions to society with local women storytellers’ captivating tales. $10.
URL:https://www.atlantaparent.com/event/tea-stories-celebrating-womens-history-month/
LOCATION:The Wren’s Nest\, 1050 Ralph D. Abernathy Blvd.\, Atlanta
GEO:33.7375619;-84.422393
X-APPLE-STRUCTURED-LOCATION;VALUE=URI;X-ADDRESS=The Wren’s Nest 1050 Ralph D. Abernathy Blvd. Atlanta;X-APPLE-RADIUS=500;X-TITLE=1050 Ralph D. Abernathy Blvd.:geo:-84.422393,33.7375619
END:VEVENT
BEGIN:VEVENT
DTSTART;TZID=America/New_York:20240317T160000
DTEND;TZID=America/New_York:20240317T160000
DTSTAMP:20260425T153942
CREATED:20240222T174434Z
LAST-MODIFIED:20240222T174434Z
UID:10007905-1710691200-1710691200@www.atlantaparent.com
SUMMARY:St. Patrick’s Day with Atlanta Concert Band
DESCRIPTION:Celebrate St. Patrick’s Day with the music of the Emerald Isle. $15-$20.
URL:https://www.atlantaparent.com/event/st-patricks-day-with-atlanta-concert-band/
LOCATION:Roswell Cultural Arts Center\, 950 Forrest St.\, Roswell
END:VEVENT
BEGIN:VEVENT
DTSTART;VALUE=DATE:20240321
DTEND;VALUE=DATE:20240401
DTSTAMP:20260425T153942
CREATED:20240222T142838Z
LAST-MODIFIED:20240320T153504Z
UID:10007890-1710979200-1711929599@www.atlantaparent.com
SUMMARY:Germany’s Great Bavarian Circus
DESCRIPTION:See one of Europe’s oldest circus show families\, dating back nine generations. Appearing for the first time in the U.S.\, this circus includes unique ground\, aerial and animal acts\, hand-to-hand juggling\, acrobatics\, clowning and more. March 21-31. See website for showtimes. $24.99-$39.99; ages 3-12\, $19.99; ages 2 and younger\, free.
URL:https://www.atlantaparent.com/event/germanys-great-bavarian-circus/
LOCATION:Stone Mountain Park\, 1000 Robert E Lee Blvd\, Stone Mountain\, GA\, 30083\, United States
ATTACH;FMTTYPE=image/jpeg:https://www.atlantaparent.com/wp-content/uploads/2024/02/Young-Girl-on-the-Lyra-scaled-e1709227389204.jpg
GEO:33.8126209;-84.1458788
X-APPLE-STRUCTURED-LOCATION;VALUE=URI;X-ADDRESS=Stone Mountain Park 1000 Robert E Lee Blvd Stone Mountain GA 30083 United States;X-APPLE-RADIUS=500;X-TITLE=1000 Robert E Lee Blvd:geo:-84.1458788,33.8126209
END:VEVENT
BEGIN:VEVENT
DTSTART;TZID=America/New_York:20240321T100000
DTEND;TZID=America/New_York:20240321T123000
DTSTAMP:20260425T153942
CREATED:20240318T122013Z
LAST-MODIFIED:20240730T150405Z
UID:10007925-1711015200-1711024200@www.atlantaparent.com
SUMMARY:Homeschool Days
DESCRIPTION:Designed for elementary to middle school students and their families\, explore various subjects through engaging hands-on experiences\, performances\, historical simulations and activities. $9-$15; ages 3 and younger\, free.
URL:https://www.atlantaparent.com/event/homeschool-day-2/2024-03-21/
LOCATION:Atlanta History Center\, 130 W. Paces Ferry Rd.\, Atlanta\, GA
ATTACH;FMTTYPE=image/jpeg:https://www.atlantaparent.com/wp-content/uploads/2021/09/IMG-0001-25-scaled-e1689626358952.jpg
GEO:33.8413097;-84.3857926
X-APPLE-STRUCTURED-LOCATION;VALUE=URI;X-ADDRESS=Atlanta History Center 130 W. Paces Ferry Rd. Atlanta GA;X-APPLE-RADIUS=500;X-TITLE=130 W. Paces Ferry Rd.:geo:-84.3857926,33.8413097
END:VEVENT
BEGIN:VEVENT
DTSTART;VALUE=DATE:20240322
DTEND;VALUE=DATE:20240325
DTSTAMP:20260425T153942
CREATED:20240216T173201Z
LAST-MODIFIED:20240222T154732Z
UID:10005630-1711065600-1711324799@www.atlantaparent.com
SUMMARY:Alice in Wonderland
DESCRIPTION:Follow Alice’s thrilling adventure through an enchanted land in this storybook ballet where she attends a mad tea party and joins a royal croquet match. March 22-24. See website for showtimes. $25-$30; ages 15 and younger\, $15-$30.
URL:https://www.atlantaparent.com/event/alice-in-wonderland/
LOCATION:Pearce Auditorium at Brenau University\, 202 Blvd.\, Gainesville
GEO:29.6516344;-82.3248262
X-APPLE-STRUCTURED-LOCATION;VALUE=URI;X-ADDRESS=Pearce Auditorium at Brenau University 202 Blvd. Gainesville;X-APPLE-RADIUS=500;X-TITLE=202 Blvd.:geo:-82.3248262,29.6516344
END:VEVENT
BEGIN:VEVENT
DTSTART;VALUE=DATE:20240322
DTEND;VALUE=DATE:20240325
DTSTAMP:20260425T153942
CREATED:20240207T025630Z
LAST-MODIFIED:20240222T154436Z
UID:10002648-1711065600-1711324799@www.atlantaparent.com
SUMMARY:Peter Pan
DESCRIPTION:The Southern Ballet Theatre adapts this story of a boy who never grows up. March 22\, 7 p.m.; March 23\, 11 a.m.\, 3 and 7 p.m.; and March 24\, 2 p.m. $15-$17.
URL:https://www.atlantaparent.com/event/peter-pan/
LOCATION:Lawrenceville Arts Center\, 125 North Clayton St.\, Lawrenceville
GEO:33.956993;-83.9879364
X-APPLE-STRUCTURED-LOCATION;VALUE=URI;X-ADDRESS=Lawrenceville Arts Center 125 North Clayton St. Lawrenceville;X-APPLE-RADIUS=500;X-TITLE=125 North Clayton St.:geo:-83.9879364,33.956993
END:VEVENT
BEGIN:VEVENT
DTSTART;VALUE=DATE:20240323
DTEND;VALUE=DATE:20240325
DTSTAMP:20260425T153942
CREATED:20240215T182250Z
LAST-MODIFIED:20240222T154954Z
UID:10006393-1711152000-1711324799@www.atlantaparent.com
SUMMARY:Beauty & the Beast
DESCRIPTION:Presented by Atlanta Dance Theatre\, Beauty sees the man behind the Beast and breaks the evil curse. March 23\, 7 p.m. and March 24\, 2 p.m. $26-$34. \n 
URL:https://www.atlantaparent.com/event/beauty-and-the-beast-9/
LOCATION:Roswell Cultural Arts Center\, 950 Forrest St.\, Roswell
END:VEVENT
BEGIN:VEVENT
DTSTART;VALUE=DATE:20240323
DTEND;VALUE=DATE:20240624
DTSTAMP:20260425T153942
CREATED:20240208T141455Z
LAST-MODIFIED:20240624T123705Z
UID:10006906-1711152000-1719187199@www.atlantaparent.com
SUMMARY:Flora\, Fauna & Flight
DESCRIPTION:Walk the nature walkways in WildWoods to discover how plants and animals defy gravity through flight with this artistic outdoor exhibit. $25.95; ages 3-12\, $23.95; ages 2 and younger\, free.
URL:https://www.atlantaparent.com/event/flora-fauna-flight/
LOCATION:Fernbank Museum of Natural History\, 767 Clifton Road\, Atlanta
ATTACH;FMTTYPE=image/jpeg:https://www.atlantaparent.com/wp-content/uploads/2023/05/JTP_9134-scaled-e1683744823581.jpg
GEO:33.7739167;-84.3277484
X-APPLE-STRUCTURED-LOCATION;VALUE=URI;X-ADDRESS=Fernbank Museum of Natural History 767 Clifton Road Atlanta;X-APPLE-RADIUS=500;X-TITLE=767 Clifton Road:geo:-84.3277484,33.7739167
END:VEVENT
BEGIN:VEVENT
DTSTART;TZID=America/New_York:20240323T073000
DTEND;TZID=America/New_York:20240323T073000
DTSTAMP:20260425T153942
CREATED:20240131T162720Z
LAST-MODIFIED:20240318T121807Z
UID:10006770-1711179000-1711179000@www.atlantaparent.com
SUMMARY:Northside Hospital Atlanta Women's 5K
DESCRIPTION:Celebrate women and fitness at this 5K race designed for women with finishers medals\, flowers at the finish line and more for women and girls ages 8 and older. $45-$50.
URL:https://www.atlantaparent.com/event/northside-hospital-atlanta-womens-5k/
LOCATION:Cheney Stadium\, 741 Connally St. SE\, Atlanta
ATTACH;FMTTYPE=image/jpeg:https://www.atlantaparent.com/wp-content/uploads/2023/01/3M8A9209-scaled.jpg
GEO:33.7343324;-84.3809669
X-APPLE-STRUCTURED-LOCATION;VALUE=URI;X-ADDRESS=Cheney Stadium 741 Connally St. SE Atlanta;X-APPLE-RADIUS=500;X-TITLE=741 Connally St. SE:geo:-84.3809669,33.7343324
END:VEVENT
BEGIN:VEVENT
DTSTART;TZID=America/New_York:20240323T100000
DTEND;TZID=America/New_York:20240323T120000
DTSTAMP:20260425T153942
CREATED:20240220T162716Z
LAST-MODIFIED:20240229T142743Z
UID:10006307-1711188000-1711195200@www.atlantaparent.com
SUMMARY:Easter Jam!
DESCRIPTION:Bring your Easter basket for an egg hunt\, get your face painted\, bounce on inflatables\, visit with the Easter Bunny and more. $20 per family.
URL:https://www.atlantaparent.com/event/alpharetta-methodists-annual-easter-egg-hunt/
LOCATION:Alpharetta Methodist Church\, 69 N Main St.\, Alpharetta
END:VEVENT
BEGIN:VEVENT
DTSTART;TZID=America/New_York:20240323T100000
DTEND;TZID=America/New_York:20240323T130000
DTSTAMP:20260425T153942
CREATED:20240228T170303Z
LAST-MODIFIED:20240228T170303Z
UID:10007912-1711188000-1711198800@www.atlantaparent.com
SUMMARY:Easter Trunk Hop
DESCRIPTION:Search for 4\,000 Easter eggs\, play on bounce houses\, create in craft booths and more. Visit from 10-11 a.m. for sensory-friendly activities. Registration requested.
URL:https://www.atlantaparent.com/event/easter-trunk-hop/
LOCATION:Renovation Church\, 1775 Water Place\, Atlanta
END:VEVENT
BEGIN:VEVENT
DTSTART;TZID=America/New_York:20240323T100000
DTEND;TZID=America/New_York:20240323T140000
DTSTAMP:20260425T153942
CREATED:20240206T143427Z
LAST-MODIFIED:20240216T182718Z
UID:10006776-1711188000-1711202400@www.atlantaparent.com
SUMMARY:Natural Egg Dyeing Program
DESCRIPTION:Dye eggs with natural materials\, including onions\, beets and turmeric.
URL:https://www.atlantaparent.com/event/natural-egg-dying-program/
LOCATION:Hardman Farm Historic Site\, 143 Hwy. 17\, Sautee Nacoochee\, GA
GEO:34.6849622;-83.7082482
X-APPLE-STRUCTURED-LOCATION;VALUE=URI;X-ADDRESS=Hardman Farm Historic Site 143 Hwy. 17 Sautee Nacoochee GA;X-APPLE-RADIUS=500;X-TITLE=143 Hwy. 17:geo:-83.7082482,34.6849622
END:VEVENT
BEGIN:VEVENT
DTSTART;TZID=America/New_York:20240323T100000
DTEND;TZID=America/New_York:20240323T150000
DTSTAMP:20260425T153942
CREATED:20240301T162051Z
LAST-MODIFIED:20240314T172100Z
UID:10006401-1711188000-1711206000@www.atlantaparent.com
SUMMARY:Kid Biz Expo
DESCRIPTION:Shop kid-owned businesses from around metro Atlanta at this event supporting young entrepreneurship.
URL:https://www.atlantaparent.com/event/kid-biz-expo/
LOCATION:The Mill on Etowah\, 225 Reformation Pkwy.\, Canton
GEO:34.2358794;-84.4956944
X-APPLE-STRUCTURED-LOCATION;VALUE=URI;X-ADDRESS=The Mill on Etowah 225 Reformation Pkwy. Canton;X-APPLE-RADIUS=500;X-TITLE=225 Reformation Pkwy.:geo:-84.4956944,34.2358794
END:VEVENT
BEGIN:VEVENT
DTSTART;TZID=America/New_York:20240323T140000
DTEND;TZID=America/New_York:20240323T170000
DTSTAMP:20260425T153942
CREATED:20240311T194314Z
LAST-MODIFIED:20240311T194314Z
UID:10007921-1711202400-1711213200@www.atlantaparent.com
SUMMARY:Holi Celebration
DESCRIPTION:Holi marks the advent of spring\, the triumph of good over evil and new beginnings. Celebrate the holiday with Holi powder\, a DJ\, light snacks and orders from NaanStop’s menu.
URL:https://www.atlantaparent.com/event/holi-celebration/
LOCATION:NaanStop Buckhead\, 3420 Piedmont Rd. NE\, Atlanta
END:VEVENT
BEGIN:VEVENT
DTSTART;TZID=America/New_York:20240323T160000
DTEND;TZID=America/New_York:20240323T170000
DTSTAMP:20260425T153942
CREATED:20240228T165747Z
LAST-MODIFIED:20240228T165747Z
UID:10007910-1711209600-1711213200@www.atlantaparent.com
SUMMARY:Toddler Jam Party
DESCRIPTION:Sing along and dance to classic children’s songs\, rock ‘n’ roll hits\, Disney favorites and more. $15.
URL:https://www.atlantaparent.com/event/toddler-jam-party/
LOCATION:Balance Dance Studio\, 3550 Broad St. E\, Chamblee
END:VEVENT
BEGIN:VEVENT
DTSTART;TZID=America/New_York:20240323T170000
DTEND;TZID=America/New_York:20240323T220000
DTSTAMP:20260425T153942
CREATED:20240210T184956Z
LAST-MODIFIED:20240216T183658Z
UID:10003424-1711213200-1711231200@www.atlantaparent.com
SUMMARY:Glow-in-the-Dark Easter Egg Hunt
DESCRIPTION:Fifty thousand glowing\, candy-filled eggs will be available to find\, take photos with the Easter Bunny and enjoy delicious food. Parking\, $20.
URL:https://www.atlantaparent.com/event/easter-egg-scramble/
LOCATION:Laurel Park\, 3100 Old Cleveland Hwy.\, Gainesville
GEO:33.9487314;-84.5745962
X-APPLE-STRUCTURED-LOCATION;VALUE=URI;X-ADDRESS=Laurel Park 3100 Old Cleveland Hwy. Gainesville;X-APPLE-RADIUS=500;X-TITLE=3100 Old Cleveland Hwy.:geo:-84.5745962,33.9487314
END:VEVENT
BEGIN:VEVENT
DTSTART;TZID=America/New_York:20240323T180000
DTEND;TZID=America/New_York:20240323T210000
DTSTAMP:20260425T153942
CREATED:20240210T191709Z
LAST-MODIFIED:20240216T183945Z
UID:10003422-1711216800-1711227600@www.atlantaparent.com
SUMMARY:Easter After Dark
DESCRIPTION:Watch a movie\, purchase sweets and treats\, and hunt for glow-in-the-dark eggs. Reservation required. $10.
URL:https://www.atlantaparent.com/event/smyrna-easter-egg-hunt/
LOCATION:Smyrna Village Green\, 200 Village Green Cir.\, Smyrna
GEO:33.8862912;-84.5165767
X-APPLE-STRUCTURED-LOCATION;VALUE=URI;X-ADDRESS=Smyrna Village Green 200 Village Green Cir. Smyrna;X-APPLE-RADIUS=500;X-TITLE=200 Village Green Cir.:geo:-84.5165767,33.8862912
END:VEVENT
BEGIN:VEVENT
DTSTART;TZID=America/New_York:20240324T103000
DTEND;TZID=America/New_York:20240324T123000
DTSTAMP:20260425T153942
CREATED:20240220T185635Z
LAST-MODIFIED:20240222T163505Z
UID:10004966-1711276200-1711283400@www.atlantaparent.com
SUMMARY:Purim Carnival With A Cause
DESCRIPTION:Enjoy fun and exciting activities and games for kids\, along with mitzah stations to educate children in issues of hunger and social justice. Sensory-friendly event from 10-10:30 a.m.
URL:https://www.atlantaparent.com/event/purim-carnival-with-a-cause/
LOCATION:Temple Emanu-El\, 1580 Spalding Drive\, Atlanta\, 30350
GEO:33.9749307;-84.3335803
X-APPLE-STRUCTURED-LOCATION;VALUE=URI;X-ADDRESS=Temple Emanu-El 1580 Spalding Drive Atlanta 30350;X-APPLE-RADIUS=500;X-TITLE=1580 Spalding Drive:geo:-84.3335803,33.9749307
END:VEVENT
BEGIN:VEVENT
DTSTART;VALUE=DATE:20240326
DTEND;VALUE=DATE:20240520
DTSTAMP:20260425T153942
CREATED:20240217T230755Z
LAST-MODIFIED:20240408T125604Z
UID:10004822-1711411200-1716163199@www.atlantaparent.com
SUMMARY:Stellaluna
DESCRIPTION:Based on the beloved children’s book\, watch Stellaluna grow up and learn how to accept her differences and find her family. March 26-May 19. See website for showtimes. $22-$27; ages 1 and younger\, free.
URL:https://www.atlantaparent.com/event/stellaluna-2/
LOCATION:Center for Puppetry Arts\, 1404 Spring Street NW\, Atlanta
ATTACH;FMTTYPE=image/jpeg:https://www.atlantaparent.com/wp-content/uploads/2024/03/19-20_Stellaluna-Promo-Art-1-scaled-e1712580883239.jpg
GEO:33.7928692;-84.3895974
X-APPLE-STRUCTURED-LOCATION;VALUE=URI;X-ADDRESS=Center for Puppetry Arts 1404 Spring Street NW Atlanta;X-APPLE-RADIUS=500;X-TITLE=1404 Spring Street NW:geo:-84.3895974,33.7928692
END:VEVENT
BEGIN:VEVENT
DTSTART;TZID=America/New_York:20240326T080000
DTEND;TZID=America/New_York:20240326T133000
DTSTAMP:20260425T153943
CREATED:20240319T130354Z
LAST-MODIFIED:20240319T130354Z
UID:10007928-1711440000-1711459800@www.atlantaparent.com
SUMMARY:The Complete Reading Series
DESCRIPTION:Offered through Georgia ETA\, the Complete Reading Series is a 65-hour professional development training in structured literacy. See website for locations. $160-$325.
URL:https://www.atlantaparent.com/event/the-complete-reading-series/2024-03-26/
END:VEVENT
BEGIN:VEVENT
DTSTART;TZID=America/New_York:20240328T103000
DTEND;TZID=America/New_York:20240328T123000
DTSTAMP:20260425T153943
CREATED:20240202T162437Z
LAST-MODIFIED:20240216T173121Z
UID:10006271-1711621800-1711629000@www.atlantaparent.com
SUMMARY:College Park Annual Easter Egg Hunt
DESCRIPTION:This annual egg hunt is for ages 3-6.
URL:https://www.atlantaparent.com/event/college-park-annual-easter-egg-hunt/
LOCATION:Bill Badgett Football Stadium\, 3636 College St.\, College Park
GEO:33.6559166;-84.4508636
X-APPLE-STRUCTURED-LOCATION;VALUE=URI;X-ADDRESS=Bill Badgett Football Stadium 3636 College St. College Park;X-APPLE-RADIUS=500;X-TITLE=3636 College St.:geo:-84.4508636,33.6559166
END:VEVENT
BEGIN:VEVENT
DTSTART;TZID=America/New_York:20240329T090000
DTEND;TZID=America/New_York:20240331T160000
DTSTAMP:20260425T153943
CREATED:20240201T050036Z
LAST-MODIFIED:20240216T173302Z
UID:10002601-1711702800-1711900800@www.atlantaparent.com
SUMMARY:Egg-citing Egg Hunt
DESCRIPTION:Find the hidden eggs along the nature trails with this scavenger hunt. Parking\, $5.
URL:https://www.atlantaparent.com/event/egg-citing-hike-hunt/
LOCATION:Panola Mountain State Park\, 2620 Highway 155 SW\, Stockbridge
GEO:33.6240972;-84.1750921
X-APPLE-STRUCTURED-LOCATION;VALUE=URI;X-ADDRESS=Panola Mountain State Park 2620 Highway 155 SW Stockbridge;X-APPLE-RADIUS=500;X-TITLE=2620 Highway 155 SW:geo:-84.1750921,33.6240972
END:VEVENT
BEGIN:VEVENT
DTSTART;TZID=America/New_York:20240329T190000
DTEND;TZID=America/New_York:20240329T190000
DTSTAMP:20260425T153943
CREATED:20240217T160540Z
LAST-MODIFIED:20240229T173035Z
UID:10006767-1711738800-1711738800@www.atlantaparent.com
SUMMARY:Women's History Month Celebration: Featuring Sistas of Soul from Live in Concert Productions
DESCRIPTION:Look back at the greatness of the women who shaped the music industry and recorded some of the most memorable music of all time. $25-$35.
URL:https://www.atlantaparent.com/event/sistas-of-soul/
LOCATION: Aurora Theatre\, 128 East Pike St.\, Lawrenceville
END:VEVENT
BEGIN:VEVENT
DTSTART;VALUE=DATE:20240330
DTEND;VALUE=DATE:20250728
DTSTAMP:20260425T153943
CREATED:20240319T141727Z
LAST-MODIFIED:20241219T144417Z
UID:10007967-1711756800-1753660799@www.atlantaparent.com
SUMMARY:Patents: The Engine of Invention
DESCRIPTION:See several miniature inventions and learn how patents helped make inventions we use every day. $19; ages 3-17\, $15; ages 2 and younger\, free.
URL:https://www.atlantaparent.com/event/patents-the-engine-of-invention/
LOCATION:Tellus Science Museum\, 100 Tellus Drive\, Cartersville
GEO:34.2418518;-84.7706004
X-APPLE-STRUCTURED-LOCATION;VALUE=URI;X-ADDRESS=Tellus Science Museum 100 Tellus Drive Cartersville;X-APPLE-RADIUS=500;X-TITLE=100 Tellus Drive:geo:-84.7706004,34.2418518
END:VEVENT
BEGIN:VEVENT
DTSTART;TZID=America/New_York:20240330T140000
DTEND;TZID=America/New_York:20240330T160000
DTSTAMP:20260425T153943
CREATED:20240212T151137Z
LAST-MODIFIED:20240229T142037Z
UID:10004978-1711807200-1711814400@www.atlantaparent.com
SUMMARY:Easter Egg-stravaganza at Wieuca
DESCRIPTION:Enjoy bouncy houses\, pony rides\, a petting zoo and egg hunts for different ages. Donations requested for Intown Cares.
URL:https://www.atlantaparent.com/event/easter-egg-hunt-at-wieuca/
LOCATION:Playfield at Wieuca Road Baptist Church\, 3626 Peachtree Rd. NE\, Atlanta\, GA
GEO:33.8552287;-84.3598691
X-APPLE-STRUCTURED-LOCATION;VALUE=URI;X-ADDRESS=Playfield at Wieuca Road Baptist Church 3626 Peachtree Rd. NE Atlanta GA;X-APPLE-RADIUS=500;X-TITLE=3626 Peachtree Rd. NE:geo:-84.3598691,33.8552287
END:VEVENT
BEGIN:VEVENT
DTSTART;TZID=America/New_York:20240331T100000
DTEND;TZID=America/New_York:20240331T100000
DTSTAMP:20260425T153943
CREATED:20240308T140947Z
LAST-MODIFIED:20240308T140947Z
UID:10007919-1711879200-1711879200@www.atlantaparent.com
SUMMARY:Easter Egg Hunt
DESCRIPTION:Spend the night for a beautiful egg hunt from the Easter Bunny. Free for overnight resort guests who are children ages 12 and younger.
URL:https://www.atlantaparent.com/event/easter-egg-hunt-9/
LOCATION:Barnsley Resort\, 597 Barnsley Gardens Rd.\, Adairsville
GEO:34.3014092;-84.9842932
X-APPLE-STRUCTURED-LOCATION;VALUE=URI;X-ADDRESS=Barnsley Resort 597 Barnsley Gardens Rd. Adairsville;X-APPLE-RADIUS=500;X-TITLE=597 Barnsley Gardens Rd.:geo:-84.9842932,34.3014092
END:VEVENT
BEGIN:VEVENT
DTSTART;TZID=America/New_York:20240331T140000
DTEND;TZID=America/New_York:20240331T160000
DTSTAMP:20260425T153943
CREATED:20240216T184922Z
LAST-MODIFIED:20240216T184922Z
UID:10007886-1711893600-1711900800@www.atlantaparent.com
SUMMARY:Wonkariffic Scrumdiddlyumptious Eggstravaganza Easter Sunday Buffet
DESCRIPTION:Help Charlie find the golden ticket\, ride on a trackless train\, pick up Easter bags\, enjoy sensory-based children’s activities and more for families with kids on the autism spectrum or kids with developmental or cognitive disabilities. $10-$20.
URL:https://www.atlantaparent.com/event/wonkariffic-scrumdiddlyumptious-eggstravaganza-easter-sunday-buffet/
LOCATION:1201 Cafe\, 1201 Collier Rd. NW\, Atlanta
END:VEVENT
BEGIN:VEVENT
DTSTART;VALUE=DATE:20240401
DTEND;VALUE=DATE:20240601
DTSTAMP:20260425T153943
CREATED:20240122T050009Z
LAST-MODIFIED:20240327T142307Z
UID:10003250-1711929600-1717199999@www.atlantaparent.com
SUMMARY:Spring Scramble Scavenger Hunt
DESCRIPTION:Test your sleuthing skills and solve riddles on this scavenger hunt. $25.
URL:https://www.atlantaparent.com/event/the-harvest-hunt/
LOCATION:Historic Oakland Cemetery\, 248 Oakland Avenue\, Atlanta
ATTACH;FMTTYPE=image/jpeg:https://www.atlantaparent.com/wp-content/uploads/2021/03/Oakland-in-Spring-2-Credit-Historic-Oakland-Foundation-scaled.jpg
GEO:33.748727;-84.3731212
X-APPLE-STRUCTURED-LOCATION;VALUE=URI;X-ADDRESS=Historic Oakland Cemetery 248 Oakland Avenue Atlanta;X-APPLE-RADIUS=500;X-TITLE=248 Oakland Avenue:geo:-84.3731212,33.748727
END:VEVENT
BEGIN:VEVENT
DTSTART;VALUE=DATE:20240402
DTEND;VALUE=DATE:20240403
DTSTAMP:20260425T153943
CREATED:20240326T202955Z
LAST-MODIFIED:20240326T202955Z
UID:10007976-1712016000-1712102399@www.atlantaparent.com
SUMMARY:Exhibition Hub Art Center Participates in World Autism Day
DESCRIPTION:View “Tutankhamun: His Tomb and His Treasures” or “Van Gogh: The Immersive Experience” with artificial noise reduction\, the elimination of flashing lights and the dimming of interior lighting for a sensory-friendly experience. $15-$25.
URL:https://www.atlantaparent.com/event/exhibition-hub-art-center-participates-in-world-autism-day/
LOCATION:Exhibition Hub\, Atlanta Art Center\, 5660 Buford Hwy. NE\, Atlanta
GEO:33.9070243;-84.2711871
X-APPLE-STRUCTURED-LOCATION;VALUE=URI;X-ADDRESS=Exhibition Hub Atlanta Art Center 5660 Buford Hwy. NE Atlanta;X-APPLE-RADIUS=500;X-TITLE=5660 Buford Hwy. NE:geo:-84.2711871,33.9070243
END:VEVENT
BEGIN:VEVENT
DTSTART;VALUE=DATE:20240406
DTEND;VALUE=DATE:20240407
DTSTAMP:20260425T153943
CREATED:20240319T141127Z
LAST-MODIFIED:20240408T123838Z
UID:10007966-1712361600-1712447999@www.atlantaparent.com
SUMMARY:Lantern Workshop
DESCRIPTION:Plan to parade in Sandy Springs’ lantern parade with a lantern you make yourself at this workshop led by parade artist Chantelle Ryter. April 6\, 10:30 a.m. and 2 p.m. $25; to-go kits available\, $7-$25.
URL:https://www.atlantaparent.com/event/lantern-workshop/
LOCATION:Sandy Springs Performing Arts Center at City Springs\, 237 Johnson Ferry Rd.\, Sandy Springs
ATTACH;FMTTYPE=image/jpeg:https://www.atlantaparent.com/wp-content/uploads/2024/03/Lantern-Workshop_08C5104F-04E6-B0E7-6D36F7E5C02C7362_08e66f12-c8ae-25f7-6f601b7e580fb3a2.jpg
GEO:33.9244886;-84.3806875
X-APPLE-STRUCTURED-LOCATION;VALUE=URI;X-ADDRESS=Sandy Springs Performing Arts Center at City Springs 237 Johnson Ferry Rd. Sandy Springs;X-APPLE-RADIUS=500;X-TITLE=237 Johnson Ferry Rd.:geo:-84.3806875,33.9244886
END:VEVENT
END:VCALENDAR