BEGIN:VCALENDAR
VERSION:2.0
PRODID:-//NEW Atlanta Parent - ECPv6.15.11//NONSGML v1.0//EN
CALSCALE:GREGORIAN
METHOD:PUBLISH
X-WR-CALNAME:NEW Atlanta Parent
X-ORIGINAL-URL:https://www.atlantaparent.com
X-WR-CALDESC:Events for NEW Atlanta Parent
REFRESH-INTERVAL;VALUE=DURATION:PT1H
X-Robots-Tag:noindex
X-PUBLISHED-TTL:PT1H
BEGIN:VTIMEZONE
TZID:America/New_York
BEGIN:DAYLIGHT
TZOFFSETFROM:-0500
TZOFFSETTO:-0400
TZNAME:EDT
DTSTART:20200308T070000
END:DAYLIGHT
BEGIN:STANDARD
TZOFFSETFROM:-0400
TZOFFSETTO:-0500
TZNAME:EST
DTSTART:20201101T060000
END:STANDARD
BEGIN:DAYLIGHT
TZOFFSETFROM:-0500
TZOFFSETTO:-0400
TZNAME:EDT
DTSTART:20210314T070000
END:DAYLIGHT
BEGIN:STANDARD
TZOFFSETFROM:-0400
TZOFFSETTO:-0500
TZNAME:EST
DTSTART:20211107T060000
END:STANDARD
BEGIN:DAYLIGHT
TZOFFSETFROM:-0500
TZOFFSETTO:-0400
TZNAME:EDT
DTSTART:20220313T070000
END:DAYLIGHT
BEGIN:STANDARD
TZOFFSETFROM:-0400
TZOFFSETTO:-0500
TZNAME:EST
DTSTART:20221106T060000
END:STANDARD
BEGIN:DAYLIGHT
TZOFFSETFROM:-0500
TZOFFSETTO:-0400
TZNAME:EDT
DTSTART:20230312T070000
END:DAYLIGHT
BEGIN:STANDARD
TZOFFSETFROM:-0400
TZOFFSETTO:-0500
TZNAME:EST
DTSTART:20231105T060000
END:STANDARD
END:VTIMEZONE
BEGIN:VEVENT
DTSTART;TZID=America/New_York:20210827T200000
DTEND;TZID=America/New_York:20210827T220000
DTSTAMP:20260420T222342
CREATED:20210715T191029Z
LAST-MODIFIED:20210715T191029Z
UID:10005904-1630094400-1630101600@www.atlantaparent.com
SUMMARY:Surf N Turf Concert Series
DESCRIPTION:Jam out to live music. \nJuly 23: The Genuine Tailgate Jammin’ Show\nJuly 30: Beggar’s Bandits\nAug. 6: Better than the Beatles\nAug. 20: The Side Cars\nAug. 27: Midlife Crisis
URL:https://www.atlantaparent.com/event/surf-n-turf-concert-series/2021-08-27/
LOCATION:CHIRINGA\, 34 South Main St.\, Alpharetta
GEO:34.0745493;-84.294014
X-APPLE-STRUCTURED-LOCATION;VALUE=URI;X-ADDRESS=CHIRINGA 34 South Main St. Alpharetta;X-APPLE-RADIUS=500;X-TITLE=34 South Main St.:geo:-84.294014,34.0745493
END:VEVENT
BEGIN:VEVENT
DTSTART;VALUE=DATE:20210828
DTEND;VALUE=DATE:20210913
DTSTAMP:20260420T222342
CREATED:20210726T132714Z
LAST-MODIFIED:20210726T132714Z
UID:10005906-1630108800-1631491199@www.atlantaparent.com
SUMMARY:Song & Dance
DESCRIPTION:Enjoy a unique theatrical experience featuring the works of musical theatre icon Andrew Lloyd Webber\, told in song and dance. Aug. 28-Sept. 12. Thur.-Sat. 8 p.m.; Sat.-Sun. 2:30 p.m. $30+.
URL:https://www.atlantaparent.com/event/song-dance/
LOCATION: Aurora Theatre\, 128 East Pike St.\, Lawrenceville
END:VEVENT
BEGIN:VEVENT
DTSTART;TZID=America/New_York:20210828T100000
DTEND;TZID=America/New_York:20210828T130000
DTSTAMP:20260420T222342
CREATED:20210827T132945Z
LAST-MODIFIED:20210827T132945Z
UID:10006008-1630144800-1630155600@www.atlantaparent.com
SUMMARY:PUPFEST
DESCRIPTION:Bring your pup to enjoy a DJ\, puppy splash pools\, a scavenger hunt\, surprises and more at this fundraising event for Atlanta Humane Society. Advance ticket purchase required. $10; ages 12 and younger\, free.
URL:https://www.atlantaparent.com/event/pupfest/
LOCATION:The Works\, 1235 Chattahoochee Ave. NW\, Atlanta
GEO:33.8022496;-84.4285908
X-APPLE-STRUCTURED-LOCATION;VALUE=URI;X-ADDRESS=The Works 1235 Chattahoochee Ave. NW Atlanta;X-APPLE-RADIUS=500;X-TITLE=1235 Chattahoochee Ave. NW:geo:-84.4285908,33.8022496
END:VEVENT
BEGIN:VEVENT
DTSTART;TZID=America/New_York:20210828T193000
DTEND;TZID=America/New_York:20210828T193000
DTSTAMP:20260420T222342
CREATED:20210311T191014Z
LAST-MODIFIED:20210603T132749Z
UID:10005104-1630179000-1630179000@www.atlantaparent.com
SUMMARY:Lantern Series
DESCRIPTION:This series consists of different genres\, backgrounds and ideologies to enjoy a night of music. 7:30 p.m. $13-$24.\nJune 5 – Swedish Jam Factory\nJune 26 – The Foxies\nJuly 17 – Scott Mulvahill\nJuly 31 – JigJam\nAug. 7 – Keith Anderson\nAug. 28 – Marc Broussard\nSept. 25 – The Black Market Trust\nOct. 16 – We Banjo 3\nOct. 30 – Argonaut & Wasp
URL:https://www.atlantaparent.com/event/lantern-series/2021-08-28/
LOCATION:Woodstock Arts\, 8534 Main St.\, Woodstock
GEO:34.1017163;-84.5199758
X-APPLE-STRUCTURED-LOCATION;VALUE=URI;X-ADDRESS=Woodstock Arts 8534 Main St. Woodstock;X-APPLE-RADIUS=500;X-TITLE=8534 Main St.:geo:-84.5199758,34.1017163
END:VEVENT
BEGIN:VEVENT
DTSTART;TZID=America/New_York:20210829T190000
DTEND;TZID=America/New_York:20210829T190000
DTSTAMP:20260420T222342
CREATED:20210426T164932Z
LAST-MODIFIED:20210426T164932Z
UID:10005759-1630263600-1630263600@www.atlantaparent.com
SUMMARY:Sunset Sessions
DESCRIPTION:Free alternative music concert series. \nMay 2 – Noonday Sons\nMay 9 – The Get Right Band\nMay 23 – Grasshounds\nJune 6 – All the Locals\nJune 13 – EG Vines\nJune 20 – The 502s\nJuly 4 – Frankly Scarlet\nJuly 11 – Carly Moffa\nJuly 18 – Ides of June\nJuly 25 – Cody Bolden\nAug. 1 – Motherfolk\nAug. 8 – The Selfless Lovers\nSept. 5 – Easy Honey
URL:https://www.atlantaparent.com/event/sunset-sessions/2021-08-29/
LOCATION:Park Tavern\, 500 10th St. NE\, Atlanta
GEO:33.7821919;-84.3691666
X-APPLE-STRUCTURED-LOCATION;VALUE=URI;X-ADDRESS=Park Tavern 500 10th St. NE Atlanta;X-APPLE-RADIUS=500;X-TITLE=500 10th St. NE:geo:-84.3691666,33.7821919
END:VEVENT
BEGIN:VEVENT
DTSTART;TZID=America/New_York:20210831T160000
DTEND;TZID=America/New_York:20210831T180000
DTSTAMP:20260420T222342
CREATED:20210726T132039Z
LAST-MODIFIED:20210726T132039Z
UID:10005908-1630425600-1630432800@www.atlantaparent.com
SUMMARY:Colony Kids
DESCRIPTION:Participate in themed social and educational events for children with entertainment\, crafts\, games and more. Free. \nJuly 27: End of Summer Bash\nAug. 31: Back-to-School\nSept. 28: Around the World
URL:https://www.atlantaparent.com/event/colony-kids/2021-08-31/
LOCATION:Colony Square\, 1197 Peachtree St. NE\, Atlanta
END:VEVENT
BEGIN:VEVENT
DTSTART;VALUE=DATE:20210903
DTEND;VALUE=DATE:20220110
DTSTAMP:20260420T222342
CREATED:20210818T193806Z
LAST-MODIFIED:20210818T194031Z
UID:10005935-1630627200-1641772799@www.atlantaparent.com
SUMMARY:Really Free: The Radical Art of Nellie Mae Rowe
DESCRIPTION:“Happy Days” \nExplore Georgia native artist Nellie Mae Rowe’s drawings\, found-object installations\, handmade dolls and more to experience the lively art environment of her “Playhouse.” Advance ticket purchase required. $16.50; ages 5 and younger\, free.
URL:https://www.atlantaparent.com/event/really-free-the-radical-art-of-nellie-mae-rowe/
LOCATION:High Museum of Art\, 1280 Peachtree Street\, Atlanta
ATTACH;FMTTYPE=image/jpeg:https://www.atlantaparent.com/wp-content/uploads/2021/08/1997.105-Rowe_o2-scaled-e1629315613891.jpg
GEO:33.7891582;-84.3849351
X-APPLE-STRUCTURED-LOCATION;VALUE=URI;X-ADDRESS=High Museum of Art 1280 Peachtree Street Atlanta;X-APPLE-RADIUS=500;X-TITLE=1280 Peachtree Street:geo:-84.3849351,33.7891582
END:VEVENT
BEGIN:VEVENT
DTSTART;TZID=America/New_York:20210904T110000
DTEND;TZID=America/New_York:20210904T150000
DTSTAMP:20260420T222342
CREATED:20200825T200415Z
LAST-MODIFIED:20210804T153943Z
UID:10005316-1630753200-1630767600@www.atlantaparent.com
SUMMARY:Cool Cars & Trains
DESCRIPTION:The DeFeo Groupe \nSee classic and modern cars\, participate in a raffle\, win door prizes\, tour the museum\, take a train ride and more at this fundraiser. Donation; train ride\, $3+.
URL:https://www.atlantaparent.com/event/cool-cars-trains/
LOCATION:Southeastern Railway Museum\, 3595 Buford Hwy.\, Duluth
ATTACH;FMTTYPE=image/jpeg:https://www.atlantaparent.com/wp-content/uploads/2020/08/SRM_7975-scaled-e1598449809487.jpg
GEO:33.989078;-84.1558636
X-APPLE-STRUCTURED-LOCATION;VALUE=URI;X-ADDRESS=Southeastern Railway Museum 3595 Buford Hwy. Duluth;X-APPLE-RADIUS=500;X-TITLE=3595 Buford Hwy.:geo:-84.1558636,33.989078
END:VEVENT
BEGIN:VEVENT
DTSTART;TZID=America/New_York:20210907T110000
DTEND;TZID=America/New_York:20210907T200000
DTSTAMP:20260420T222342
CREATED:20210818T194156Z
LAST-MODIFIED:20210818T194156Z
UID:10005940-1631012400-1631044800@www.atlantaparent.com
SUMMARY:Bark in the Park
DESCRIPTION:The pooches get to cool off in the splash pad at this special event. $2.
URL:https://www.atlantaparent.com/event/bark-in-the-park/
LOCATION: Swift-Cantrell Park\, 3140 Old 41 Highway\, Kennesaw
GEO:34.0312628;-84.6334876
X-APPLE-STRUCTURED-LOCATION;VALUE=URI;X-ADDRESS= Swift-Cantrell Park 3140 Old 41 Highway Kennesaw;X-APPLE-RADIUS=500;X-TITLE=3140 Old 41 Highway:geo:-84.6334876,34.0312628
END:VEVENT
BEGIN:VEVENT
DTSTART;VALUE=DATE:20210911
DTEND;VALUE=DATE:20210913
DTSTAMP:20260420T222342
CREATED:20210720T132454Z
LAST-MODIFIED:20210909T154625Z
UID:10005897-1631318400-1631491199@www.atlantaparent.com
SUMMARY:Cool Zoo
DESCRIPTION:Part of Repticon\, see Cool Zoo’s exhibit featuring hands-on encounters with exotic animals\, including birds\, a boa constrictor and alligators. Sat. 9 a.m.-12:45 p.m. and 1:15-4 p.m. Sun. 10 a.m.-12:45 p.m. and 1:15-4 p.m. $10; ages 5-12\, $5; ages 4 and younger\, free.
URL:https://www.atlantaparent.com/event/cool-zoo/
LOCATION:Cobb County Civic Center\, 548 S. Marietta Pkwy.\, Marietta
ATTACH;FMTTYPE=image/jpeg:https://www.atlantaparent.com/wp-content/uploads/2021/07/IMG_5964201-scaled-e1626787560917.jpg
GEO:33.942395;-84.537199
X-APPLE-STRUCTURED-LOCATION;VALUE=URI;X-ADDRESS=Cobb County Civic Center 548 S. Marietta Pkwy. Marietta;X-APPLE-RADIUS=500;X-TITLE=548 S. Marietta Pkwy.:geo:-84.537199,33.942395
END:VEVENT
BEGIN:VEVENT
DTSTART;VALUE=DATE:20210911
DTEND;VALUE=DATE:20210913
DTSTAMP:20260420T222342
CREATED:20210801T151048Z
LAST-MODIFIED:20210809T135427Z
UID:10002915-1631318400-1631491199@www.atlantaparent.com
SUMMARY:Pine Log Arts and Crafts Fair
DESCRIPTION:This juried arts and crafts fair features a variety of handmade crafts and paintings\, as well as live music and delicious food. Sept. 11\, 10 a.m.-6 p.m. and Sept. 12\, 11 a.m.-5 p.m. $3.
URL:https://www.atlantaparent.com/event/pine-log-arts-crafts-fair/
LOCATION:Pine Log UMC Campground\, Off Highway 411\, Rydal
GEO:34.3452459;-84.720513
X-APPLE-STRUCTURED-LOCATION;VALUE=URI;X-ADDRESS=Pine Log UMC Campground Off Highway 411 Rydal;X-APPLE-RADIUS=500;X-TITLE=Off Highway 411:geo:-84.720513,34.3452459
END:VEVENT
BEGIN:VEVENT
DTSTART;TZID=America/New_York:20210911T190000
DTEND;TZID=America/New_York:20210911T220000
DTSTAMP:20260420T222342
CREATED:20210505T143320Z
LAST-MODIFIED:20210505T143320Z
UID:10005855-1631386800-1631397600@www.atlantaparent.com
SUMMARY:Kaiser Permanente Movie Series
DESCRIPTION:Enjoy an outdoors movie at different parks throughout Cobb County. Registration required; $20 per car. \n\nJune 5: Sonic the Hedgehog at Fair Oaks Park\nJuly 10: The Sandlot at Big Shanty Park\nAug. 7: Abominable at Lost Mountain Park\nSept. 11: TBA at Fullers Park
URL:https://www.atlantaparent.com/event/kaiser-permanente-movie-series/2021-09-11/
END:VEVENT
BEGIN:VEVENT
DTSTART;VALUE=DATE:20210913
DTEND;VALUE=DATE:20210919
DTSTAMP:20260420T222342
CREATED:20180903T161609Z
LAST-MODIFIED:20210728T175622Z
UID:10002073-1631491200-1632009599@www.atlantaparent.com
SUMMARY:Brownwood Bike Rally
DESCRIPTION:Celebrate cycling\, fitness and health for kids and adults with a virtual and an in-person rally. $10-$20.
URL:https://www.atlantaparent.com/event/brownwood-bike-rally/
LOCATION:Brownwood Park\, 602 Brownwood Avenue SE\, Atlanta
GEO:33.7377778;-84.3479392
X-APPLE-STRUCTURED-LOCATION;VALUE=URI;X-ADDRESS=Brownwood Park 602 Brownwood Avenue SE Atlanta;X-APPLE-RADIUS=500;X-TITLE=602 Brownwood Avenue SE:geo:-84.3479392,33.7377778
END:VEVENT
BEGIN:VEVENT
DTSTART;TZID=America/New_York:20210913T130000
DTEND;TZID=America/New_York:20210913T130000
DTSTAMP:20260420T222342
CREATED:20210907T130812Z
LAST-MODIFIED:20210907T130812Z
UID:10006012-1631538000-1631538000@www.atlantaparent.com
SUMMARY:Virtual: Cartoonito's Birthday Party
DESCRIPTION:Enjoy a free VIP birthday party for Cartoonito\, a new preschool block launching on HBO Max and Cartoon Network. Free.
URL:https://www.atlantaparent.com/event/virtual-cartoonitos-birthday-party/
END:VEVENT
BEGIN:VEVENT
DTSTART;VALUE=DATE:20210918
DTEND;VALUE=DATE:20210919
DTSTAMP:20260420T222342
CREATED:20210720T130245Z
LAST-MODIFIED:20210728T173036Z
UID:10004418-1631923200-1632009599@www.atlantaparent.com
SUMMARY:Fall Family Fun
DESCRIPTION:Play in a five-acre zinnia maze\, visit the pumpkin patch\, compete in pump duck races\, take a hayride and more. Sept. 18-Oct. 31. Sat.-Sun. 10 a.m.-dusk. $16; ages 4 and younger\, free.
URL:https://www.atlantaparent.com/event/fall-family-fun/2021-09-18/
LOCATION:Still Family Farm\, 5630 Macland Rd.\, Powder Springs\, GA\, United States
GEO:33.905543;-84.71743
X-APPLE-STRUCTURED-LOCATION;VALUE=URI;X-ADDRESS=Still Family Farm 5630 Macland Rd. Powder Springs GA United States;X-APPLE-RADIUS=500;X-TITLE=5630 Macland Rd.:geo:-84.71743,33.905543
END:VEVENT
BEGIN:VEVENT
DTSTART;VALUE=DATE:20210918
DTEND;VALUE=DATE:20210919
DTSTAMP:20260420T222342
CREATED:20210909T164412Z
LAST-MODIFIED:20210909T164412Z
UID:10006030-1631923200-1632009599@www.atlantaparent.com
SUMMARY:Museum Day
DESCRIPTION:Hosted by the Smithsonian Magazine\, participating museums and cultural institutions across the country provide free to those with a Museum Day ticket. See participating locations online.
URL:https://www.atlantaparent.com/event/museum-day/
END:VEVENT
BEGIN:VEVENT
DTSTART;VALUE=DATE:20210918
DTEND;VALUE=DATE:20210920
DTSTAMP:20260420T222342
CREATED:20200801T162351Z
LAST-MODIFIED:20210503T152415Z
UID:10002075-1631923200-1632095999@www.atlantaparent.com
SUMMARY:Marietta Streetfest
DESCRIPTION:See a classic car show\, walk down Artist Alley & Jewelry Row with artworks for sale\, listen to the Grassroots Music Festival and play in the Kid’s Korner & Tiny Tot Town. Sept. 18\, 9 a.m.-9 p.m. and Sept. 19\, 11 a.m.-5 p.m. Free admission.
URL:https://www.atlantaparent.com/event/marietta-streetfest/
LOCATION:Marietta Square\, 50 N. Park Square\, Marietta
ATTACH;FMTTYPE=image/jpeg:https://www.atlantaparent.com/wp-content/uploads/2017/08/streetfest-kids-zone.jpg
GEO:33.9532312;-84.5498936
X-APPLE-STRUCTURED-LOCATION;VALUE=URI;X-ADDRESS=Marietta Square 50 N. Park Square Marietta;X-APPLE-RADIUS=500;X-TITLE=50 N. Park Square:geo:-84.5498936,33.9532312
END:VEVENT
BEGIN:VEVENT
DTSTART;VALUE=DATE:20210918
DTEND;VALUE=DATE:20210920
DTSTAMP:20260420T222342
CREATED:20200801T194026Z
LAST-MODIFIED:20210611T140100Z
UID:10004437-1631923200-1632095999@www.atlantaparent.com
SUMMARY:European Market
DESCRIPTION:Shop home collectibles and décor\, furniture\, jewelry\, clothing\, art and more. Free admission.
URL:https://www.atlantaparent.com/event/european-market/
LOCATION:Milton Avenue\, Main St. and Roswell/Canton Rd.\, Roswell
GEO:33.3942655;-104.5230242
X-APPLE-STRUCTURED-LOCATION;VALUE=URI;X-ADDRESS=Milton Avenue Main St. and Roswell/Canton Rd. Roswell;X-APPLE-RADIUS=500;X-TITLE=Main St. and Roswell/Canton Rd.:geo:-104.5230242,33.3942655
END:VEVENT
BEGIN:VEVENT
DTSTART;VALUE=DATE:20210918
DTEND;VALUE=DATE:20220103
DTSTAMP:20260420T222342
CREATED:20210818T194618Z
LAST-MODIFIED:20210818T194618Z
UID:10005939-1631923200-1641167999@www.atlantaparent.com
SUMMARY:Rube Goldberg\, The World of Hilarious Invention
DESCRIPTION:See inventor and artists Rube Goldberg’s iconic contraptions and illustrations\, and explore new 3D life-size machines and interactive components of a Rube Goldberg machine. $11.95-$19.95; ages 11 months and younger\, free.
URL:https://www.atlantaparent.com/event/rube-goldberg-the-world-of-hilarious-invention/
LOCATION:Children’s Museum of Atlanta\, 275 Centennial Olympic Park Dr. NW\, Atlanta\, GA
ATTACH;FMTTYPE=image/jpeg:https://www.atlantaparent.com/wp-content/uploads/2021/08/RubeGoldberg_CMP-6-scaled-e1629315966197.jpg
END:VEVENT
BEGIN:VEVENT
DTSTART;TZID=America/New_York:20210918T100000
DTEND;TZID=America/New_York:20210918T170000
DTSTAMP:20260420T222342
CREATED:20210811T173604Z
LAST-MODIFIED:20210811T173604Z
UID:10005931-1631959200-1631984400@www.atlantaparent.com
SUMMARY:Oktoberfest at Halcyon
DESCRIPTION:Enjoy a Classic Mercedes Car Show\, a German polka band\, beer\, German foods\, games and more. Free admission.
URL:https://www.atlantaparent.com/event/oktoberfest-at-halcyon/
LOCATION:Halcyon\, 6365 Halcyon Way\, Alpharetta\, GA\, 30005
GEO:34.1106637;-84.2242307
X-APPLE-STRUCTURED-LOCATION;VALUE=URI;X-ADDRESS=Halcyon 6365 Halcyon Way Alpharetta GA 30005;X-APPLE-RADIUS=500;X-TITLE=6365 Halcyon Way:geo:-84.2242307,34.1106637
END:VEVENT
BEGIN:VEVENT
DTSTART;TZID=America/New_York:20210918T130000
DTEND;TZID=America/New_York:20210918T130000
DTSTAMP:20260420T222342
CREATED:20210111T134047Z
LAST-MODIFIED:20210818T193522Z
UID:10005582-1631970000-1631970000@www.atlantaparent.com
SUMMARY:Virtual: The Little Red Hen & the Grain of Wheat
DESCRIPTION:Colorful hand puppets tell the story of a hen who wants to harvest a grain of wheat\, but none of the other barnyard animals help her. $8.
URL:https://www.atlantaparent.com/event/virtual-the-little-red-hen-the-grain-of-wheat/
END:VEVENT
BEGIN:VEVENT
DTSTART;TZID=America/New_York:20210919T100000
DTEND;TZID=America/New_York:20210919T200000
DTSTAMP:20260420T222342
CREATED:20210831T142211Z
LAST-MODIFIED:20210831T142211Z
UID:10005953-1632045600-1632081600@www.atlantaparent.com
SUMMARY:Aurora's 11th Birthday Bash
DESCRIPTION:This birthday party includes an arts and crafts show\, food trucks\, a carnival with movie character meet and greets\, inflatables and more\, a touch-a-truck\, and more.
URL:https://www.atlantaparent.com/event/auroras-11th-birthday-bash/
LOCATION:Aurora Cineplex\, 5100 Commerce Pkwy.\, Roswell
GEO:34.0376162;-84.3400488
X-APPLE-STRUCTURED-LOCATION;VALUE=URI;X-ADDRESS=Aurora Cineplex 5100 Commerce Pkwy. Roswell;X-APPLE-RADIUS=500;X-TITLE=5100 Commerce Pkwy.:geo:-84.3400488,34.0376162
END:VEVENT
BEGIN:VEVENT
DTSTART;VALUE=DATE:20210923
DTEND;VALUE=DATE:20211004
DTSTAMP:20260420T222342
CREATED:20190724T183651Z
LAST-MODIFIED:20210611T131019Z
UID:10004334-1632355200-1633305599@www.atlantaparent.com
SUMMARY:North Georgia State Fair
DESCRIPTION:At the largest fair in the metro area\, enjoy carnival rides and games\, concerts\, a petting zoo\, pony rides and children’s area. Fun acts include: K-9’s In Flight\, Ninja Experience\, King BMX Stunt Show\, Sandscapes\, Master of the Chainsaw and more. $10; ages 10 and younger\, free. Parking\, $5; ride tickets or unlimited ride passes\, extra.
URL:https://www.atlantaparent.com/event/north-georgia-state-fair-2/
LOCATION:Jim R. Miller Park\, 2245 Callaway Road\, Marietta
ATTACH;FMTTYPE=image/jpeg:https://www.atlantaparent.com/wp-content/uploads/2018/09/north-ga-state-fair_Mega-Slide-ngst-b-e1566922549308.jpg
GEO:33.8987756;-84.5907024
X-APPLE-STRUCTURED-LOCATION;VALUE=URI;X-ADDRESS=Jim R. Miller Park 2245 Callaway Road Marietta;X-APPLE-RADIUS=500;X-TITLE=2245 Callaway Road:geo:-84.5907024,33.8987756
END:VEVENT
BEGIN:VEVENT
DTSTART;TZID=America/New_York:20210923T200000
DTEND;TZID=America/New_York:20210925T200000
DTSTAMP:20260420T222342
CREATED:20210916T164941Z
LAST-MODIFIED:20210920T131353Z
UID:10005991-1632427200-1632600000@www.atlantaparent.com
SUMMARY:The Bluest Eye
DESCRIPTION:Casey Gardner Ford \nInspired by Toni Morrison’s book\, this performance shows the story of Pecola Breedlove\, an African American girl who believes the obstacles in her life would be solved if she had blue eyes. Sept. 23-Oct. 17. Wed.-Sat. 8 p.m. and Sun. 5 p.m. $25-$40.
URL:https://www.atlantaparent.com/event/the-bluest-eye/2021-09-23/
LOCATION:Synchronicity Theatre\, 1545 Peachtree Street\, Atlanta
ATTACH;FMTTYPE=image/jpeg:https://www.atlantaparent.com/wp-content/uploads/2021/09/TBE-Publicity6-scaled-e1632143623499.jpg
GEO:33.7972669;-84.3882065
X-APPLE-STRUCTURED-LOCATION;VALUE=URI;X-ADDRESS=Synchronicity Theatre 1545 Peachtree Street Atlanta;X-APPLE-RADIUS=500;X-TITLE=1545 Peachtree Street:geo:-84.3882065,33.7972669
END:VEVENT
BEGIN:VEVENT
DTSTART;TZID=America/New_York:20210924T180000
DTEND;TZID=America/New_York:20210924T230000
DTSTAMP:20260420T222342
CREATED:20210909T164127Z
LAST-MODIFIED:20210909T164127Z
UID:10006025-1632506400-1632524400@www.atlantaparent.com
SUMMARY:A Night Out for John Howell Park
DESCRIPTION:This socially distanced fundraiser will include a catered dinner by D.B.A. Barbecue. Funds will go to improvements for John Howell Park. $20-$25; ages 10 and younger\, $10.
URL:https://www.atlantaparent.com/event/a-night-out-for-john-howell-park/
LOCATION:John Howell Park\, 797 Virginia Ave. NE\, Atlanta
GEO:33.7817381;-84.3599555
X-APPLE-STRUCTURED-LOCATION;VALUE=URI;X-ADDRESS=John Howell Park 797 Virginia Ave. NE Atlanta;X-APPLE-RADIUS=500;X-TITLE=797 Virginia Ave. NE:geo:-84.3599555,33.7817381
END:VEVENT
BEGIN:VEVENT
DTSTART;TZID=America/New_York:20210924T200000
DTEND;TZID=America/New_York:20210925T200000
DTSTAMP:20260420T222342
CREATED:20210914T173805Z
LAST-MODIFIED:20210914T173805Z
UID:10005981-1632513600-1632600000@www.atlantaparent.com
SUMMARY:The Wren’s Nest Séance
DESCRIPTION:Popular around the turn of the 20th century\, this séance tries to solve the mysterious disappearance of a magician’s supply salesman. Sept. 24-Oct. 30. Fri.-Sat. 8 p.m. $25.
URL:https://www.atlantaparent.com/event/the-wrens-nest-seance/2021-09-24/
LOCATION:The Wren’s Nest\, 1050 Ralph D. Abernathy Blvd.\, Atlanta
GEO:33.7375619;-84.422393
X-APPLE-STRUCTURED-LOCATION;VALUE=URI;X-ADDRESS=The Wren’s Nest 1050 Ralph D. Abernathy Blvd. Atlanta;X-APPLE-RADIUS=500;X-TITLE=1050 Ralph D. Abernathy Blvd.:geo:-84.422393,33.7375619
END:VEVENT
BEGIN:VEVENT
DTSTART;VALUE=DATE:20210925
DTEND;VALUE=DATE:20210927
DTSTAMP:20260420T222342
CREATED:20190922T022950Z
LAST-MODIFIED:20210902T160739Z
UID:10004515-1632528000-1632700799@www.atlantaparent.com
SUMMARY:Peppa’s US Adventures Tour
DESCRIPTION:Join Peppa Pig and George Pigg for live performances\, coloring stations\, photo ops\, music and more. Free; registration required.
URL:https://www.atlantaparent.com/event/peppa-pig-live/
LOCATION: Perimeter Mall\, 4400 Ashford Dunwoody Rd.\, Atlanta
GEO:33.9232565;-84.3400292
X-APPLE-STRUCTURED-LOCATION;VALUE=URI;X-ADDRESS= Perimeter Mall 4400 Ashford Dunwoody Rd. Atlanta;X-APPLE-RADIUS=500;X-TITLE=4400 Ashford Dunwoody Rd.:geo:-84.3400292,33.9232565
END:VEVENT
BEGIN:VEVENT
DTSTART;VALUE=DATE:20210925
DTEND;VALUE=DATE:20211115
DTSTAMP:20260420T222342
CREATED:20210809T134613Z
LAST-MODIFIED:20210809T134719Z
UID:10005926-1632528000-1636934399@www.atlantaparent.com
SUMMARY:Fall Festival
DESCRIPTION:Travel through a corn maze\, listen to live music\, see pumpkins\, play games and more at this fall celebration. Sept. 25-Nov. 14. Wed.-Thur. 10 a.m.-5 p.m.; Fri.-Sat. 10 a.m.-10 p.m.; Sun. 1-6 p.m.
URL:https://www.atlantaparent.com/event/fall-festival-7/
LOCATION:Denver Downs Farm\, 1515 Denver Rd.\, Anderson\, GA\, United States
ATTACH;FMTTYPE=image/jpeg:https://www.atlantaparent.com/wp-content/uploads/2021/08/DDF.AtlantaParent.Event_.jpg
GEO:33.836081;-81.1637245
X-APPLE-STRUCTURED-LOCATION;VALUE=URI;X-ADDRESS=Denver Downs Farm 1515 Denver Rd. Anderson GA United States;X-APPLE-RADIUS=500;X-TITLE=1515 Denver Rd.:geo:-81.1637245,33.836081
END:VEVENT
BEGIN:VEVENT
DTSTART;VALUE=DATE:20210925
DTEND;VALUE=DATE:20220509
DTSTAMP:20260420T222342
CREATED:20210826T134419Z
LAST-MODIFIED:20210826T134419Z
UID:10005947-1632528000-1652054399@www.atlantaparent.com
SUMMARY:Thomas Edison’s Secret Lab
DESCRIPTION:Join the fun of the educational\, animated comedy series through interactive explorations of science\, technology\, engineering and math.
URL:https://www.atlantaparent.com/event/thomas-edisons-secret-lab-2/
LOCATION:Tellus Science Museum\, 100 Tellus Drive\, Cartersville
GEO:34.2418518;-84.7706004
X-APPLE-STRUCTURED-LOCATION;VALUE=URI;X-ADDRESS=Tellus Science Museum 100 Tellus Drive Cartersville;X-APPLE-RADIUS=500;X-TITLE=100 Tellus Drive:geo:-84.7706004,34.2418518
END:VEVENT
BEGIN:VEVENT
DTSTART;VALUE=DATE:20210925
DTEND;VALUE=DATE:20220301
DTSTAMP:20260420T222342
CREATED:20210915T170334Z
LAST-MODIFIED:20220117T133741Z
UID:10005999-1632528000-1646092799@www.atlantaparent.com
SUMMARY:Downton Abbey: The Exhibition
DESCRIPTION:Photo by Darren McCollester/Getty Images \nExperience the history\, fashion and settings of this six-season show in an immersive experience. Sept. 25-Jan. 17. 10 a.m.-6 p.m. $36+; ages 14 and younger\, free.
URL:https://www.atlantaparent.com/event/downton-abbey-the-exhibition/
LOCATION:Perimeter Pointe\, 1155 Mount Vernon Hwy. NE\, Atlanta
ATTACH;FMTTYPE=image/jpeg:https://www.atlantaparent.com/wp-content/uploads/2021/09/DSC_4834-scaled-e1631725377117.jpg
END:VEVENT
END:VCALENDAR