BEGIN:VCALENDAR
VERSION:2.0
PRODID:-//NEW Atlanta Parent - ECPv6.15.11//NONSGML v1.0//EN
CALSCALE:GREGORIAN
METHOD:PUBLISH
X-ORIGINAL-URL:https://www.atlantaparent.com
X-WR-CALDESC:Events for NEW Atlanta Parent
REFRESH-INTERVAL;VALUE=DURATION:PT1H
X-Robots-Tag:noindex
X-PUBLISHED-TTL:PT1H
BEGIN:VTIMEZONE
TZID:America/New_York
BEGIN:DAYLIGHT
TZOFFSETFROM:-0500
TZOFFSETTO:-0400
TZNAME:EDT
DTSTART:20220313T070000
END:DAYLIGHT
BEGIN:STANDARD
TZOFFSETFROM:-0400
TZOFFSETTO:-0500
TZNAME:EST
DTSTART:20221106T060000
END:STANDARD
BEGIN:DAYLIGHT
TZOFFSETFROM:-0500
TZOFFSETTO:-0400
TZNAME:EDT
DTSTART:20230312T070000
END:DAYLIGHT
BEGIN:STANDARD
TZOFFSETFROM:-0400
TZOFFSETTO:-0500
TZNAME:EST
DTSTART:20231105T060000
END:STANDARD
BEGIN:DAYLIGHT
TZOFFSETFROM:-0500
TZOFFSETTO:-0400
TZNAME:EDT
DTSTART:20240310T070000
END:DAYLIGHT
BEGIN:STANDARD
TZOFFSETFROM:-0400
TZOFFSETTO:-0500
TZNAME:EST
DTSTART:20241103T060000
END:STANDARD
END:VTIMEZONE
BEGIN:VTIMEZONE
TZID:UTC
BEGIN:STANDARD
TZOFFSETFROM:+0000
TZOFFSETTO:+0000
TZNAME:UTC
DTSTART:20220101T000000
END:STANDARD
END:VTIMEZONE
BEGIN:VEVENT
DTSTART;VALUE=DATE:20230404
DTEND;VALUE=DATE:20230522
DTSTAMP:20260419T142855
CREATED:20170822T171419Z
LAST-MODIFIED:20230313T140137Z
UID:10002969-1680566400-1684713599@www.atlantaparent.com
SUMMARY:Charlotte's Web at Center for Puppetry Arts
DESCRIPTION:Based on the classic novel\, Charlotte the spider uses her wits\, words and webs to save her friend Wilbur the pig. April 4-May 21. See website for showtimes. $22.
URL:https://www.atlantaparent.com/event/charlottes-web/
LOCATION:Center for Puppetry Arts\, 1404 Spring St. NW\, Atlanta
ATTACH;FMTTYPE=image/jpeg:https://www.atlantaparent.com/wp-content/uploads/2017/08/Charlottes-2-Rod-Reilly-2.jpg
GEO:33.7927782;-84.3897011
X-APPLE-STRUCTURED-LOCATION;VALUE=URI;X-ADDRESS=Center for Puppetry Arts 1404 Spring St. NW Atlanta;X-APPLE-RADIUS=500;X-TITLE=1404 Spring St. NW:geo:-84.3897011,33.7927782
END:VEVENT
BEGIN:VEVENT
DTSTART;TZID=America/New_York:20230408T100000
DTEND;TZID=America/New_York:20230408T120000
DTSTAMP:20260419T142855
CREATED:20230321T143618Z
LAST-MODIFIED:20230321T143618Z
UID:10006791-1680948000-1680955200@www.atlantaparent.com
SUMMARY:Easter Egg Hunt Extravaganza
DESCRIPTION:Kids of all ages will enjoy an egg hunt\, activities and family fun.
URL:https://www.atlantaparent.com/event/easter-egg-hunt-extravaganza/
LOCATION:Grayson City Park\, 475 Grayson Pkwy.\, Grayson
GEO:33.8933086;-83.9582399
X-APPLE-STRUCTURED-LOCATION;VALUE=URI;X-ADDRESS=Grayson City Park 475 Grayson Pkwy. Grayson;X-APPLE-RADIUS=500;X-TITLE=475 Grayson Pkwy.:geo:-83.9582399,33.8933086
END:VEVENT
BEGIN:VEVENT
DTSTART;TZID=America/New_York:20230408T100000
DTEND;TZID=America/New_York:20230408T123000
DTSTAMP:20260419T142855
CREATED:20230330T184502Z
LAST-MODIFIED:20230330T184502Z
UID:10006810-1680948000-1680957000@www.atlantaparent.com
SUMMARY:Family Easter Vigil and Egg Hunt
DESCRIPTION:Easter festivities include a special service\, crafts\, a petting zoo\, egg hunts divided by age groups and face painting.
URL:https://www.atlantaparent.com/event/family-easter-vigil-and-egg-hunt/
LOCATION:Lutheran Church of the Redeemer\, 731 Peachtree St.\,\, Atlanta
END:VEVENT
BEGIN:VEVENT
DTSTART;TZID=America/New_York:20230408T110000
DTEND;TZID=America/New_York:20230408T150000
DTSTAMP:20260419T142855
CREATED:20220331T160544Z
LAST-MODIFIED:20230316T164618Z
UID:10006323-1680951600-1680966000@www.atlantaparent.com
SUMMARY:Kids Easter Pizza Party & Pictures
DESCRIPTION:This Easter pizza party includes a buffet\, pictures with the Easter Bunny\, arts and crafts and more. $25; parents do not need to purchase tickets.
URL:https://www.atlantaparent.com/event/kids-easter-pizza-party-pictures/
LOCATION:Cosmo’s Pizza + Social\, 144 E. Crogan St.\, Lawrenceville
GEO:33.956041;-83.9876325
X-APPLE-STRUCTURED-LOCATION;VALUE=URI;X-ADDRESS=Cosmo’s Pizza + Social 144 E. Crogan St. Lawrenceville;X-APPLE-RADIUS=500;X-TITLE=144 E. Crogan St.:geo:-83.9876325,33.956041
END:VEVENT
BEGIN:VEVENT
DTSTART;TZID=America/New_York:20230408T120000
DTEND;TZID=America/New_York:20230408T140000
DTSTAMP:20260419T142855
CREATED:20230331T161835Z
LAST-MODIFIED:20230331T161835Z
UID:10006815-1680955200-1680962400@www.atlantaparent.com
SUMMARY:Community Easter Egg Hunt Eggstravaganza
DESCRIPTION:Enjoy an egg hunt\, bouncy house\, face painting\, balloon animals\, bubbles and more at this community celebration.
URL:https://www.atlantaparent.com/event/community-easter-egg-hunt-eggstravaganza/
LOCATION:Saint Mark United Methodist Church\, 781 Peachtree St. NE\, Atlanta
GEO:33.7759221;-84.3840758
X-APPLE-STRUCTURED-LOCATION;VALUE=URI;X-ADDRESS=Saint Mark United Methodist Church 781 Peachtree St. NE Atlanta;X-APPLE-RADIUS=500;X-TITLE=781 Peachtree St. NE:geo:-84.3840758,33.7759221
END:VEVENT
BEGIN:VEVENT
DTSTART;TZID=America/New_York:20230409T123000
DTEND;TZID=America/New_York:20230409T140000
DTSTAMP:20260419T142855
CREATED:20230316T163620Z
LAST-MODIFIED:20230316T163620Z
UID:10006793-1681043400-1681048800@www.atlantaparent.com
SUMMARY:Easter Family Fun Festival
DESCRIPTION:This family-friendly festival features 20\,000 candy-filled eggs\, face painting\, bounce houses and more. Free admission; registration required.
URL:https://www.atlantaparent.com/event/easter-family-fun-festival/
LOCATION:Phase Events\, 12150 Morris Rd.\, Alpharetta
GEO:34.0734911;-84.2678378
X-APPLE-STRUCTURED-LOCATION;VALUE=URI;X-ADDRESS=Phase Events 12150 Morris Rd. Alpharetta;X-APPLE-RADIUS=500;X-TITLE=12150 Morris Rd.:geo:-84.2678378,34.0734911
END:VEVENT
BEGIN:VEVENT
DTSTART;TZID=America/New_York:20230409T150000
DTEND;TZID=America/New_York:20230409T150000
DTSTAMP:20260419T142855
CREATED:20230403T165053Z
LAST-MODIFIED:20230403T165053Z
UID:10006814-1681052400-1681052400@www.atlantaparent.com
SUMMARY:Nakato Japanese Restaurant Easter Egg Hunt
DESCRIPTION:For ages 12 and younger\, participate in an egg hunt\, and one winner will receive a $100 gift card. Make a note on your reservation about how many children will be participating.
URL:https://www.atlantaparent.com/event/nakato-japanese-restaurant-easter-egg-hunt/
LOCATION:Nakato Japanese Restaurant\, 1776 Cheshire Bridge Rd. NE\, Atlanta
GEO:33.8087006;-84.3646788
X-APPLE-STRUCTURED-LOCATION;VALUE=URI;X-ADDRESS=Nakato Japanese Restaurant 1776 Cheshire Bridge Rd. NE Atlanta;X-APPLE-RADIUS=500;X-TITLE=1776 Cheshire Bridge Rd. NE:geo:-84.3646788,33.8087006
END:VEVENT
BEGIN:VEVENT
DTSTART;TZID=America/New_York:20230411T183000
DTEND;TZID=America/New_York:20230411T193000
DTSTAMP:20260419T142855
CREATED:20200806T142654Z
LAST-MODIFIED:20230328T142200Z
UID:10005360-1681237800-1681241400@www.atlantaparent.com
SUMMARY:Yoga by the Water
DESCRIPTION:Enjoy yoga classes led by local instructors in the Oceans Ballroom\, which has incredible views of manta rays and whale sharks. Doors open at 6 p.m. For ages 8 and older. $25.
URL:https://www.atlantaparent.com/event/yoga-by-the-water/
LOCATION:Georgia Aquarium\, 225 Baker St.\, Atlanta
GEO:33.7634237;-84.394891
X-APPLE-STRUCTURED-LOCATION;VALUE=URI;X-ADDRESS=Georgia Aquarium 225 Baker St. Atlanta;X-APPLE-RADIUS=500;X-TITLE=225 Baker St.:geo:-84.394891,33.7634237
END:VEVENT
BEGIN:VEVENT
DTSTART;VALUE=DATE:20230414
DTEND;VALUE=DATE:20230417
DTSTAMP:20260419T142855
CREATED:20230315T140119Z
LAST-MODIFIED:20230315T140119Z
UID:10006787-1681430400-1681689599@www.atlantaparent.com
SUMMARY:Treasure Island
DESCRIPTION:This thrilling musical is about pirates\, treasure maps and mutiny on the seas for a swashbuckling adventure. April 14-15\, 7:30 p.m. and April 16\, 2:30 p.m. $10-$15.
URL:https://www.atlantaparent.com/event/treasure-island/
LOCATION:Stage Door Theatre\, 5339 Chamblee Dunwoody Rd.\, Dunwoody
GEO:33.9446855;-84.3319777
X-APPLE-STRUCTURED-LOCATION;VALUE=URI;X-ADDRESS=Stage Door Theatre 5339 Chamblee Dunwoody Rd. Dunwoody;X-APPLE-RADIUS=500;X-TITLE=5339 Chamblee Dunwoody Rd.:geo:-84.3319777,33.9446855
END:VEVENT
BEGIN:VEVENT
DTSTART;VALUE=DATE:20230415
DTEND;VALUE=DATE:20230417
DTSTAMP:20260419T142855
CREATED:20230327T163540Z
LAST-MODIFIED:20230327T163540Z
UID:10006848-1681516800-1681689599@www.atlantaparent.com
SUMMARY:We Belong Here: Rising Against Asian Hate
DESCRIPTION:Presented by Atlanta Chinese Dance Company\, this performance showcases a collection of folk\, classical and contemporary Chinese dances. April 15\, 7:30 p.m. and April 16\, 2 p.m. $20-$25.
URL:https://www.atlantaparent.com/event/we-belong-here-rising-against-asian-hate/
LOCATION:Gas South District\, 6400 Sugarloaf Parkway\, Duluth
GEO:33.9913579;-84.0938603
X-APPLE-STRUCTURED-LOCATION;VALUE=URI;X-ADDRESS=Gas South District 6400 Sugarloaf Parkway Duluth;X-APPLE-RADIUS=500;X-TITLE=6400 Sugarloaf Parkway:geo:-84.0938603,33.9913579
END:VEVENT
BEGIN:VEVENT
DTSTART;TZID=America/New_York:20230415T113000
DTEND;TZID=America/New_York:20230415T113000
DTSTAMP:20260419T142855
CREATED:20190224T151843Z
LAST-MODIFIED:20230315T140431Z
UID:10003999-1681558200-1681558200@www.atlantaparent.com
SUMMARY:The Princess and the Pea\, Y'all
DESCRIPTION:Presented by That Puppet Guy\, the classic Hans Christian Andersen tale gets a Southern-fried makeover. $7.
URL:https://www.atlantaparent.com/event/the-princess-and-the-pea-yall/
LOCATION: Aurora Theatre\, 128 East Pike St.\, Lawrenceville
END:VEVENT
BEGIN:VEVENT
DTSTART;TZID=UTC:20230415T143000
DTEND;TZID=UTC:20230415T143000
DTSTAMP:20260419T142855
CREATED:20200127T050006Z
LAST-MODIFIED:20230417T124412Z
UID:10001815-1681569000-1681569000@www.atlantaparent.com
SUMMARY:Monster Energy Supercross
DESCRIPTION:Watch athletes compete as they race along the track. At the FanFest\, get an insider’s look as teams prepare\, practice and qualify with video game rigs\, toy play tables and more. Doors open at 8 a.m. $20-$95.
URL:https://www.atlantaparent.com/event/monster-energy-supercross/
LOCATION:EchoPark Speedway\, 1500 Tara Place\, Hampton
ATTACH;FMTTYPE=image/jpeg:https://www.atlantaparent.com/wp-content/uploads/2017/01/Supercross-Atlanta-2018-Riders-b.jpg
GEO:33.384517;-84.313377
X-APPLE-STRUCTURED-LOCATION;VALUE=URI;X-ADDRESS=EchoPark Speedway 1500 Tara Place Hampton;X-APPLE-RADIUS=500;X-TITLE=1500 Tara Place:geo:-84.313377,33.384517
END:VEVENT
BEGIN:VEVENT
DTSTART;VALUE=DATE:20230419
DTEND;VALUE=DATE:20230902
DTSTAMP:20260419T142855
CREATED:20230330T145923Z
LAST-MODIFIED:20230821T192027Z
UID:10006811-1681862400-1693612799@www.atlantaparent.com
SUMMARY:Art of the Brick Immersive Experience
DESCRIPTION:This iconic LEGO art exhibit features more than 70 works of art made from more than a million bricks. $33.90+; ages 4-12\, $20.90+; ages 3 and younger\, free.
URL:https://www.atlantaparent.com/event/art-of-the-brick-immersive-experience/
LOCATION:Exhibition Hub\, Atlanta Art Center\, 5660 Buford Hwy. NE\, Atlanta
GEO:33.9070243;-84.2711871
X-APPLE-STRUCTURED-LOCATION;VALUE=URI;X-ADDRESS=Exhibition Hub Atlanta Art Center 5660 Buford Hwy. NE Atlanta;X-APPLE-RADIUS=500;X-TITLE=5660 Buford Hwy. NE:geo:-84.2711871,33.9070243
END:VEVENT
BEGIN:VEVENT
DTSTART;TZID=America/New_York:20230420T080000
DTEND;TZID=America/New_York:20230420T170000
DTSTAMP:20260419T142855
CREATED:20230420T145207Z
LAST-MODIFIED:20230420T145207Z
UID:10006831-1681977600-1682010000@www.atlantaparent.com
SUMMARY:KiDsGyM USA's Annual Olympic Day Celebration
DESCRIPTION:This two-day event celebrates local children and youth for their commitment to better health through regular physical fitness and sports participation. May 19\, 5-8:30 p.m. and May 20\, 10 a.m.-3 p.m. Free with limited seating.
URL:https://www.atlantaparent.com/event/kidsgym-usas-annual-olympic-day-celebration/
LOCATION:Conley Recreation Center\, 3636 College St.\, College Park
GEO:33.6559166;-84.4508636
X-APPLE-STRUCTURED-LOCATION;VALUE=URI;X-ADDRESS=Conley Recreation Center 3636 College St. College Park;X-APPLE-RADIUS=500;X-TITLE=3636 College St.:geo:-84.4508636,33.6559166
END:VEVENT
BEGIN:VEVENT
DTSTART;TZID=America/New_York:20230420T170000
DTEND;TZID=America/New_York:20230420T210000
DTSTAMP:20260419T142855
CREATED:20210601T105039Z
LAST-MODIFIED:20230202T151210Z
UID:10004220-1682010000-1682024400@www.atlantaparent.com
SUMMARY:Alive in Roswell Festival
DESCRIPTION:This family-friendly festival is held every third Thursday from April to October. Free admission.
URL:https://www.atlantaparent.com/event/alive-in-roswell-festival/2023-04-20/
LOCATION:Historic Downtown Roswell
END:VEVENT
BEGIN:VEVENT
DTSTART;VALUE=DATE:20230421
DTEND;VALUE=DATE:20230423
DTSTAMP:20260419T142855
CREATED:20230313T140843Z
LAST-MODIFIED:20230313T140843Z
UID:10006789-1682035200-1682207999@www.atlantaparent.com
SUMMARY:The Music Man JR.
DESCRIPTION:Presented by Roswell Youth Theatre\, this adaptation of the Broadway musical shows a fast-talking salesman falling in love with a town librarian. April 21\, 7 p.m. and April 22\, 2 and 7 p.m. $15.
URL:https://www.atlantaparent.com/event/the-music-man-jr/
LOCATION:Roswell Cultural Arts Center\, 950 Forest St.\, Roswell
GEO:34.0234904;-84.3578365
X-APPLE-STRUCTURED-LOCATION;VALUE=URI;X-ADDRESS=Roswell Cultural Arts Center 950 Forest St. Roswell;X-APPLE-RADIUS=500;X-TITLE=950 Forest St.:geo:-84.3578365,34.0234904
END:VEVENT
BEGIN:VEVENT
DTSTART;VALUE=DATE:20230421
DTEND;VALUE=DATE:20230423
DTSTAMP:20260419T142855
CREATED:20230324T141948Z
LAST-MODIFIED:20230324T141948Z
UID:10006843-1682035200-1682207999@www.atlantaparent.com
SUMMARY:The Seedling
DESCRIPTION:Presented by Kennesaw State University and Smith-Gilbert Gardens\, enjoy an interactive\, immersive outdoor theatrical experience for ages 0-8. April 21\, 22\, 28 and 29. Fri.-Sat. 10 a.m. and Sat. 1:30 p.m.
URL:https://www.atlantaparent.com/event/the-seedling/2023-04-21/
LOCATION:Smith-Gilbert Gardens\, 2382 Pine Mountain Rd.\, Kennesaw
GEO:34.0094229;-84.6309314
X-APPLE-STRUCTURED-LOCATION;VALUE=URI;X-ADDRESS=Smith-Gilbert Gardens 2382 Pine Mountain Rd. Kennesaw;X-APPLE-RADIUS=500;X-TITLE=2382 Pine Mountain Rd.:geo:-84.6309314,34.0094229
END:VEVENT
BEGIN:VEVENT
DTSTART;VALUE=DATE:20230421
DTEND;VALUE=DATE:20230423
DTSTAMP:20260419T142855
CREATED:20230420T143644Z
LAST-MODIFIED:20230420T143644Z
UID:10006832-1682035200-1682207999@www.atlantaparent.com
SUMMARY:EMERGE
DESCRIPTION:Gwinnett Ballet Theatre presents this intimate\, immersive in-studio performance for new and beautiful choreography. April 21\, 7 p.m.; April 22\, 2 and 7 p.m. $15-$20.
URL:https://www.atlantaparent.com/event/emerge/
LOCATION:Sugarloaf Performing Arts Center\, 1070 Northbrook Pkwy.\, Suwanee
GEO:34.0111061;-84.0640756
X-APPLE-STRUCTURED-LOCATION;VALUE=URI;X-ADDRESS=Sugarloaf Performing Arts Center 1070 Northbrook Pkwy. Suwanee;X-APPLE-RADIUS=500;X-TITLE=1070 Northbrook Pkwy.:geo:-84.0640756,34.0111061
END:VEVENT
BEGIN:VEVENT
DTSTART;VALUE=DATE:20230422
DTEND;VALUE=DATE:20230522
DTSTAMP:20260419T142855
CREATED:20230331T141025Z
LAST-MODIFIED:20230331T141025Z
UID:10006816-1682121600-1684713599@www.atlantaparent.com
SUMMARY:Georgia Bird Fest
DESCRIPTION:This full month of activities includes guided field trips to Georgia’s best birding hotspots\, nature-based workshops\, guest speakers and more. See website for schedule and pricing.
URL:https://www.atlantaparent.com/event/georgia-bird-fest/
END:VEVENT
BEGIN:VEVENT
DTSTART;TZID=America/New_York:20230422T090000
DTEND;TZID=America/New_York:20230422T110000
DTSTAMP:20260419T142855
CREATED:20230413T131105Z
LAST-MODIFIED:20230413T131105Z
UID:10006820-1682154000-1682161200@www.atlantaparent.com
SUMMARY:Earth Day Litter Clean-Up
DESCRIPTION:Help the earth by cleaning up Dresden Park\, Keswick Park or Huntley Hills Park with the City of Chamblee and Keep Chamblee Beautiful. Register online.
URL:https://www.atlantaparent.com/event/earth-day-litter-clean-up/
END:VEVENT
BEGIN:VEVENT
DTSTART;TZID=America/New_York:20230422T100000
DTEND;TZID=America/New_York:20230422T110000
DTSTAMP:20260419T142855
CREATED:20200720T165739Z
LAST-MODIFIED:20230810T144647Z
UID:10005140-1682157600-1682161200@www.atlantaparent.com
SUMMARY:Goat Yoga
DESCRIPTION:Get active under the sun and practice yoga in the presence of cute goats. For ages 16 and older. Sat. 10-11 a.m. $40.
URL:https://www.atlantaparent.com/event/goat-yoga/2023-04-22/
LOCATION:Serenbe Farms\, 10950 Hutcheson Ferry Rd.\, Chattahoochee Hills\, GA
GEO:33.5285709;-84.7439209
X-APPLE-STRUCTURED-LOCATION;VALUE=URI;X-ADDRESS=Serenbe Farms 10950 Hutcheson Ferry Rd. Chattahoochee Hills GA;X-APPLE-RADIUS=500;X-TITLE=10950 Hutcheson Ferry Rd.:geo:-84.7439209,33.5285709
END:VEVENT
BEGIN:VEVENT
DTSTART;TZID=America/New_York:20230422T100000
DTEND;TZID=America/New_York:20230422T160000
DTSTAMP:20260419T142855
CREATED:20220314T163355Z
LAST-MODIFIED:20230413T122848Z
UID:10006255-1682157600-1682179200@www.atlantaparent.com
SUMMARY:Free Community Day
DESCRIPTION:Roswell’s four historic house museums will open their doors for free for Earth Day\, and watch open-hearth cooking demonstrations. Free admission.
URL:https://www.atlantaparent.com/event/roswell-earth-fair/
END:VEVENT
BEGIN:VEVENT
DTSTART;TZID=America/New_York:20230422T100000
DTEND;TZID=America/New_York:20230422T180000
DTSTAMP:20260419T142855
CREATED:20220314T163527Z
LAST-MODIFIED:20230324T135049Z
UID:10006303-1682157600-1682186400@www.atlantaparent.com
SUMMARY:Atlanta Green Market Fair
DESCRIPTION:This pop-up market features Atlanta’s most sustainable\, up-and-coming consumer brands. Free admission.
URL:https://www.atlantaparent.com/event/atlanta-green-market-fair/
LOCATION:Ponce City Market\, 675 Ponce de Leon Ave.\, NE\, Atlanta\, GA\, 30308
GEO:33.7730452;-84.3655687
X-APPLE-STRUCTURED-LOCATION;VALUE=URI;X-ADDRESS=Ponce City Market 675 Ponce de Leon Ave. NE Atlanta GA 30308;X-APPLE-RADIUS=500;X-TITLE=675 Ponce de Leon Ave.\, NE:geo:-84.3655687,33.7730452
END:VEVENT
BEGIN:VEVENT
DTSTART;TZID=America/New_York:20230422T190000
DTEND;TZID=America/New_York:20230422T210000
DTSTAMP:20260419T142855
CREATED:20180427T031020Z
LAST-MODIFIED:20230327T151633Z
UID:10003510-1682190000-1682197200@www.atlantaparent.com
SUMMARY:Roswell Riverside Sounds
DESCRIPTION:Food trucks and live music. Free. \n\nApril 22: Zach Person\nMay 27: Early James\nJune 24: The Deslondes\nJuly 22: Temi Neilson\nAug. 26: Jake La Botz\nSept. 23: Jackie Venson
URL:https://www.atlantaparent.com/event/roswell-riverside-sounds/2023-04-22/
LOCATION:Riverside Park\, 575 Riverside Road\, Roswell
GEO:34.0062623;-84.346725
X-APPLE-STRUCTURED-LOCATION;VALUE=URI;X-ADDRESS=Riverside Park 575 Riverside Road Roswell;X-APPLE-RADIUS=500;X-TITLE=575 Riverside Road:geo:-84.346725,34.0062623
END:VEVENT
BEGIN:VEVENT
DTSTART;VALUE=DATE:20230427
DTEND;VALUE=DATE:20230501
DTSTAMP:20260419T142855
CREATED:20230329T125240Z
LAST-MODIFIED:20240419T124502Z
UID:10006812-1682553600-1682899199@www.atlantaparent.com
SUMMARY:Bodacious Blooms Flower Festival
DESCRIPTION:Celebrate spring with vibrant floral installations\, floral workshops\, botanical markets\, photo opportunities and more. $0-$225.
URL:https://www.atlantaparent.com/event/bodacious-blooms-flower-festival/
LOCATION:Buckhead Village\, Peachtree Rd. NE\, Atlanta
ATTACH;FMTTYPE=image/png:https://www.atlantaparent.com/wp-content/uploads/2023/03/Bodacious-e1713530692217.png
END:VEVENT
BEGIN:VEVENT
DTSTART;VALUE=DATE:20230428
DTEND;VALUE=DATE:20230501
DTSTAMP:20260419T142855
CREATED:20230315T141046Z
LAST-MODIFIED:20230315T141046Z
UID:10006829-1682640000-1682899199@www.atlantaparent.com
SUMMARY:Atlanta Dance Company Presents Twelve Dancing Princesses
DESCRIPTION:Cass Lievsay \nBased on the tale from the Brothers Grimm\, view the story of the twelve dancing princesses through ballet\, cancan\, polka\, waltz and Irish dancing. April 28\, 7 p.m.; April 29\, 2 and 7 p.m. and April 30\, 2 p.m. $20-$25; ages 17 and younger\, $15-$20.
URL:https://www.atlantaparent.com/event/atlanta-dance-company-presents-twelve-dancing-princesses/
LOCATION:Red Clay Music Foundry\, 3116 Main St.\, Duluth
ATTACH;FMTTYPE=image/jpeg:https://www.atlantaparent.com/wp-content/uploads/2023/03/12-Dancing-Princesses-Credit-Cass-Lievsay-scaled-e1678889418239.jpg
END:VEVENT
BEGIN:VEVENT
DTSTART;VALUE=DATE:20230429
DTEND;VALUE=DATE:20230430
DTSTAMP:20260419T142855
CREATED:20210301T201947Z
LAST-MODIFIED:20230420T181615Z
UID:10002560-1682726400-1682812799@www.atlantaparent.com
SUMMARY:Healthy Kids Day Family Festival
DESCRIPTION:18 metro Atlanta locations will celebrate healthy kids with a live DJ\, family exercise demos\, obstacle courses\, games\, activities\, inflatables\, food and more. Registration requested. See website for locations and times.
URL:https://www.atlantaparent.com/event/ymca-healthy-kids-day/
ATTACH;FMTTYPE=image/jpeg:https://www.atlantaparent.com/wp-content/uploads/2017/04/iStock-514734540-2.jpg
END:VEVENT
BEGIN:VEVENT
DTSTART;VALUE=DATE:20230429
DTEND;VALUE=DATE:20230430
DTSTAMP:20260419T142855
CREATED:20230420T141515Z
LAST-MODIFIED:20230420T141515Z
UID:10006822-1682726400-1682812799@www.atlantaparent.com
SUMMARY:Mary Poppins The Ballet
DESCRIPTION:From the Buford School of Ballet\, watch Mary Poppins and the Banks children travel down Cherry Tree Lane and meet fascinating characters. April 29\, 8 and 10 a.m.\, noon and 2 and 4 p.m.; May 5\, 6:30 p.m.; May 6\, 10 a.m. and 2 and 6 p.m.; and May 7\, 2 p.m. $24.
URL:https://www.atlantaparent.com/event/mary-poppins-the-ballet/2023-04-29/
LOCATION:Gas South District\, 6400 Sugarloaf Parkway\, Duluth
GEO:33.9913579;-84.0938603
X-APPLE-STRUCTURED-LOCATION;VALUE=URI;X-ADDRESS=Gas South District 6400 Sugarloaf Parkway Duluth;X-APPLE-RADIUS=500;X-TITLE=6400 Sugarloaf Parkway:geo:-84.0938603,33.9913579
END:VEVENT
BEGIN:VEVENT
DTSTART;VALUE=DATE:20230429
DTEND;VALUE=DATE:20230501
DTSTAMP:20260419T142855
CREATED:20220316T132213Z
LAST-MODIFIED:20230324T140837Z
UID:10006261-1682726400-1682899199@www.atlantaparent.com
SUMMARY:Hansel & Gretel
DESCRIPTION:Suwanee Ballet will perform an original story ballet of the tale of Hansel & Gretel. The pre-show features a full range of dances. April 29\, 2 and 6:30 p.m. and April 30\, 2 p.m. $18.
URL:https://www.atlantaparent.com/event/swan-queen/
LOCATION:Sylvia Beard Theatre\, 2200 Buford Hwy NE\, Buford\, GA
GEO:34.1147117;-83.9964971
X-APPLE-STRUCTURED-LOCATION;VALUE=URI;X-ADDRESS=Sylvia Beard Theatre 2200 Buford Hwy NE Buford GA;X-APPLE-RADIUS=500;X-TITLE=2200 Buford Hwy NE:geo:-83.9964971,34.1147117
END:VEVENT
BEGIN:VEVENT
DTSTART;TZID=UTC:20230429T100000
DTEND;TZID=UTC:20230429T140000
DTSTAMP:20260419T142855
CREATED:20190322T211918Z
LAST-MODIFIED:20230324T142350Z
UID:10002415-1682762400-1682776800@www.atlantaparent.com
SUMMARY:All About Kids Expo
DESCRIPTION:Enjoy fun for the whole family with activities for kids\, a kids’ talent show\, health and wellness screenings\, face painting and more. The first 300 kids will receive a string backpack filled with goodies. Registration requested. April 29\, 10 a.m.-2 p.m. Free admission.
URL:https://www.atlantaparent.com/event/all-about-kids-expo/
LOCATION:Gwinnett County Fairgrounds\, 2405 Sugarloaf Pkwy.\, Lawrenceville
ATTACH;FMTTYPE=image/jpeg:https://www.atlantaparent.com/wp-content/uploads/2019/02/all-about-kids-expo-b8865.jpg
END:VEVENT
END:VCALENDAR