BEGIN:VCALENDAR
VERSION:2.0
PRODID:-//NEW Atlanta Parent - ECPv6.15.11//NONSGML v1.0//EN
CALSCALE:GREGORIAN
METHOD:PUBLISH
X-ORIGINAL-URL:https://www.atlantaparent.com
X-WR-CALDESC:Events for NEW Atlanta Parent
REFRESH-INTERVAL;VALUE=DURATION:PT1H
X-Robots-Tag:noindex
X-PUBLISHED-TTL:PT1H
BEGIN:VTIMEZONE
TZID:America/New_York
BEGIN:DAYLIGHT
TZOFFSETFROM:-0500
TZOFFSETTO:-0400
TZNAME:EDT
DTSTART:20220313T070000
END:DAYLIGHT
BEGIN:STANDARD
TZOFFSETFROM:-0400
TZOFFSETTO:-0500
TZNAME:EST
DTSTART:20221106T060000
END:STANDARD
BEGIN:DAYLIGHT
TZOFFSETFROM:-0500
TZOFFSETTO:-0400
TZNAME:EDT
DTSTART:20230312T070000
END:DAYLIGHT
BEGIN:STANDARD
TZOFFSETFROM:-0400
TZOFFSETTO:-0500
TZNAME:EST
DTSTART:20231105T060000
END:STANDARD
BEGIN:DAYLIGHT
TZOFFSETFROM:-0500
TZOFFSETTO:-0400
TZNAME:EDT
DTSTART:20240310T070000
END:DAYLIGHT
BEGIN:STANDARD
TZOFFSETFROM:-0400
TZOFFSETTO:-0500
TZNAME:EST
DTSTART:20241103T060000
END:STANDARD
BEGIN:DAYLIGHT
TZOFFSETFROM:-0500
TZOFFSETTO:-0400
TZNAME:EDT
DTSTART:20250309T070000
END:DAYLIGHT
BEGIN:STANDARD
TZOFFSETFROM:-0400
TZOFFSETTO:-0500
TZNAME:EST
DTSTART:20251102T060000
END:STANDARD
END:VTIMEZONE
BEGIN:VEVENT
DTSTART;VALUE=DATE:20230323
DTEND;VALUE=DATE:20230327
DTSTAMP:20260419T125329
CREATED:20260130T145539Z
LAST-MODIFIED:20260220T182935Z
UID:10006758-1679529600-1679875199@www.atlantaparent.com
SUMMARY:Georgia Food + Wine Festival
DESCRIPTION:Presented by Georgia Grown\, this festival celebrates the best of Georgian and Southern food and drinks with culinary experts\, artisans\, live musicians and more. “Sunday/Funday” is family-friendly with a Kids Zone\, chef demos and shopping. March 27-29. See website for schedule. Sunday/Funday\, $22.07; other events\, $79.95-$158.89.
URL:https://www.atlantaparent.com/event/georgia-food-wine-festival/
LOCATION:Jim R. Miller Park\, 2245 Callaway Road\, Marietta
GEO:33.8987756;-84.5907024
X-APPLE-STRUCTURED-LOCATION;VALUE=URI;X-ADDRESS=Jim R. Miller Park 2245 Callaway Road Marietta;X-APPLE-RADIUS=500;X-TITLE=2245 Callaway Road:geo:-84.5907024,33.8987756
END:VEVENT
BEGIN:VEVENT
DTSTART;TZID=America/New_York:20230323T110000
DTEND;TZID=America/New_York:20230324T110000
DTSTAMP:20260419T125329
CREATED:20220829T134203Z
LAST-MODIFIED:20230316T192708Z
UID:10006553-1679569200-1679655600@www.atlantaparent.com
SUMMARY:Peter and the Wolf
DESCRIPTION:From the Terminus Ballet Theatre and Alliance Theatre\, watch this beloved children’s tale come to life. March 23-24\, 11 a.m. Free admission; registration required.
URL:https://www.atlantaparent.com/event/peter-and-the-wolf-2/
LOCATION:Woodruff Art Center’s Sifly Piazza\, 1280 Peachtree St. NE\, Atlanta
ATTACH;FMTTYPE=image/jpeg:https://www.atlantaparent.com/wp-content/uploads/2022/08/2B4A1065-scaled-e1678994750847.jpg
GEO:33.79008;-84.385671
X-APPLE-STRUCTURED-LOCATION;VALUE=URI;X-ADDRESS=Woodruff Art Center’s Sifly Piazza 1280 Peachtree St. NE Atlanta;X-APPLE-RADIUS=500;X-TITLE=1280 Peachtree St. NE:geo:-84.385671,33.79008
END:VEVENT
BEGIN:VEVENT
DTSTART;VALUE=DATE:20230325
DTEND;VALUE=DATE:20240226
DTSTAMP:20260419T125329
CREATED:20230221T153404Z
LAST-MODIFIED:20230628T204712Z
UID:10006774-1679702400-1708905599@www.atlantaparent.com
SUMMARY:Electricity: Powering the World
DESCRIPTION:Explore how the use of electricity has revolutionized our lives by making your own electricity\, completing an electrical circuit and more. $19; ages 3-17\, $15; ages 2 and younger\, free.
URL:https://www.atlantaparent.com/event/electricity-powering-the-world/
LOCATION:Tellus Science Museum\, 100 Tellus Drive\, Cartersville
GEO:34.2418518;-84.7706004
X-APPLE-STRUCTURED-LOCATION;VALUE=URI;X-ADDRESS=Tellus Science Museum 100 Tellus Drive Cartersville;X-APPLE-RADIUS=500;X-TITLE=100 Tellus Drive:geo:-84.7706004,34.2418518
END:VEVENT
BEGIN:VEVENT
DTSTART;TZID=America/New_York:20230325T093000
DTEND;TZID=America/New_York:20230325T170000
DTSTAMP:20260419T125330
CREATED:20210214T151257Z
LAST-MODIFIED:20230217T155740Z
UID:10004950-1679736600-1679763600@www.atlantaparent.com
SUMMARY:Women’s History Month Celebration
DESCRIPTION:Commemorate Women’s History Month with educational presentations and artifact displays. $10; ages 3-17\, $5; ages 2 and younger\, free.
URL:https://www.atlantaparent.com/event/womens-history-month-celebration/
LOCATION:Southern Museum of Civil War and Locomotive History\, 2829 Cherokee St.\, Kennesaw
ATTACH;FMTTYPE=image/jpeg:https://www.atlantaparent.com/wp-content/uploads/2020/02/Spinners2-scaled-e1582557162418.jpg
GEO:34.0242075;-84.6142383
X-APPLE-STRUCTURED-LOCATION;VALUE=URI;X-ADDRESS=Southern Museum of Civil War and Locomotive History 2829 Cherokee St. Kennesaw;X-APPLE-RADIUS=500;X-TITLE=2829 Cherokee St.:geo:-84.6142383,34.0242075
END:VEVENT
BEGIN:VEVENT
DTSTART;TZID=America/New_York:20230325T113000
DTEND;TZID=America/New_York:20230325T113000
DTSTAMP:20260419T125330
CREATED:20220221T180825Z
LAST-MODIFIED:20230217T155030Z
UID:10006240-1679743800-1679743800@www.atlantaparent.com
SUMMARY:Funny Folktales and Silly Stories
DESCRIPTION:From storyteller Chetter Galloway\, listen to the tales of sneaky\, clever\, greedy and wise characters with energy\, animation and audience participation. March 25\, 11:30 a.m. $7.
URL:https://www.atlantaparent.com/event/funny-folktales-and-silly-stories/
LOCATION: Aurora Theatre\, 128 East Pike St.\, Lawrenceville
END:VEVENT
BEGIN:VEVENT
DTSTART;TZID=America/New_York:20230325T173000
DTEND;TZID=America/New_York:20230325T190000
DTSTAMP:20260419T125330
CREATED:20230322T141733Z
LAST-MODIFIED:20230322T141733Z
UID:10006801-1679765400-1679770800@www.atlantaparent.com
SUMMARY:JO Easter Egg Drop
DESCRIPTION:Three different egg drops based on age groups for ages 1-3\, 4-8 and 9-12\, as well as a magician\, face painting\, balloon art and more.
URL:https://www.atlantaparent.com/event/jo-easter-egg-drop/
LOCATION:Mount Paran North\, 1700 Allgood Rd.\, Marietta
GEO:33.9813906;-84.5027906
X-APPLE-STRUCTURED-LOCATION;VALUE=URI;X-ADDRESS=Mount Paran North 1700 Allgood Rd. Marietta;X-APPLE-RADIUS=500;X-TITLE=1700 Allgood Rd.:geo:-84.5027906,33.9813906
END:VEVENT
BEGIN:VEVENT
DTSTART;TZID=America/New_York:20230327T133000
DTEND;TZID=America/New_York:20230327T133000
DTSTAMP:20260419T125330
CREATED:20220314T163955Z
LAST-MODIFIED:20230324T141059Z
UID:10006308-1679923800-1679923800@www.atlantaparent.com
SUMMARY:Movie Monday
DESCRIPTION:Enjoy a free movie and light refreshments every second and fourth Monday. Movies start at 1:30 and 6:30 p.m.
URL:https://www.atlantaparent.com/event/movie-monday/2023-03-27/
LOCATION:Norcross Cultural Arts & Community Center\, 10 College St. NW\, Norcross
GEO:33.9421037;-84.2109764
X-APPLE-STRUCTURED-LOCATION;VALUE=URI;X-ADDRESS=Norcross Cultural Arts & Community Center 10 College St. NW Norcross;X-APPLE-RADIUS=500;X-TITLE=10 College St. NW:geo:-84.2109764,33.9421037
END:VEVENT
BEGIN:VEVENT
DTSTART;TZID=America/New_York:20230327T193000
DTEND;TZID=America/New_York:20230327T193000
DTSTAMP:20260419T125330
CREATED:20230313T133908Z
LAST-MODIFIED:20230313T133908Z
UID:10006780-1679945400-1679945400@www.atlantaparent.com
SUMMARY:Cheers to the Mouse! A Disney-Themed Cabaret
DESCRIPTION:Hosted by Remedy Theatre Project\, enjoy Disney and Disney-owned music by some of Atlanta’s best vocal talent. $10.
URL:https://www.atlantaparent.com/event/cheers-to-the-mouse-a-disney-themed-cabaret/
LOCATION:Shakespeare Tavern Playhouse\, 499 Peachtree Street\, Atlanta
GEO:33.7681947;-84.3849252
X-APPLE-STRUCTURED-LOCATION;VALUE=URI;X-ADDRESS=Shakespeare Tavern Playhouse 499 Peachtree Street Atlanta;X-APPLE-RADIUS=500;X-TITLE=499 Peachtree Street:geo:-84.3849252,33.7681947
END:VEVENT
BEGIN:VEVENT
DTSTART;TZID=America/New_York:20230329T170000
DTEND;TZID=America/New_York:20230329T190000
DTSTAMP:20260419T125330
CREATED:20200210T050025Z
LAST-MODIFIED:20230217T180723Z
UID:10004106-1680109200-1680116400@www.atlantaparent.com
SUMMARY:RUMC Kids Easter Egg Hunt
DESCRIPTION:This annual hunt includes petting zoo\, face painting\, inflatables and more.
URL:https://www.atlantaparent.com/event/easter-egg-hunt-at-roswell-umc/
LOCATION:Roswell United Methodist Church\, 814 Mimosa Blvd.\, Roswell
GEO:34.0208203;-84.3639906
X-APPLE-STRUCTURED-LOCATION;VALUE=URI;X-ADDRESS=Roswell United Methodist Church 814 Mimosa Blvd. Roswell;X-APPLE-RADIUS=500;X-TITLE=814 Mimosa Blvd.:geo:-84.3639906,34.0208203
END:VEVENT
BEGIN:VEVENT
DTSTART;VALUE=DATE:20230330
DTEND;VALUE=DATE:20230402
DTSTAMP:20260419T125330
CREATED:20220708T152053Z
LAST-MODIFIED:20230217T155427Z
UID:10006485-1680134400-1680393599@www.atlantaparent.com
SUMMARY:Mary Poppins
DESCRIPTION:  \nAbigail Photos \nRoswell Dance Theatre presents this tale of the magical nanny as she takes care of the Banks children. March 30-31\, 7 p.m. and April 1\, 11 a.m. and 2 p.m. $25.
URL:https://www.atlantaparent.com/event/mary-poppins-2/
LOCATION:Byers Theatre\, 1 Galambos Way\, Sandy Springs
ATTACH;FMTTYPE=image/jpeg:https://www.atlantaparent.com/wp-content/uploads/2022/07/MaryPoppins_for-City-Springs-V2-scaled-e1676649169890.jpg
END:VEVENT
BEGIN:VEVENT
DTSTART;VALUE=DATE:20230331
DTEND;VALUE=DATE:20230401
DTSTAMP:20260419T125330
CREATED:20230313T160840Z
LAST-MODIFIED:20230327T123803Z
UID:10006788-1680220800-1680307199@www.atlantaparent.com
SUMMARY:Grand Opening of LEGO Discovery Center Atlanta
DESCRIPTION:North America’s first next-gen LEGO® Discovery Center opens Friday\, March 31 right here in Atlanta\, and it’s going to be BRICKTASTIC! Tickets starting at $28.99.
URL:https://www.atlantaparent.com/event/lego-discovery-center-reopening/
LOCATION:LEGO Discovery Center at Phipps Plaza\, 3500 Peachtree Rd. Suite G-1\, Atlanta
ATTACH;FMTTYPE=image/jpeg:https://www.atlantaparent.com/wp-content/uploads/2023/03/Duploroundabout-smaller-scaled-e1678723450731.jpg
END:VEVENT
BEGIN:VEVENT
DTSTART;TZID=America/New_York:20230331T180000
DTEND;TZID=America/New_York:20230331T180000
DTSTAMP:20260419T125330
CREATED:20230224T162317Z
LAST-MODIFIED:20230224T162317Z
UID:10006771-1680285600-1680285600@www.atlantaparent.com
SUMMARY:Movie Night at The Camp
DESCRIPTION:Bring blankets and chairs to watch “The Bad Guys\,” and enjoy cotton candy and popcorn from Cosmic Candy.
URL:https://www.atlantaparent.com/event/movie-night-at-the-camp/
LOCATION:The Works\, 1235 Chattahoochee Ave. NW\, Atlanta
GEO:33.8022496;-84.4285908
X-APPLE-STRUCTURED-LOCATION;VALUE=URI;X-ADDRESS=The Works 1235 Chattahoochee Ave. NW Atlanta;X-APPLE-RADIUS=500;X-TITLE=1235 Chattahoochee Ave. NW:geo:-84.4285908,33.8022496
END:VEVENT
BEGIN:VEVENT
DTSTART;VALUE=DATE:20230401
DTEND;VALUE=DATE:20230402
DTSTAMP:20260419T125330
CREATED:20210323T153408Z
LAST-MODIFIED:20230323T133410Z
UID:10005688-1680307200-1680393599@www.atlantaparent.com
SUMMARY:EGGstravaganza
DESCRIPTION:Hunt for eggs\, visit with the Easter Bunny and other characters\, and play in the fun park area featuring a “hey”ride\, petting zoo\, inflatables and more. April 1 and 8\, 11 a.m.\, 12:30\, 2 and 3:30 p.m. and April 7\, 6 and 7:30 p.m. $11.95; ages 3 and younger\, free.
URL:https://www.atlantaparent.com/event/eggstravaganza-2021/2023-04-01/
LOCATION:Warbington Farms\, 5555 Crow Rd.\,\, Cumming
END:VEVENT
BEGIN:VEVENT
DTSTART;VALUE=DATE:20230401
DTEND;VALUE=DATE:20230410
DTSTAMP:20260419T125330
CREATED:20200212T050045Z
LAST-MODIFIED:20230306T134916Z
UID:10002669-1680307200-1681084799@www.atlantaparent.com
SUMMARY:Easter Bunny at Bass Pro Shops 
DESCRIPTION:Celebrate Easter by taking free photos with the Easter Bunny. Reservation required; opens March 25. April 1-9. See website for hours. Packages\, $15-$20.
URL:https://www.atlantaparent.com/event/easter-fun-bass-pro-shops/
LOCATION:Bass Pro Shops\, 5900 Sugarloaf Parkway\, Lawrenceville
GEO:33.9807833;-84.0808711
X-APPLE-STRUCTURED-LOCATION;VALUE=URI;X-ADDRESS=Bass Pro Shops 5900 Sugarloaf Parkway Lawrenceville;X-APPLE-RADIUS=500;X-TITLE=5900 Sugarloaf Parkway:geo:-84.0808711,33.9807833
END:VEVENT
BEGIN:VEVENT
DTSTART;VALUE=DATE:20230401
DTEND;VALUE=DATE:20230416
DTSTAMP:20260419T125330
CREATED:20230313T135839Z
LAST-MODIFIED:20230313T135839Z
UID:10006821-1680307200-1681603199@www.atlantaparent.com
SUMMARY:The Boy Who Kissed the Sky
DESCRIPTION:This musical is inspired by the early life and influences of musical icon Jimi Hendrix. Recommended for ages 8 and older. April 1-15. See website for showtimes. $24-$42.
URL:https://www.atlantaparent.com/event/the-boy-who-kissed-the-sky/
LOCATION:Alliance Theatre\, 1280 Peachtree Street\, Atlanta
END:VEVENT
BEGIN:VEVENT
DTSTART;TZID=America/New_York:20230401T100000
DTEND;TZID=America/New_York:20230401T140000
DTSTAMP:20260419T125330
CREATED:20200309T180112Z
LAST-MODIFIED:20230217T175118Z
UID:10004975-1680343200-1680357600@www.atlantaparent.com
SUMMARY:Easter Egg Scramble
DESCRIPTION:Families can enjoy separate egg-hunting areas for different age groups.
URL:https://www.atlantaparent.com/event/easter-egg-scramble-2/
LOCATION:Blackburn Park\, 3493 Ashford Dunwoody Road\, Brookhaven
GEO:33.8969723;-84.3285669
X-APPLE-STRUCTURED-LOCATION;VALUE=URI;X-ADDRESS=Blackburn Park 3493 Ashford Dunwoody Road Brookhaven;X-APPLE-RADIUS=500;X-TITLE=3493 Ashford Dunwoody Road:geo:-84.3285669,33.8969723
END:VEVENT
BEGIN:VEVENT
DTSTART;TZID=America/New_York:20230401T110000
DTEND;TZID=America/New_York:20230401T130000
DTSTAMP:20260419T125330
CREATED:20230308T173534Z
LAST-MODIFIED:20230310T134815Z
UID:10006781-1680346800-1680354000@www.atlantaparent.com
SUMMARY:Easter Block Party
DESCRIPTION:Bring your Easter baskets for an egg hunt\, photos with the Easter Bunny\, games\, DJ\, line dancing and a family picnic. Free admission.
URL:https://www.atlantaparent.com/event/easter-block-party/
LOCATION:Unity Atlanta Church\, 3597 Parkway Lane\, Peachtree Corners
ATTACH;FMTTYPE=image/jpeg:https://www.atlantaparent.com/wp-content/uploads/2023/03/Unity-Atlanta-Church-Easter-Bunny-1-Cr-scaled-e1678456079329.jpg
GEO:33.9629836;-84.2332308
X-APPLE-STRUCTURED-LOCATION;VALUE=URI;X-ADDRESS=Unity Atlanta Church 3597 Parkway Lane Peachtree Corners;X-APPLE-RADIUS=500;X-TITLE=3597 Parkway Lane:geo:-84.2332308,33.9629836
END:VEVENT
BEGIN:VEVENT
DTSTART;TZID=America/New_York:20230401T120000
DTEND;TZID=America/New_York:20230401T160000
DTSTAMP:20260419T125330
CREATED:20220330T151847Z
LAST-MODIFIED:20230316T165358Z
UID:10006295-1680350400-1680364800@www.atlantaparent.com
SUMMARY:Annual Cobb Eggstravaganza
DESCRIPTION:This day of Easter fun includes egg hunts for ages 10 and younger\, food\, games\, bouncy houses\, prizes and more.
URL:https://www.atlantaparent.com/event/annual-cobb-eggstravaganza/
LOCATION:Al Bishop Softball Complex\, 1082 Al Bishop Dr.\,\, Marietta
GEO:33.9027986;-84.5879267
X-APPLE-STRUCTURED-LOCATION;VALUE=URI;X-ADDRESS=Al Bishop Softball Complex 1082 Al Bishop Dr. Marietta;X-APPLE-RADIUS=500;X-TITLE=1082 Al Bishop Dr.\,:geo:-84.5879267,33.9027986
END:VEVENT
BEGIN:VEVENT
DTSTART;TZID=America/New_York:20230401T130000
DTEND;TZID=America/New_York:20230401T160000
DTSTAMP:20260419T125330
CREATED:20220321T150750Z
LAST-MODIFIED:20230316T165130Z
UID:10006319-1680354000-1680364800@www.atlantaparent.com
SUMMARY:Eggstravaganza Spring Festival
DESCRIPTION:Ages 13 and younger will enjoy eco-friendly crafts\, inflatables\, live entertainment\, face painting and egg hunts.
URL:https://www.atlantaparent.com/event/eggstravaganza-spring-festival-2/
LOCATION:Flat Shoals Park\, 1915 Flat Shoals Rd.\, Riverdale
GEO:33.5908008;-84.4529756
X-APPLE-STRUCTURED-LOCATION;VALUE=URI;X-ADDRESS=Flat Shoals Park 1915 Flat Shoals Rd. Riverdale;X-APPLE-RADIUS=500;X-TITLE=1915 Flat Shoals Rd.:geo:-84.4529756,33.5908008
END:VEVENT
BEGIN:VEVENT
DTSTART;TZID=America/New_York:20230403T120000
DTEND;TZID=America/New_York:20230403T200000
DTSTAMP:20260419T125330
CREATED:20230324T141613Z
LAST-MODIFIED:20230324T141613Z
UID:10006799-1680523200-1680552000@www.atlantaparent.com
SUMMARY:Free Cone Day
DESCRIPTION:Try any flavor available in scoop shops for free\, including brand new flavors.
URL:https://www.atlantaparent.com/event/free-cone-day/
LOCATION:Ben & Jerry’s
END:VEVENT
BEGIN:VEVENT
DTSTART;VALUE=DATE:20230404
DTEND;VALUE=DATE:20230522
DTSTAMP:20260419T125330
CREATED:20170822T171419Z
LAST-MODIFIED:20230313T140137Z
UID:10002969-1680566400-1684713599@www.atlantaparent.com
SUMMARY:Charlotte's Web at Center for Puppetry Arts
DESCRIPTION:Based on the classic novel\, Charlotte the spider uses her wits\, words and webs to save her friend Wilbur the pig. April 4-May 21. See website for showtimes. $22.
URL:https://www.atlantaparent.com/event/charlottes-web/
LOCATION:Center for Puppetry Arts\, 1404 Spring St. NW\, Atlanta
ATTACH;FMTTYPE=image/jpeg:https://www.atlantaparent.com/wp-content/uploads/2017/08/Charlottes-2-Rod-Reilly-2.jpg
GEO:33.7927782;-84.3897011
X-APPLE-STRUCTURED-LOCATION;VALUE=URI;X-ADDRESS=Center for Puppetry Arts 1404 Spring St. NW Atlanta;X-APPLE-RADIUS=500;X-TITLE=1404 Spring St. NW:geo:-84.3897011,33.7927782
END:VEVENT
BEGIN:VEVENT
DTSTART;TZID=America/New_York:20230408T100000
DTEND;TZID=America/New_York:20230408T120000
DTSTAMP:20260419T125330
CREATED:20230321T143618Z
LAST-MODIFIED:20230321T143618Z
UID:10006791-1680948000-1680955200@www.atlantaparent.com
SUMMARY:Easter Egg Hunt Extravaganza
DESCRIPTION:Kids of all ages will enjoy an egg hunt\, activities and family fun.
URL:https://www.atlantaparent.com/event/easter-egg-hunt-extravaganza/
LOCATION:Grayson City Park\, 475 Grayson Pkwy.\, Grayson
GEO:33.8933086;-83.9582399
X-APPLE-STRUCTURED-LOCATION;VALUE=URI;X-ADDRESS=Grayson City Park 475 Grayson Pkwy. Grayson;X-APPLE-RADIUS=500;X-TITLE=475 Grayson Pkwy.:geo:-83.9582399,33.8933086
END:VEVENT
BEGIN:VEVENT
DTSTART;TZID=America/New_York:20230408T100000
DTEND;TZID=America/New_York:20230408T123000
DTSTAMP:20260419T125330
CREATED:20230330T184502Z
LAST-MODIFIED:20230330T184502Z
UID:10006810-1680948000-1680957000@www.atlantaparent.com
SUMMARY:Family Easter Vigil and Egg Hunt
DESCRIPTION:Easter festivities include a special service\, crafts\, a petting zoo\, egg hunts divided by age groups and face painting.
URL:https://www.atlantaparent.com/event/family-easter-vigil-and-egg-hunt/
LOCATION:Lutheran Church of the Redeemer\, 731 Peachtree St.\,\, Atlanta
END:VEVENT
BEGIN:VEVENT
DTSTART;TZID=America/New_York:20230408T110000
DTEND;TZID=America/New_York:20230408T150000
DTSTAMP:20260419T125330
CREATED:20220331T160544Z
LAST-MODIFIED:20230316T164618Z
UID:10006323-1680951600-1680966000@www.atlantaparent.com
SUMMARY:Kids Easter Pizza Party & Pictures
DESCRIPTION:This Easter pizza party includes a buffet\, pictures with the Easter Bunny\, arts and crafts and more. $25; parents do not need to purchase tickets.
URL:https://www.atlantaparent.com/event/kids-easter-pizza-party-pictures/
LOCATION:Cosmo’s Pizza + Social\, 144 E. Crogan St.\, Lawrenceville
GEO:33.956041;-83.9876325
X-APPLE-STRUCTURED-LOCATION;VALUE=URI;X-ADDRESS=Cosmo’s Pizza + Social 144 E. Crogan St. Lawrenceville;X-APPLE-RADIUS=500;X-TITLE=144 E. Crogan St.:geo:-83.9876325,33.956041
END:VEVENT
BEGIN:VEVENT
DTSTART;TZID=America/New_York:20230408T120000
DTEND;TZID=America/New_York:20230408T140000
DTSTAMP:20260419T125330
CREATED:20230331T161835Z
LAST-MODIFIED:20230331T161835Z
UID:10006815-1680955200-1680962400@www.atlantaparent.com
SUMMARY:Community Easter Egg Hunt Eggstravaganza
DESCRIPTION:Enjoy an egg hunt\, bouncy house\, face painting\, balloon animals\, bubbles and more at this community celebration.
URL:https://www.atlantaparent.com/event/community-easter-egg-hunt-eggstravaganza/
LOCATION:Saint Mark United Methodist Church\, 781 Peachtree St. NE\, Atlanta
GEO:33.7759221;-84.3840758
X-APPLE-STRUCTURED-LOCATION;VALUE=URI;X-ADDRESS=Saint Mark United Methodist Church 781 Peachtree St. NE Atlanta;X-APPLE-RADIUS=500;X-TITLE=781 Peachtree St. NE:geo:-84.3840758,33.7759221
END:VEVENT
BEGIN:VEVENT
DTSTART;TZID=America/New_York:20230409T123000
DTEND;TZID=America/New_York:20230409T140000
DTSTAMP:20260419T125330
CREATED:20230316T163620Z
LAST-MODIFIED:20230316T163620Z
UID:10006793-1681043400-1681048800@www.atlantaparent.com
SUMMARY:Easter Family Fun Festival
DESCRIPTION:This family-friendly festival features 20\,000 candy-filled eggs\, face painting\, bounce houses and more. Free admission; registration required.
URL:https://www.atlantaparent.com/event/easter-family-fun-festival/
LOCATION:Phase Events\, 12150 Morris Rd.\, Alpharetta
GEO:34.0734911;-84.2678378
X-APPLE-STRUCTURED-LOCATION;VALUE=URI;X-ADDRESS=Phase Events 12150 Morris Rd. Alpharetta;X-APPLE-RADIUS=500;X-TITLE=12150 Morris Rd.:geo:-84.2678378,34.0734911
END:VEVENT
BEGIN:VEVENT
DTSTART;TZID=America/New_York:20230409T150000
DTEND;TZID=America/New_York:20230409T150000
DTSTAMP:20260419T125330
CREATED:20230403T165053Z
LAST-MODIFIED:20230403T165053Z
UID:10006814-1681052400-1681052400@www.atlantaparent.com
SUMMARY:Nakato Japanese Restaurant Easter Egg Hunt
DESCRIPTION:For ages 12 and younger\, participate in an egg hunt\, and one winner will receive a $100 gift card. Make a note on your reservation about how many children will be participating.
URL:https://www.atlantaparent.com/event/nakato-japanese-restaurant-easter-egg-hunt/
LOCATION:Nakato Japanese Restaurant\, 1776 Cheshire Bridge Rd. NE\, Atlanta
GEO:33.8087006;-84.3646788
X-APPLE-STRUCTURED-LOCATION;VALUE=URI;X-ADDRESS=Nakato Japanese Restaurant 1776 Cheshire Bridge Rd. NE Atlanta;X-APPLE-RADIUS=500;X-TITLE=1776 Cheshire Bridge Rd. NE:geo:-84.3646788,33.8087006
END:VEVENT
BEGIN:VEVENT
DTSTART;TZID=America/New_York:20230411T183000
DTEND;TZID=America/New_York:20230411T193000
DTSTAMP:20260419T125330
CREATED:20200806T142654Z
LAST-MODIFIED:20230328T142200Z
UID:10005360-1681237800-1681241400@www.atlantaparent.com
SUMMARY:Yoga by the Water
DESCRIPTION:Enjoy yoga classes led by local instructors in the Oceans Ballroom\, which has incredible views of manta rays and whale sharks. Doors open at 6 p.m. For ages 8 and older. $25.
URL:https://www.atlantaparent.com/event/yoga-by-the-water/
LOCATION:Georgia Aquarium\, 225 Baker St.\, Atlanta
GEO:33.7634237;-84.394891
X-APPLE-STRUCTURED-LOCATION;VALUE=URI;X-ADDRESS=Georgia Aquarium 225 Baker St. Atlanta;X-APPLE-RADIUS=500;X-TITLE=225 Baker St.:geo:-84.394891,33.7634237
END:VEVENT
BEGIN:VEVENT
DTSTART;VALUE=DATE:20230414
DTEND;VALUE=DATE:20230417
DTSTAMP:20260419T125330
CREATED:20230315T140119Z
LAST-MODIFIED:20230315T140119Z
UID:10006787-1681430400-1681689599@www.atlantaparent.com
SUMMARY:Treasure Island
DESCRIPTION:This thrilling musical is about pirates\, treasure maps and mutiny on the seas for a swashbuckling adventure. April 14-15\, 7:30 p.m. and April 16\, 2:30 p.m. $10-$15.
URL:https://www.atlantaparent.com/event/treasure-island/
LOCATION:Stage Door Theatre\, 5339 Chamblee Dunwoody Rd.\, Dunwoody
GEO:33.9446855;-84.3319777
X-APPLE-STRUCTURED-LOCATION;VALUE=URI;X-ADDRESS=Stage Door Theatre 5339 Chamblee Dunwoody Rd. Dunwoody;X-APPLE-RADIUS=500;X-TITLE=5339 Chamblee Dunwoody Rd.:geo:-84.3319777,33.9446855
END:VEVENT
BEGIN:VEVENT
DTSTART;VALUE=DATE:20230415
DTEND;VALUE=DATE:20230417
DTSTAMP:20260419T125330
CREATED:20230327T163540Z
LAST-MODIFIED:20230327T163540Z
UID:10006848-1681516800-1681689599@www.atlantaparent.com
SUMMARY:We Belong Here: Rising Against Asian Hate
DESCRIPTION:Presented by Atlanta Chinese Dance Company\, this performance showcases a collection of folk\, classical and contemporary Chinese dances. April 15\, 7:30 p.m. and April 16\, 2 p.m. $20-$25.
URL:https://www.atlantaparent.com/event/we-belong-here-rising-against-asian-hate/
LOCATION:Gas South District\, 6400 Sugarloaf Parkway\, Duluth
GEO:33.9913579;-84.0938603
X-APPLE-STRUCTURED-LOCATION;VALUE=URI;X-ADDRESS=Gas South District 6400 Sugarloaf Parkway Duluth;X-APPLE-RADIUS=500;X-TITLE=6400 Sugarloaf Parkway:geo:-84.0938603,33.9913579
END:VEVENT
END:VCALENDAR