BEGIN:VCALENDAR
VERSION:2.0
PRODID:-//NEW Atlanta Parent - ECPv6.15.11//NONSGML v1.0//EN
CALSCALE:GREGORIAN
METHOD:PUBLISH
X-ORIGINAL-URL:https://www.atlantaparent.com
X-WR-CALDESC:Events for NEW Atlanta Parent
REFRESH-INTERVAL;VALUE=DURATION:PT1H
X-Robots-Tag:noindex
X-PUBLISHED-TTL:PT1H
BEGIN:VTIMEZONE
TZID:America/New_York
BEGIN:DAYLIGHT
TZOFFSETFROM:-0500
TZOFFSETTO:-0400
TZNAME:EDT
DTSTART:20200308T070000
END:DAYLIGHT
BEGIN:STANDARD
TZOFFSETFROM:-0400
TZOFFSETTO:-0500
TZNAME:EST
DTSTART:20201101T060000
END:STANDARD
BEGIN:DAYLIGHT
TZOFFSETFROM:-0500
TZOFFSETTO:-0400
TZNAME:EDT
DTSTART:20210314T070000
END:DAYLIGHT
BEGIN:STANDARD
TZOFFSETFROM:-0400
TZOFFSETTO:-0500
TZNAME:EST
DTSTART:20211107T060000
END:STANDARD
BEGIN:DAYLIGHT
TZOFFSETFROM:-0500
TZOFFSETTO:-0400
TZNAME:EDT
DTSTART:20220313T070000
END:DAYLIGHT
BEGIN:STANDARD
TZOFFSETFROM:-0400
TZOFFSETTO:-0500
TZNAME:EST
DTSTART:20221106T060000
END:STANDARD
END:VTIMEZONE
BEGIN:VTIMEZONE
TZID:UTC
BEGIN:STANDARD
TZOFFSETFROM:+0000
TZOFFSETTO:+0000
TZNAME:UTC
DTSTART:20200101T000000
END:STANDARD
END:VTIMEZONE
BEGIN:VEVENT
DTSTART;VALUE=DATE:20210428
DTEND;VALUE=DATE:20210429
DTSTAMP:20260422T185714
CREATED:20210212T155432Z
LAST-MODIFIED:20210212T155432Z
UID:10005687-1619568000-1619654399@www.atlantaparent.com
SUMMARY:National SuperHero Day
DESCRIPTION:Enjoy a Storybook Art session with the book “Brave” and Canvas Cape Designs. April 28\, 11 a.m.-noon; 1-2 p.m.; 4-5 p.m. and 6-7 p.m. For ages 3 and older. $25; registration required.
URL:https://www.atlantaparent.com/event/national-superhero-day/
LOCATION:ABC Easel\, 11130 State Bridge Rd.\, Johns Creek\, 30022
GEO:34.0554428;-84.2287852
X-APPLE-STRUCTURED-LOCATION;VALUE=URI;X-ADDRESS=ABC Easel 11130 State Bridge Rd. Johns Creek 30022;X-APPLE-RADIUS=500;X-TITLE=11130 State Bridge Rd.:geo:-84.2287852,34.0554428
END:VEVENT
BEGIN:VEVENT
DTSTART;VALUE=DATE:20210430
DTEND;VALUE=DATE:20210501
DTSTAMP:20260422T185714
CREATED:20210407T152123Z
LAST-MODIFIED:20210416T134256Z
UID:10005707-1619740800-1619827199@www.atlantaparent.com
SUMMARY:May Fair
DESCRIPTION:See a magic show\, look at fire engines\, go on a hayride\, train ride or pony ride\, and play farm games. April 30-May 31. Fri. 4-10 p.m.; Sat. 10 a.m.-10 p.m.; Sun. 10 a.m.-8 p.m. and Memorial Day\, 10-a.m.-8 p.m. $14.
URL:https://www.atlantaparent.com/event/may-fair/2021-04-30/
LOCATION:Buford Corn Maze\, 4470 Bennett Rd.\, Buford
ATTACH;FMTTYPE=image/jpeg:https://www.atlantaparent.com/wp-content/uploads/2021/04/BCM-6-e1618580568288.jpg
GEO:34.1356668;-83.9358656
X-APPLE-STRUCTURED-LOCATION;VALUE=URI;X-ADDRESS=Buford Corn Maze 4470 Bennett Rd. Buford;X-APPLE-RADIUS=500;X-TITLE=4470 Bennett Rd.:geo:-83.9358656,34.1356668
END:VEVENT
BEGIN:VEVENT
DTSTART;VALUE=DATE:20210430
DTEND;VALUE=DATE:20210502
DTSTAMP:20260422T185714
CREATED:20210216T185947Z
LAST-MODIFIED:20210325T175552Z
UID:10005637-1619740800-1619913599@www.atlantaparent.com
SUMMARY:Lore
DESCRIPTION:The Roswell Dance Starz explore Greek mythology\, Robin Hood’s story and legends about King Arthur in this performance. April 30 and May 1\, 7 p.m. $15.
URL:https://www.atlantaparent.com/event/lore/
LOCATION:Roswell Cultural Arts Center\, 950 Forest St.\, Roswell
GEO:34.0234904;-84.3578365
X-APPLE-STRUCTURED-LOCATION;VALUE=URI;X-ADDRESS=Roswell Cultural Arts Center 950 Forest St. Roswell;X-APPLE-RADIUS=500;X-TITLE=950 Forest St.:geo:-84.3578365,34.0234904
END:VEVENT
BEGIN:VEVENT
DTSTART;TZID=America/New_York:20210501T200000
DTEND;TZID=America/New_York:20210501T200000
DTSTAMP:20260422T185714
CREATED:20210412T195620Z
LAST-MODIFIED:20210412T195620Z
UID:10005728-1619899200-1619899200@www.atlantaparent.com
SUMMARY:We Are The Young
DESCRIPTION:See young musicians combine traditional Chinese instruments with contemporary pop music. $50.
URL:https://www.atlantaparent.com/event/we-are-the-young/
LOCATION: Aurora Theatre\, 128 East Pike St.\, Lawrenceville
END:VEVENT
BEGIN:VEVENT
DTSTART;TZID=America/New_York:20210502T170000
DTEND;TZID=America/New_York:20210502T190000
DTSTAMP:20260422T185714
CREATED:20210423T133033Z
LAST-MODIFIED:20210423T133033Z
UID:10005761-1619974800-1619982000@www.atlantaparent.com
SUMMARY:Sunday Sounds at Hotel at Avalon Pool Terrace
DESCRIPTION:Live jazz music. May 2\, 9\, 16 and 23\, 5-7 p.m.
URL:https://www.atlantaparent.com/event/sunday-sounds-at-hotel-at-avalon-pool-terrace/2021-05-02/
LOCATION:The Hotel at Avalon \, 9000 Avalon Blvd.\, Alpharetta
END:VEVENT
BEGIN:VEVENT
DTSTART;TZID=America/New_York:20210502T190000
DTEND;TZID=America/New_York:20210502T190000
DTSTAMP:20260422T185714
CREATED:20210426T164932Z
LAST-MODIFIED:20210426T164932Z
UID:10005742-1619982000-1619982000@www.atlantaparent.com
SUMMARY:Sunset Sessions
DESCRIPTION:Free alternative music concert series. \nMay 2 – Noonday Sons\nMay 9 – The Get Right Band\nMay 23 – Grasshounds\nJune 6 – All the Locals\nJune 13 – EG Vines\nJune 20 – The 502s\nJuly 4 – Frankly Scarlet\nJuly 11 – Carly Moffa\nJuly 18 – Ides of June\nJuly 25 – Cody Bolden\nAug. 1 – Motherfolk\nAug. 8 – The Selfless Lovers\nSept. 5 – Easy Honey
URL:https://www.atlantaparent.com/event/sunset-sessions/2021-05-02/
LOCATION:Park Tavern\, 500 10th St. NE\, Atlanta
GEO:33.7821919;-84.3691666
X-APPLE-STRUCTURED-LOCATION;VALUE=URI;X-ADDRESS=Park Tavern 500 10th St. NE Atlanta;X-APPLE-RADIUS=500;X-TITLE=500 10th St. NE:geo:-84.3691666,33.7821919
END:VEVENT
BEGIN:VEVENT
DTSTART;TZID=America/New_York:20210504T190000
DTEND;TZID=America/New_York:20210504T190000
DTSTAMP:20260422T185714
CREATED:20210331T195523Z
LAST-MODIFIED:20210331T195523Z
UID:10005701-1620154800-1620154800@www.atlantaparent.com
SUMMARY:Franklin Pond Chamber Music Concert
DESCRIPTION:Listen to live classical music from talented middle and high school musicians. May 4\, 7 p.m. and May 29\, 11 a.m. Free admission.
URL:https://www.atlantaparent.com/event/franklin-pond-chamber-music-concert/2021-05-04/
LOCATION:Peachtree Road United Methodist Church\, 3180 Peachtree Rd. NE\, Atlanta
END:VEVENT
BEGIN:VEVENT
DTSTART;VALUE=DATE:20210505
DTEND;VALUE=DATE:20210506
DTSTAMP:20260422T185714
CREATED:20210212T155648Z
LAST-MODIFIED:20210212T155648Z
UID:10005634-1620172800-1620259199@www.atlantaparent.com
SUMMARY:Celebrate Leo Lionni  
DESCRIPTION:Celebrate Leo Lionni’s “Little Blue and Little Yellow” and fidget spinner designs. May 5\, 11 a.m.-noon; 1-2 p.m.; 4-5 p.m. and 6-7 p.m. For ages 3 and older. $25; registration required.
URL:https://www.atlantaparent.com/event/celebrate-leo-lionni/
LOCATION:ABC Easel\, 11130 State Bridge Rd.\, Johns Creek\, 30022
GEO:34.0554428;-84.2287852
X-APPLE-STRUCTURED-LOCATION;VALUE=URI;X-ADDRESS=ABC Easel 11130 State Bridge Rd. Johns Creek 30022;X-APPLE-RADIUS=500;X-TITLE=11130 State Bridge Rd.:geo:-84.2287852,34.0554428
END:VEVENT
BEGIN:VEVENT
DTSTART;TZID=America/New_York:20210505T100000
DTEND;TZID=America/New_York:20210505T110000
DTSTAMP:20260422T185714
CREATED:20210416T160931Z
LAST-MODIFIED:20210416T160931Z
UID:10005736-1620208800-1620212400@www.atlantaparent.com
SUMMARY:Mommy & Me Outdoor Storytime
DESCRIPTION:Enjoy a storytime for kids followed by a DIY craft. Reservation required. May 5\, 12 and 19\, 10 a.m.
URL:https://www.atlantaparent.com/event/mommy-me-outdoor-storytime/2021-05-05/
LOCATION:The Avenue East Cobb\, 4475 Roswell Rd.\, Marietta
GEO:33.9880126;-84.4224366
X-APPLE-STRUCTURED-LOCATION;VALUE=URI;X-ADDRESS=The Avenue East Cobb 4475 Roswell Rd. Marietta;X-APPLE-RADIUS=500;X-TITLE=4475 Roswell Rd.:geo:-84.4224366,33.9880126
END:VEVENT
BEGIN:VEVENT
DTSTART;TZID=America/New_York:20210505T180000
DTEND;TZID=America/New_York:20210505T200000
DTSTAMP:20260422T185714
CREATED:20210426T165541Z
LAST-MODIFIED:20210426T170035Z
UID:10005771-1620237600-1620244800@www.atlantaparent.com
SUMMARY:Sugar Hill Live
DESCRIPTION:Wednesdays\, 6-8 p.m. Performers TBA.
URL:https://www.atlantaparent.com/event/sugar-hill-live/2021-05-05/
LOCATION:The Bowl at Sugar Hill\, 5039 West Broad St.\, Sugar Hill\, GA
GEO:34.1076789;-84.036372
X-APPLE-STRUCTURED-LOCATION;VALUE=URI;X-ADDRESS=The Bowl at Sugar Hill 5039 West Broad St. Sugar Hill GA;X-APPLE-RADIUS=500;X-TITLE=5039 West Broad St.:geo:-84.036372,34.1076789
END:VEVENT
BEGIN:VEVENT
DTSTART;VALUE=DATE:20210506
DTEND;VALUE=DATE:20210517
DTSTAMP:20260422T185714
CREATED:20210312T184253Z
LAST-MODIFIED:20210325T180040Z
UID:10005671-1620259200-1621209599@www.atlantaparent.com
SUMMARY:Songs to Grow on
DESCRIPTION:Folk music legend Woody Guthrie’s classic children’s songs are performed at this concert. Thur.-Fri.\, 11 a.m. and Sat.-Sun.\, 9:30 and 11 a.m. $20-$40.
URL:https://www.atlantaparent.com/event/songs-to-grow-on/
LOCATION:Alliance Theatre\, 1280 Peachtree Street\, Atlanta
END:VEVENT
BEGIN:VEVENT
DTSTART;TZID=America/New_York:20210506T130000
DTEND;TZID=America/New_York:20210509T180000
DTSTAMP:20260422T185714
CREATED:20210503T141212Z
LAST-MODIFIED:20210503T141212Z
UID:10005768-1620306000-1620583200@www.atlantaparent.com
SUMMARY:Mother's May Market
DESCRIPTION:Visit Walmarts for a free outdoor market with crafts\, photos\, goody bags and more. \n\nMay 6\, 1-6 p.m.: 1801 Nathan Dean Byp.\, Rockmart\nMay 7\, 1-6 p.m.: 4166 Jimmy Lee Smith Pkwy.\, Hiram\nMay 8\, 1-6 p.m.: 3615 Marietta Hwy.\, Dallas\nMay 9\, 1-6 p.m.: 3105 Cobb Pkwy. NW\, Kennesaw
URL:https://www.atlantaparent.com/event/mothers-may-market/
END:VEVENT
BEGIN:VEVENT
DTSTART;VALUE=DATE:20210507
DTEND;VALUE=DATE:20210509
DTSTAMP:20260422T185714
CREATED:20210430T124928Z
LAST-MODIFIED:20210430T124928Z
UID:10005769-1620345600-1620518399@www.atlantaparent.com
SUMMARY:Mother's Day Weekend Comedy Special
DESCRIPTION:Enjoy some laughs with Atlanta’s brightest female comedy stars and a special guest. May 7-8\, 7:15 and 9:15 p.m. $30-$60.
URL:https://www.atlantaparent.com/event/mothers-day-weekend-comedy-special/
LOCATION: Aurora Theatre\, 128 East Pike St.\, Lawrenceville
END:VEVENT
BEGIN:VEVENT
DTSTART;TZID=America/New_York:20210508T083000
DTEND;TZID=America/New_York:20210508T093000
DTSTAMP:20260422T185714
CREATED:20210401T183511Z
LAST-MODIFIED:20210419T124458Z
UID:10005815-1620462600-1620466200@www.atlantaparent.com
SUMMARY:Zoo Atlanta Yoga
DESCRIPTION:Unwind at the end of the day and take time for yourself with Adult Zoo Yoga\, or bring the family to Family Zoo Yoga to share a morning experience that connects mind\, body and spirit. Registration required. Family Zoo Yoga: May 8\, 8:30-9:30 a.m.; $20 for parent/guardian and child; additional participants\, $4. Adult Zoo Yoga: May 19\, 6:30-7:30 p.m.; $15.
URL:https://www.atlantaparent.com/event/zoo-atlanta-yoga/2021-05-08/
LOCATION:Zoo Atlanta\,  800 Cherokee Avenue SE\, Atlanta
ATTACH;FMTTYPE=image/png:https://www.atlantaparent.com/wp-content/uploads/2020/06/familyyoga.png
GEO:33.7321624;-84.3713351
X-APPLE-STRUCTURED-LOCATION;VALUE=URI;X-ADDRESS=Zoo Atlanta  800 Cherokee Avenue SE Atlanta;X-APPLE-RADIUS=500;X-TITLE=800 Cherokee Avenue SE:geo:-84.3713351,33.7321624
END:VEVENT
BEGIN:VEVENT
DTSTART;TZID=America/New_York:20210508T110000
DTEND;TZID=America/New_York:20210508T110000
DTSTAMP:20260422T185714
CREATED:20200720T162621Z
LAST-MODIFIED:20210427T161841Z
UID:10005137-1620471600-1620471600@www.atlantaparent.com
SUMMARY:GOGA in the Wild
DESCRIPTION:Enjoy fun yoga classes in the company of kangaroos\, pigs or goats\, with a different animal featured at each session. Registration required. For ages 10 and older. May 8\, 11 a.m.
URL:https://www.atlantaparent.com/event/goga-in-the-wild/
LOCATION:North Georgia Wildlife Park\, 2912 Paradise Valley Road\, Cleveland
ATTACH;FMTTYPE=image/jpeg:https://www.atlantaparent.com/wp-content/uploads/2020/07/Piggy-Yoga-December-2019-7-scaled-e1595262344449.jpg
GEO:34.6223675;-83.8656005
X-APPLE-STRUCTURED-LOCATION;VALUE=URI;X-ADDRESS=North Georgia Wildlife Park 2912 Paradise Valley Road Cleveland;X-APPLE-RADIUS=500;X-TITLE=2912 Paradise Valley Road:geo:-83.8656005,34.6223675
END:VEVENT
BEGIN:VEVENT
DTSTART;TZID=America/New_York:20210508T110000
DTEND;TZID=America/New_York:20210508T140000
DTSTAMP:20260422T185714
CREATED:20210420T131403Z
LAST-MODIFIED:20210420T131403Z
UID:10005735-1620471600-1620482400@www.atlantaparent.com
SUMMARY:Picnic in the Garden
DESCRIPTION:Bring a picnic basket and blanket to enjoy fun activities and games. Free admission.
URL:https://www.atlantaparent.com/event/picnic-in-the-garden/
LOCATION:Hills & Dales Estate\, 1916 Hills and Dales Dr.\, LaGrange
GEO:33.0386597;-85.050624
X-APPLE-STRUCTURED-LOCATION;VALUE=URI;X-ADDRESS=Hills & Dales Estate 1916 Hills and Dales Dr. LaGrange;X-APPLE-RADIUS=500;X-TITLE=1916 Hills and Dales Dr.:geo:-85.050624,33.0386597
END:VEVENT
BEGIN:VEVENT
DTSTART;VALUE=DATE:20210510
DTEND;VALUE=DATE:20210621
DTSTAMP:20260422T185714
CREATED:20210514T141724Z
LAST-MODIFIED:20210514T141724Z
UID:10005867-1620604800-1624233599@www.atlantaparent.com
SUMMARY:Pirates Ahoy!
DESCRIPTION:Sail in for dance parties\, filming an action-packed pirate movie\, walking the plank\, family photos and more. $19.99-$31.99.
URL:https://www.atlantaparent.com/event/pirates-ahoy/
LOCATION:LEGO Discovery Center at Phipps Plaza\, 3500 Peachtree Rd. Suite G-1\, Atlanta
END:VEVENT
BEGIN:VEVENT
DTSTART;VALUE=DATE:20210514
DTEND;VALUE=DATE:20210516
DTSTAMP:20260422T185714
CREATED:20210412T202831Z
LAST-MODIFIED:20210422T142218Z
UID:10005826-1620950400-1621123199@www.atlantaparent.com
SUMMARY:Matilda JR.
DESCRIPTION:Matilda uses her courage and cleverness to help save her fellow students from their mean headmistress\, Miss Trunchbull. May 14\, 7 p.m. and May 15\, 11 a.m.\, 3 p.m. and 7 p.m. $10.
URL:https://www.atlantaparent.com/event/matilda-jr/
LOCATION:Roswell Cultural Arts Center\, 950 Forest St.\, Roswell
ATTACH;FMTTYPE=image/jpeg:https://www.atlantaparent.com/wp-content/uploads/2021/04/Matilda-3.jpg
GEO:34.0234904;-84.3578365
X-APPLE-STRUCTURED-LOCATION;VALUE=URI;X-ADDRESS=Roswell Cultural Arts Center 950 Forest St. Roswell;X-APPLE-RADIUS=500;X-TITLE=950 Forest St.:geo:-84.3578365,34.0234904
END:VEVENT
BEGIN:VEVENT
DTSTART;VALUE=DATE:20210515
DTEND;VALUE=DATE:20211101
DTSTAMP:20260422T185714
CREATED:20210412T204019Z
LAST-MODIFIED:20210412T204019Z
UID:10005733-1621036800-1635724799@www.atlantaparent.com
SUMMARY:SUPERnatural: Aerial Art in Motion\, Glass Art in Bloom
DESCRIPTION:View more than 100 beautiful glass floral sculptures\, as well as an aerial skynet with multi-colored birds\, which will be on view through Sept. 19. Reservation required. $22.95-$24.95; ages 3-12\, $19.95-$21.95; ages 2 and younger\, free.
URL:https://www.atlantaparent.com/event/supernatural-aerial-art-in-motion-glass-art-in-bloom/
LOCATION:Atlanta Botanical Garden\, 1345 Piedmont Ave.\, Atlanta
ATTACH;FMTTYPE=image/jpeg:https://www.atlantaparent.com/wp-content/uploads/2021/04/Skynet-by-PatrickShearn-of-Poetic-Kinetics_-scaled-e1618260002417.jpg
GEO:33.7900091;-84.3738585
X-APPLE-STRUCTURED-LOCATION;VALUE=URI;X-ADDRESS=Atlanta Botanical Garden 1345 Piedmont Ave. Atlanta;X-APPLE-RADIUS=500;X-TITLE=1345 Piedmont Ave.:geo:-84.3738585,33.7900091
END:VEVENT
BEGIN:VEVENT
DTSTART;TZID=UTC:20210515T130000
DTEND;TZID=UTC:20210515T140000
DTSTAMP:20260422T185714
CREATED:20180506T182221Z
LAST-MODIFIED:20210504T191229Z
UID:10002694-1621083600-1621087200@www.atlantaparent.com
SUMMARY:Wren's Nest Storytelling
DESCRIPTION:Live storytelling sessions every Saturday at 1 p.m. with house tours before and after. $10; ages 3-7\, $6; ages 2 and younger\, free.
URL:https://www.atlantaparent.com/event/wrens-nest-storytelling-2018-12-29/2021-05-15/
LOCATION:The Wren’s Nest\, 1050 Ralph D. Abernathy Blvd.\, Atlanta
GEO:33.7375619;-84.422393
X-APPLE-STRUCTURED-LOCATION;VALUE=URI;X-ADDRESS=The Wren’s Nest 1050 Ralph D. Abernathy Blvd. Atlanta;X-APPLE-RADIUS=500;X-TITLE=1050 Ralph D. Abernathy Blvd.:geo:-84.422393,33.7375619
END:VEVENT
BEGIN:VEVENT
DTSTART;TZID=America/New_York:20210516T100000
DTEND;TZID=America/New_York:20210516T160000
DTSTAMP:20260422T185714
CREATED:20210507T171358Z
LAST-MODIFIED:20210507T171358Z
UID:10005777-1621159200-1621180800@www.atlantaparent.com
SUMMARY:Downtown Decatur Chalk Walk
DESCRIPTION:Professional chalk artists from across the Southeast with showcase their skills\, and you can display your own creativity with the open community section. Free admission; community sidewalk square\, $10.
URL:https://www.atlantaparent.com/event/downtown-decatur-chalk-walk/
LOCATION:Downtown Decatur\, W Ponce de Leon Ave.\, Decatur
END:VEVENT
BEGIN:VEVENT
DTSTART;VALUE=DATE:20210520
DTEND;VALUE=DATE:20210521
DTSTAMP:20260422T185714
CREATED:20210212T155917Z
LAST-MODIFIED:20210212T155917Z
UID:10005633-1621468800-1621555199@www.atlantaparent.com
SUMMARY:World Bee Day
DESCRIPTION:Design a Mason Bee Habitat. For ages 3 and older. May 20\, 11 a.m.-noon; 1-2 p.m.; 4-5 p.m. and 6-7 p.m. $25; registration required.
URL:https://www.atlantaparent.com/event/world-bee-day/
LOCATION:ABC Easel\, 11130 State Bridge Rd.\, Johns Creek\, 30022
GEO:34.0554428;-84.2287852
X-APPLE-STRUCTURED-LOCATION;VALUE=URI;X-ADDRESS=ABC Easel 11130 State Bridge Rd. Johns Creek 30022;X-APPLE-RADIUS=500;X-TITLE=11130 State Bridge Rd.:geo:-84.2287852,34.0554428
END:VEVENT
BEGIN:VEVENT
DTSTART;VALUE=DATE:20210520
DTEND;VALUE=DATE:20210531
DTSTAMP:20260422T185714
CREATED:20210506T160022Z
LAST-MODIFIED:20210506T160022Z
UID:10005781-1621468800-1622419199@www.atlantaparent.com
SUMMARY:Speedway Fair
DESCRIPTION:Play games\, enjoy rides\, see performances and more. See website for hours. $8-$10; ages 5 and younger\, free; ride armbands\, $25-$40.
URL:https://www.atlantaparent.com/event/speedway-fair/
LOCATION:EchoPark Speedway\, 1500 Tara Place\, Hampton
GEO:33.384517;-84.313377
X-APPLE-STRUCTURED-LOCATION;VALUE=URI;X-ADDRESS=EchoPark Speedway 1500 Tara Place Hampton;X-APPLE-RADIUS=500;X-TITLE=1500 Tara Place:geo:-84.313377,33.384517
END:VEVENT
BEGIN:VEVENT
DTSTART;VALUE=DATE:20210521
DTEND;VALUE=DATE:20210522
DTSTAMP:20260422T185714
CREATED:20190422T221708Z
LAST-MODIFIED:20210412T200237Z
UID:10002561-1621555200-1621641599@www.atlantaparent.com
SUMMARY:Endangered Species Day at Zoo Atlanta
DESCRIPTION:Celebrate and learn more about species diversity with activities focused on amazing animals from all over the world. Reservation required. $26.99-$29.99; ages 3-11\, $20.99-$21.99; ages 2 and younger\, free.
URL:https://www.atlantaparent.com/event/endangered-species-day/
LOCATION:Zoo Atlanta\, 800 Cherokee Avenue\, Atlanta
ATTACH;FMTTYPE=image/jpeg:https://www.atlantaparent.com/wp-content/uploads/2018/04/Zoo-Endangered-Species-Day-b.jpg
GEO:33.7321624;-84.3713351
X-APPLE-STRUCTURED-LOCATION;VALUE=URI;X-ADDRESS=Zoo Atlanta 800 Cherokee Avenue Atlanta;X-APPLE-RADIUS=500;X-TITLE=800 Cherokee Avenue:geo:-84.3713351,33.7321624
END:VEVENT
BEGIN:VEVENT
DTSTART;VALUE=DATE:20210522
DTEND;VALUE=DATE:20210908
DTSTAMP:20260422T185714
CREATED:20210412T205711Z
LAST-MODIFIED:20210524T123503Z
UID:10005731-1621641600-1631059199@www.atlantaparent.com
SUMMARY:Thomas Edison’s Secret Lab
DESCRIPTION:Be inspired by the work of Thomas Edison with hands-on STEM experiments\, and learn about ground-breaking innovations. Reservation required. $12.95-$18.95; ages 11 months and younger\, free.
URL:https://www.atlantaparent.com/event/thomas-edisons-secret-lab/
LOCATION:Children’s Museum of Atlanta\, 275 Centennial Olympic Park Dr. NW\, Atlanta\, GA
ATTACH;FMTTYPE=image/jpeg:https://www.atlantaparent.com/wp-content/uploads/2021/04/Thomas-Edison-exhibit-24-e1618261011977.jpg
END:VEVENT
BEGIN:VEVENT
DTSTART;TZID=America/New_York:20210522T110000
DTEND;TZID=America/New_York:20210523T170000
DTSTAMP:20260422T185714
CREATED:20210520T132337Z
LAST-MODIFIED:20210520T132337Z
UID:10005827-1621681200-1621789200@www.atlantaparent.com
SUMMARY:Alpaca Con at the Farm
DESCRIPTION:Pet and feed alpacas\, visit with bunnies\, goats\, sheep and Guinea Fowl\, meet superheroes\, have your face painted and more at this fun family festival.
URL:https://www.atlantaparent.com/event/alpaca-con-at-the-farm/
LOCATION:Creekwater Alpaca Farm\, 2812 Centerville Rosebud Rd. SW\, Snellville
GEO:33.792063;-83.9849357
X-APPLE-STRUCTURED-LOCATION;VALUE=URI;X-ADDRESS=Creekwater Alpaca Farm 2812 Centerville Rosebud Rd. SW Snellville;X-APPLE-RADIUS=500;X-TITLE=2812 Centerville Rosebud Rd. SW:geo:-83.9849357,33.792063
END:VEVENT
BEGIN:VEVENT
DTSTART;TZID=America/New_York:20210528T170000
DTEND;TZID=America/New_York:20210528T210000
DTSTAMP:20260422T185714
CREATED:20210614T190531Z
LAST-MODIFIED:20210614T190531Z
UID:10005914-1622221200-1622235600@www.atlantaparent.com
SUMMARY:Splash Night
DESCRIPTION:Play in the splash pad\, enjoy food trucks\, listen to live music and support the community. Free admission.
URL:https://www.atlantaparent.com/event/splash-night/2021-05-28/
LOCATION:The Bowl at Sugar Hill\, 5039 West Broad St.\, Sugar Hill\, GA
GEO:34.1076789;-84.036372
X-APPLE-STRUCTURED-LOCATION;VALUE=URI;X-ADDRESS=The Bowl at Sugar Hill 5039 West Broad St. Sugar Hill GA;X-APPLE-RADIUS=500;X-TITLE=5039 West Broad St.:geo:-84.036372,34.1076789
END:VEVENT
BEGIN:VEVENT
DTSTART;TZID=America/New_York:20210531T093000
DTEND;TZID=America/New_York:20210531T180000
DTSTAMP:20260422T185714
CREATED:20210521T134337Z
LAST-MODIFIED:20210521T134337Z
UID:10005833-1622453400-1622484000@www.atlantaparent.com
SUMMARY:Memorial Day Ceremony
DESCRIPTION:This annual ceremony is hosted by American Legion Post 160 and local veterans. After the ceremony\, enjoy lunch specials and live music.
URL:https://www.atlantaparent.com/event/memorial-day-ceremony-3/
LOCATION:Twentieth Century Veterans Memorial\, 2800 King St. SE\, Smyrna
GEO:33.8840255;-84.5168765
X-APPLE-STRUCTURED-LOCATION;VALUE=URI;X-ADDRESS=Twentieth Century Veterans Memorial 2800 King St. SE Smyrna;X-APPLE-RADIUS=500;X-TITLE=2800 King St. SE:geo:-84.5168765,33.8840255
END:VEVENT
BEGIN:VEVENT
DTSTART;TZID=America/New_York:20210603T103000
DTEND;TZID=America/New_York:20210603T103000
DTSTAMP:20260422T185714
CREATED:20210312T184115Z
LAST-MODIFIED:20210520T203755Z
UID:10005672-1622716200-1622716200@www.atlantaparent.com
SUMMARY:Beautiful Blackbird Live
DESCRIPTION:Greg Mooney \nThis family concert from the Alliance Theatre features original music inspired by the children’s book “Beautiful Blackbird.” Free. \n\nJune 3\, 10:30 a.m. at Sifly Plaza\nJune 10\, 4:30 p.m. at East Village Atlanta Farmers Market\nJune 13\, 2 p.m. at Sifly Plaza\nJune 17\, 6:30 p.m. at Grant Park
URL:https://www.atlantaparent.com/event/beautiful-blackbird-live/2021-06-03/
ATTACH;FMTTYPE=image/jpeg:https://www.atlantaparent.com/wp-content/uploads/2021/03/BeautifulBlackbirdLiveOnTour_GregMooney_1-scaled-e1621542678176.jpg
END:VEVENT
BEGIN:VEVENT
DTSTART;TZID=America/New_York:20210604T193000
DTEND;TZID=America/New_York:20210605T193000
DTSTAMP:20260422T185714
CREATED:20210519T145952Z
LAST-MODIFIED:20210519T145952Z
UID:10005828-1622835000-1622921400@www.atlantaparent.com
SUMMARY:Vibe Check: Improv Comedy
DESCRIPTION:Watch a family-friendly improv show from comedy troupe Vibe Check. June 4-5; Aug. 6-7; Oct. 8-9\, 7:30 p.m. $16-$18.
URL:https://www.atlantaparent.com/event/vibe-check-improv-comedy/2021-06-04/
LOCATION:Lionheart Theatre\, 10 College St NW\, Norcross
GEO:33.942457;-84.211163
X-APPLE-STRUCTURED-LOCATION;VALUE=URI;X-ADDRESS=Lionheart Theatre 10 College St NW Norcross;X-APPLE-RADIUS=500;X-TITLE=10 College St NW:geo:-84.211163,33.942457
END:VEVENT
END:VCALENDAR