BEGIN:VCALENDAR
VERSION:2.0
PRODID:-//NEW Atlanta Parent - ECPv6.15.11//NONSGML v1.0//EN
CALSCALE:GREGORIAN
METHOD:PUBLISH
X-WR-CALNAME:NEW Atlanta Parent
X-ORIGINAL-URL:https://www.atlantaparent.com
X-WR-CALDESC:Events for NEW Atlanta Parent
REFRESH-INTERVAL;VALUE=DURATION:PT1H
X-Robots-Tag:noindex
X-PUBLISHED-TTL:PT1H
BEGIN:VTIMEZONE
TZID:America/New_York
BEGIN:DAYLIGHT
TZOFFSETFROM:-0500
TZOFFSETTO:-0400
TZNAME:EDT
DTSTART:20210314T070000
END:DAYLIGHT
BEGIN:STANDARD
TZOFFSETFROM:-0400
TZOFFSETTO:-0500
TZNAME:EST
DTSTART:20211107T060000
END:STANDARD
BEGIN:DAYLIGHT
TZOFFSETFROM:-0500
TZOFFSETTO:-0400
TZNAME:EDT
DTSTART:20220313T070000
END:DAYLIGHT
BEGIN:STANDARD
TZOFFSETFROM:-0400
TZOFFSETTO:-0500
TZNAME:EST
DTSTART:20221106T060000
END:STANDARD
BEGIN:DAYLIGHT
TZOFFSETFROM:-0500
TZOFFSETTO:-0400
TZNAME:EDT
DTSTART:20230312T070000
END:DAYLIGHT
BEGIN:STANDARD
TZOFFSETFROM:-0400
TZOFFSETTO:-0500
TZNAME:EST
DTSTART:20231105T060000
END:STANDARD
BEGIN:DAYLIGHT
TZOFFSETFROM:-0500
TZOFFSETTO:-0400
TZNAME:EDT
DTSTART:20240310T070000
END:DAYLIGHT
BEGIN:STANDARD
TZOFFSETFROM:-0400
TZOFFSETTO:-0500
TZNAME:EST
DTSTART:20241103T060000
END:STANDARD
END:VTIMEZONE
BEGIN:VTIMEZONE
TZID:UTC
BEGIN:STANDARD
TZOFFSETFROM:+0000
TZOFFSETTO:+0000
TZNAME:UTC
DTSTART:20210101T000000
END:STANDARD
END:VTIMEZONE
BEGIN:VEVENT
DTSTART;TZID=America/New_York:20221217T110000
DTEND;TZID=America/New_York:20221217T130000
DTSTAMP:20260424T005535
CREATED:20221121T152836Z
LAST-MODIFIED:20221121T152836Z
UID:10006691-1671274800-1671282000@www.atlantaparent.com
SUMMARY:Cocoa with Santa
DESCRIPTION:Have cocoa with Santa\, listen to a storytime\, make crafts\, and play games. $35; ages 2 and younger\, $15.
URL:https://www.atlantaparent.com/event/cocoa-with-santa/
LOCATION:Atlantic Station\, District Avenue\, Atlanta
END:VEVENT
BEGIN:VEVENT
DTSTART;TZID=America/New_York:20221217T200000
DTEND;TZID=America/New_York:20221217T200000
DTSTAMP:20260424T005535
CREATED:20221027T135525Z
LAST-MODIFIED:20221027T135525Z
UID:10006650-1671307200-1671307200@www.atlantaparent.com
SUMMARY:Christmas with The Atlanta Pops Orchestra Ensemble Featuring Chloë Agnew
DESCRIPTION:Enjoy the music of a classical orchestra with Chloe Agnew\, one of the original members of Celtic Woman. $35-$45.
URL:https://www.atlantaparent.com/event/christmas-with-the-atlanta-pops-orchestra-ensemble-featuring-chloe-agnew/
LOCATION:Sylvia Beard Theatre\, 2200 Buford Hwy NE\, Buford\, GA
GEO:34.1147117;-83.9964971
X-APPLE-STRUCTURED-LOCATION;VALUE=URI;X-ADDRESS=Sylvia Beard Theatre 2200 Buford Hwy NE Buford GA;X-APPLE-RADIUS=500;X-TITLE=2200 Buford Hwy NE:geo:-83.9964971,34.1147117
END:VEVENT
BEGIN:VEVENT
DTSTART;TZID=America/New_York:20221218T160000
DTEND;TZID=America/New_York:20221218T183000
DTSTAMP:20260424T005535
CREATED:20201027T164639Z
LAST-MODIFIED:20221020T170526Z
UID:10005492-1671379200-1671388200@www.atlantaparent.com
SUMMARY:The Annual Christmas Festival Concerts
DESCRIPTION:Experience the joy and beauty of Advent and Christmas with the Chancel Choir and Festival Orchestra. Dec. 18\, 4 and 6:30 p.m. Free admission.
URL:https://www.atlantaparent.com/event/christmas-festival-concerts/
LOCATION:Gainesville First United Methodist Church\, 2780 Thompson Bridge Rd.\, Gainesville
GEO:34.3476973;-83.8510296
X-APPLE-STRUCTURED-LOCATION;VALUE=URI;X-ADDRESS=Gainesville First United Methodist Church 2780 Thompson Bridge Rd. Gainesville;X-APPLE-RADIUS=500;X-TITLE=2780 Thompson Bridge Rd.:geo:-83.8510296,34.3476973
END:VEVENT
BEGIN:VEVENT
DTSTART;TZID=America/New_York:20221218T170000
DTEND;TZID=America/New_York:20221218T170000
DTSTAMP:20260424T005535
CREATED:20221212T143111Z
LAST-MODIFIED:20221212T143111Z
UID:10006754-1671382800-1671382800@www.atlantaparent.com
SUMMARY:Menorah DIY and Hanukkah First Night Celebration
DESCRIPTION:Create your own menorah\, enjoy doughnuts and latkes and celebrate the first night of Hanukkah. Please send reservation information to membership@mynertamid.org.
URL:https://www.atlantaparent.com/event/menorah-diy-and-hanukkah-first-night-celebration/
LOCATION:Congregation Ner Tamid\, 1349 Old Hwy. 41\, Marietta
GEO:33.9582645;-84.5258422
X-APPLE-STRUCTURED-LOCATION;VALUE=URI;X-ADDRESS=Congregation Ner Tamid 1349 Old Hwy. 41 Marietta;X-APPLE-RADIUS=500;X-TITLE=1349 Old Hwy. 41:geo:-84.5258422,33.9582645
END:VEVENT
BEGIN:VEVENT
DTSTART;TZID=America/New_York:20221218T170000
DTEND;TZID=America/New_York:20221218T190000
DTSTAMP:20260424T005535
CREATED:20211102T163115Z
LAST-MODIFIED:20221024T163647Z
UID:10006096-1671382800-1671390000@www.atlantaparent.com
SUMMARY:Chanukah Bash
DESCRIPTION:Candle lighting\, music\, pasta\, latkes\, games and more.
URL:https://www.atlantaparent.com/event/chanukah-bash/
LOCATION:Congregation Gesher L’Torah\, 4320 Kimball Bridge Rd.\, Alpharetta
GEO:34.054226;-84.2333543
X-APPLE-STRUCTURED-LOCATION;VALUE=URI;X-ADDRESS=Congregation Gesher L’Torah 4320 Kimball Bridge Rd. Alpharetta;X-APPLE-RADIUS=500;X-TITLE=4320 Kimball Bridge Rd.:geo:-84.2333543,34.054226
END:VEVENT
BEGIN:VEVENT
DTSTART;TZID=America/New_York:20221218T180000
DTEND;TZID=America/New_York:20221218T210000
DTSTAMP:20260424T005535
CREATED:20211022T174758Z
LAST-MODIFIED:20221020T173201Z
UID:10006125-1671386400-1671397200@www.atlantaparent.com
SUMMARY:Holiday Open House
DESCRIPTION:Take family pictures in one of the beautifully decorated rooms and enjoy a meal with Santa. Dec. 18\, 6-9 p.m. Free admission; non-residents\, $10.
URL:https://www.atlantaparent.com/event/holiday-family-portraits/
LOCATION:Gwinnett Historic Courthouse\, 185 West Crogan St.\, Lawrenceville
GEO:33.9568262;-83.9890165
X-APPLE-STRUCTURED-LOCATION;VALUE=URI;X-ADDRESS=Gwinnett Historic Courthouse 185 West Crogan St. Lawrenceville;X-APPLE-RADIUS=500;X-TITLE=185 West Crogan St.:geo:-83.9890165,33.9568262
END:VEVENT
BEGIN:VEVENT
DTSTART;TZID=America/New_York:20221218T190000
DTEND;TZID=America/New_York:20230208T170000
DTSTAMP:20260424T005535
CREATED:20221027T133833Z
LAST-MODIFIED:20221027T133833Z
UID:10006646-1671390000-1675875600@www.atlantaparent.com
SUMMARY:Holly Dolly Christmas
DESCRIPTION:Enjoy the music of Dolly Parton with songs from her Christmas albums\, famous duets and more. $35-$40.
URL:https://www.atlantaparent.com/event/holly-dolly-christmas-2/
LOCATION:Roswell Cultural Arts Center\, 950 Forrest St.\, Roswell
GEO:34.0234904;-84.3578365
X-APPLE-STRUCTURED-LOCATION;VALUE=URI;X-ADDRESS=Roswell Cultural Arts Center 950 Forrest St. Roswell;X-APPLE-RADIUS=500;X-TITLE=950 Forrest St.:geo:-84.3578365,34.0234904
END:VEVENT
BEGIN:VEVENT
DTSTART;TZID=America/New_York:20221219T193000
DTEND;TZID=America/New_York:20221219T193000
DTSTAMP:20260424T005535
CREATED:20211102T161420Z
LAST-MODIFIED:20221107T161458Z
UID:10006090-1671478200-1671478200@www.atlantaparent.com
SUMMARY:Chanukah Night with the Hawks
DESCRIPTION:This Chanukah celebration includes a pre-game menorah lighting\, kosher food options\, raffles and watching the Hawks vs. Magic game. $24-$57.
URL:https://www.atlantaparent.com/event/chanukah-night-with-the-hawks/
LOCATION:State Farm Arena\, 1 State Farm Dr.\, Atlanta
END:VEVENT
BEGIN:VEVENT
DTSTART;TZID=America/New_York:20221221T190000
DTEND;TZID=America/New_York:20221221T190000
DTSTAMP:20260424T005535
CREATED:20221027T134429Z
LAST-MODIFIED:20221027T134429Z
UID:10006645-1671649200-1671649200@www.atlantaparent.com
SUMMARY:Joy to the World! with Jenny Oaks Baker & Family Four
DESCRIPTION:Enjoy beloved Christmas carols\, dancing by The Ballet Conservatory of Atlanta and The Carpenter Academy of Irish dance and more to celebrate the Christmas season. $20-$50.
URL:https://www.atlantaparent.com/event/joy-to-the-world-with-jenny-oaks-baker-family-four/
LOCATION:Byers Theatre\, 1 Galambos Way\, Sandy Springs
END:VEVENT
BEGIN:VEVENT
DTSTART;TZID=America/New_York:20221227T173000
DTEND;TZID=America/New_York:20221227T193000
DTSTAMP:20260424T005535
CREATED:20221216T143948Z
LAST-MODIFIED:20221216T143948Z
UID:10006718-1672162200-1672169400@www.atlantaparent.com
SUMMARY:Wesley Chapel-William C. Brown Library Anniversary and Kwanzaa Celebration
DESCRIPTION:Celebrate 30 years of Wesley Chapel-William C. Brown’s service to the community\, and enjoy Kwanzaa celebrations with drummers\, dancers and the 7 Principles of Kwanzaa.
URL:https://www.atlantaparent.com/event/wesley-chapel-william-c-brown-library-anniversary-and-kwanzaa-celebration/
LOCATION:Wesley Chapel-William C. Brown Library\, 2861 Wesley Chapel Rd.\, Decatur
GEO:33.7044089;-84.2210658
X-APPLE-STRUCTURED-LOCATION;VALUE=URI;X-ADDRESS=Wesley Chapel-William C. Brown Library 2861 Wesley Chapel Rd. Decatur;X-APPLE-RADIUS=500;X-TITLE=2861 Wesley Chapel Rd.:geo:-84.2210658,33.7044089
END:VEVENT
BEGIN:VEVENT
DTSTART;TZID=UTC:20221230T100000
DTEND;TZID=UTC:20221230T170000
DTSTAMP:20260424T005536
CREATED:20171121T050005Z
LAST-MODIFIED:20221213T150317Z
UID:10000009-1672394400-1672419600@www.atlantaparent.com
SUMMARY:New Year’s Crafts & Parades
DESCRIPTION:Welcome the New Year by making a party hat and a noisemaker\, and walk in the parade. Dec. 30\, 10 a.m.-noon; 12:30-2:30 p.m. and 3-5 p.m. Free with admission: $9.
URL:https://www.atlantaparent.com/event/new-years-eve-celebration/
LOCATION:Interactive Neighborhood for Kids\, 3900 Ink Ave.\, Oakwood\, 30566
GEO:34.289698;-83.8138179
X-APPLE-STRUCTURED-LOCATION;VALUE=URI;X-ADDRESS=Interactive Neighborhood for Kids 3900 Ink Ave. Oakwood 30566;X-APPLE-RADIUS=500;X-TITLE=3900 Ink Ave.:geo:-83.8138179,34.289698
END:VEVENT
BEGIN:VEVENT
DTSTART;TZID=America/New_York:20221231T100000
DTEND;TZID=America/New_York:20221231T130000
DTSTAMP:20260424T005536
CREATED:20211220T181811Z
LAST-MODIFIED:20221215T171051Z
UID:10006175-1672480800-1672491600@www.atlantaparent.com
SUMMARY:Noon Year's Eve
DESCRIPTION:Say goodbye to 2022 with a dance party\, a photo booth\, face painting and party hat coloring stations. Free admission.
URL:https://www.atlantaparent.com/event/noon-years-eve-3/
LOCATION:The Avenue Peachtree City\, 239 City Cir.\, Peachtree City
GEO:33.3945725;-84.5912368
X-APPLE-STRUCTURED-LOCATION;VALUE=URI;X-ADDRESS=The Avenue Peachtree City 239 City Cir. Peachtree City;X-APPLE-RADIUS=500;X-TITLE=239 City Cir.:geo:-84.5912368,33.3945725
END:VEVENT
BEGIN:VEVENT
DTSTART;VALUE=DATE:20230105
DTEND;VALUE=DATE:20230130
DTSTAMP:20260424T005536
CREATED:20251211T024902Z
LAST-MODIFIED:20251216T154751Z
UID:10000995-1672876800-1675036799@www.atlantaparent.com
SUMMARY:The Dragon King
DESCRIPTION:A terrible drought has overtaken the land\, and while the Dragon King could bring back the life-giving rains\, he hasn’t. A brave Grandmother is determined to find out why\, even if she has to travel to the bottom of the sea. Jan. 14-25. See website for showtimes. $25.
URL:https://www.atlantaparent.com/event/the-dragon-king/
LOCATION:Center for Puppetry Arts\, 1404 Spring St. NW\, Atlanta
ATTACH;FMTTYPE=image/jpeg:https://www.atlantaparent.com/wp-content/uploads/2017/02/DragonKing-1_Anne-Schaefer_.jpg
GEO:33.7927782;-84.3897011
X-APPLE-STRUCTURED-LOCATION;VALUE=URI;X-ADDRESS=Center for Puppetry Arts 1404 Spring St. NW Atlanta;X-APPLE-RADIUS=500;X-TITLE=1404 Spring St. NW:geo:-84.3897011,33.7927782
END:VEVENT
BEGIN:VEVENT
DTSTART;VALUE=DATE:20230106
DTEND;VALUE=DATE:20230116
DTSTAMP:20260424T005536
CREATED:20221207T191842Z
LAST-MODIFIED:20221207T191842Z
UID:10006707-1672963200-1673827199@www.atlantaparent.com
SUMMARY:Every Brilliant Thing
DESCRIPTION:At six years old\, you’re told your mother finds it hard to be happy\, so to help her\, you make a list of every brilliant thing about the world. Recommended for ages 10+. Jan. 6-15. See website for showtimes. $18-$23.
URL:https://www.atlantaparent.com/event/every-brilliant-thing/
LOCATION:Woodstock Arts\, 8534 Main St.\, Woodstock
GEO:34.1017163;-84.5199758
X-APPLE-STRUCTURED-LOCATION;VALUE=URI;X-ADDRESS=Woodstock Arts 8534 Main St. Woodstock;X-APPLE-RADIUS=500;X-TITLE=8534 Main St.:geo:-84.5199758,34.1017163
END:VEVENT
BEGIN:VEVENT
DTSTART;TZID=America/New_York:20230107T110000
DTEND;TZID=America/New_York:20230107T170000
DTSTAMP:20260424T005536
CREATED:20221207T191013Z
LAST-MODIFIED:20221207T191013Z
UID:10006744-1673089200-1673110800@www.atlantaparent.com
SUMMARY:ALICATS Present Princess & the Frog
DESCRIPTION:Watch the magical journey Tiana goes on after wishing on a star. Jan. 7\, 11 a.m.-5 p.m. $20-$25. \n 
URL:https://www.atlantaparent.com/event/alicats-present-princess-the-frog/
LOCATION:Gas South District\, 6400 Sugarloaf Parkway\, Duluth
GEO:33.9913579;-84.0938603
X-APPLE-STRUCTURED-LOCATION;VALUE=URI;X-ADDRESS=Gas South District 6400 Sugarloaf Parkway Duluth;X-APPLE-RADIUS=500;X-TITLE=6400 Sugarloaf Parkway:geo:-84.0938603,33.9913579
END:VEVENT
BEGIN:VEVENT
DTSTART;TZID=America/New_York:20230114T110000
DTEND;TZID=America/New_York:20230114T130000
DTSTAMP:20260424T005536
CREATED:20221207T191301Z
LAST-MODIFIED:20221207T191301Z
UID:10006750-1673694000-1673701200@www.atlantaparent.com
SUMMARY:Stiles & Drewe’s Goldilocks and the Three Bears
DESCRIPTION:This classic fairytale is turned into a modern musical to teach audiences to keep their hands off others’ belongings\, or there will be consequences to bear! Jan. 14\, 11 a.m. and 1 p.m. $12-$15.
URL:https://www.atlantaparent.com/event/stiles-drewes-goldilocks-and-the-three-bears/
LOCATION: Aurora Theatre\, 128 East Pike St.\, Lawrenceville
END:VEVENT
BEGIN:VEVENT
DTSTART;TZID=America/New_York:20230115T153000
DTEND;TZID=America/New_York:20230115T153000
DTSTAMP:20260424T005536
CREATED:20221221T181007Z
LAST-MODIFIED:20221221T181007Z
UID:10006762-1673796600-1673796600@www.atlantaparent.com
SUMMARY:CBAA's Lunar New Year Gala
DESCRIPTION:Watch the Johns Creek Symphony Orchestra perform\, as well as Chinese folk dances\, solo and vocal quartet songs and more. $0-$50.
URL:https://www.atlantaparent.com/event/cbaas-lunar-new-year-gala/
LOCATION:Byers Theatre\, 1 Galambos Way\, Sandy Springs
END:VEVENT
BEGIN:VEVENT
DTSTART;VALUE=DATE:20230116
DTEND;VALUE=DATE:20230117
DTSTAMP:20260424T005536
CREATED:20191221T050000Z
LAST-MODIFIED:20221207T194715Z
UID:10002544-1673827200-1673913599@www.atlantaparent.com
SUMMARY:MLK Day of Service
DESCRIPTION:Find a volunteer opportunity with AmeriCorps to participate in a day of service in honor of Dr. King.
URL:https://www.atlantaparent.com/event/mlk-day-service/
LOCATION:Nationwide
END:VEVENT
BEGIN:VEVENT
DTSTART;TZID=America/New_York:20230116T100000
DTEND;TZID=America/New_York:20230116T120000
DTSTAMP:20260424T005536
CREATED:20230105T192657Z
LAST-MODIFIED:20230105T192657Z
UID:10006729-1673863200-1673870400@www.atlantaparent.com
SUMMARY:Dr. Martin Luther King\, Jr. Celebration
DESCRIPTION:This celebration will feature entertainment\, dramatic readings\, dance\, musical performances and the presentation of the “Living the Dream” award from the Cobb County Branch of the NAACP and the Cobb County Government. Free admission.
URL:https://www.atlantaparent.com/event/dr-martin-luther-king-jr-celebration/
LOCATION:Jennie T. Anderson Theatre\, 548 South Marietta Pkwy.\, Marietta
END:VEVENT
BEGIN:VEVENT
DTSTART;TZID=America/New_York:20230116T120000
DTEND;TZID=America/New_York:20230116T150000
DTSTAMP:20260424T005536
CREATED:20220110T183645Z
LAST-MODIFIED:20230103T145405Z
UID:10006178-1673870400-1673881200@www.atlantaparent.com
SUMMARY:Let It Snow!
DESCRIPTION:Enjoy a winter wonderland with snow\, Anna\, Elsa and Olaf from “Frozen\,” hot chocolate and more. Free admission; please bring a pair of new winter pajamas in child or adult sizes to donate to Family Promise.
URL:https://www.atlantaparent.com/event/let-it-snow/
LOCATION:Halcyon\, 6365 Halcyon Way\, Alpharetta\, GA\, 30005
GEO:34.1106637;-84.2242307
X-APPLE-STRUCTURED-LOCATION;VALUE=URI;X-ADDRESS=Halcyon 6365 Halcyon Way Alpharetta GA 30005;X-APPLE-RADIUS=500;X-TITLE=6365 Halcyon Way:geo:-84.2242307,34.1106637
END:VEVENT
BEGIN:VEVENT
DTSTART;TZID=America/New_York:20230116T170000
DTEND;TZID=America/New_York:20230116T170000
DTSTAMP:20260424T005536
CREATED:20201223T135231Z
LAST-MODIFIED:20230105T191927Z
UID:10004827-1673888400-1673888400@www.atlantaparent.com
SUMMARY:MLK Day Dinner & Celebration
DESCRIPTION:Brookhaven’s annual dinner features honored speakers\, dinner\, giveaways and live performances to honor the legacy of Dr. Martin Luther King Jr. $10.
URL:https://www.atlantaparent.com/event/mlk-day-dinner-celebration/
LOCATION:Lynwood Community Center\, 3360 Osborne Rd.\, Brookhaven
GEO:33.8872546;-84.3457068
X-APPLE-STRUCTURED-LOCATION;VALUE=URI;X-ADDRESS=Lynwood Community Center 3360 Osborne Rd. Brookhaven;X-APPLE-RADIUS=500;X-TITLE=3360 Osborne Rd.:geo:-84.3457068,33.8872546
END:VEVENT
BEGIN:VEVENT
DTSTART;TZID=America/New_York:20230116T180000
DTEND;TZID=America/New_York:20230116T180000
DTSTAMP:20260424T005536
CREATED:20221214T161642Z
LAST-MODIFIED:20221214T161642Z
UID:10006714-1673892000-1673892000@www.atlantaparent.com
SUMMARY:Virtual: Let Freedom Ring Celebration
DESCRIPTION:Celebrate the legacy of Dr. King with this musical tribute from the John F. Kennedy Center for the Performing Arts and Georgetown University. The performance will be live streamed on the Kennedy Center Facebook and YouTube pages.
URL:https://www.atlantaparent.com/event/virtual-let-freedom-ring-celebration/
END:VEVENT
BEGIN:VEVENT
DTSTART;VALUE=DATE:20230120
DTEND;VALUE=DATE:20230130
DTSTAMP:20260424T005536
CREATED:20190515T182222Z
LAST-MODIFIED:20221207T191526Z
UID:10004169-1674172800-1675036799@www.atlantaparent.com
SUMMARY:The Lightning Thief
DESCRIPTION:  \nBased on the best-selling book series by Rick Riordan\, watch the adventures of Percy Jackson as he discovers he’s the half-blood son of a Greek god. Jan. 20-29. See website for showtimes. $18-$23.
URL:https://www.atlantaparent.com/event/the-lightning-thief-the-percy-jackson-musical/
LOCATION:Woodstock Arts\, 8534 Main St.\, Woodstock
GEO:34.1017163;-84.5199758
X-APPLE-STRUCTURED-LOCATION;VALUE=URI;X-ADDRESS=Woodstock Arts 8534 Main St. Woodstock;X-APPLE-RADIUS=500;X-TITLE=8534 Main St.:geo:-84.5199758,34.1017163
END:VEVENT
BEGIN:VEVENT
DTSTART;VALUE=DATE:20230121
DTEND;VALUE=DATE:20230123
DTSTAMP:20260424T005536
CREATED:20221215T151748Z
LAST-MODIFIED:20221215T151748Z
UID:10006720-1674259200-1674431999@www.atlantaparent.com
SUMMARY:Professional Bull Riders: Unleash the Beast Tour
DESCRIPTION:The top 35 bull riders in the world compete against the fiercest bulls\, along with pyrotechnics\, explosions and flames for edge-of-your-seat excitement. Jan. 21\, 6:45 p.m. and Jan. 22\, 1:45 p.m. $26-$379.
URL:https://www.atlantaparent.com/event/professional-bull-riders-unleash-the-beast-tour/
LOCATION:Gas South District\, 6400 Sugarloaf Parkway\, Duluth
GEO:33.9913579;-84.0938603
X-APPLE-STRUCTURED-LOCATION;VALUE=URI;X-ADDRESS=Gas South District 6400 Sugarloaf Parkway Duluth;X-APPLE-RADIUS=500;X-TITLE=6400 Sugarloaf Parkway:geo:-84.0938603,33.9913579
END:VEVENT
BEGIN:VEVENT
DTSTART;VALUE=DATE:20230121
DTEND;VALUE=DATE:20230501
DTSTAMP:20260424T005536
CREATED:20221207T185827Z
LAST-MODIFIED:20230123T133845Z
UID:10006740-1674259200-1682899199@www.atlantaparent.com
SUMMARY:Splash and Bubbles: Dive In\, Lend a Fin!
DESCRIPTION:Dive into the incredible world of ocean exploration with STEM-based activities. $13.95-$19.95; ages 11 months and younger\, free.
URL:https://www.atlantaparent.com/event/splash-and-bubbles-dive-in-lend-a-fin/
LOCATION:Children’s Museum of Atlanta\, 275 Centennial Olympic Park Dr. NW\, Atlanta\, GA
ATTACH;FMTTYPE=image/jpeg:https://www.atlantaparent.com/wp-content/uploads/2022/12/19-0203-magichouse-025_40203043763_o-scaled-e1670439446366.jpg
END:VEVENT
BEGIN:VEVENT
DTSTART;VALUE=DATE:20230121
DTEND;VALUE=DATE:20230905
DTSTAMP:20260424T005536
CREATED:20221215T151325Z
LAST-MODIFIED:20230628T204722Z
UID:10006713-1674259200-1693871999@www.atlantaparent.com
SUMMARY:How People Make Things
DESCRIPTION:Inspired by the factory tour segments from the Mister Rogers’ Neighborhood T.V. show\, this exhibit offers hands-on activities using real factory tools and machines to show how items are made. On Opening Day\, make a variety of paper crafts. $19; ages 3-17\, $15; ages 2 and younger\, free.
URL:https://www.atlantaparent.com/event/how-people-make-things/
LOCATION:Tellus Science Museum\, 100 Tellus Drive\, Cartersville
GEO:34.2418518;-84.7706004
X-APPLE-STRUCTURED-LOCATION;VALUE=URI;X-ADDRESS=Tellus Science Museum 100 Tellus Drive Cartersville;X-APPLE-RADIUS=500;X-TITLE=100 Tellus Drive:geo:-84.7706004,34.2418518
END:VEVENT
BEGIN:VEVENT
DTSTART;TZID=UTC:20230121T100000
DTEND;TZID=UTC:20230121T130000
DTSTAMP:20260424T005536
CREATED:20201207T050042Z
LAST-MODIFIED:20230123T133852Z
UID:10000801-1674295200-1674306000@www.atlantaparent.com
SUMMARY:Pirate Day at Fernbank Museum of Natural History
DESCRIPTION:Set sail on a swashbuckling adventure with pirate-themed crafts and games\, pirate costumes and more. Reservation required. $24.95; ages 3-12\, $22.95; ages 2 and younger\, free.
URL:https://www.atlantaparent.com/event/pirate-day/
LOCATION:Fernbank Museum of Natural History\, 767 Clifton Rd. NE\, Atlanta
ATTACH;FMTTYPE=image/jpeg:https://www.atlantaparent.com/wp-content/uploads/2018/12/pirate-day-2-b.jpg
GEO:33.7739166;-84.3277485
X-APPLE-STRUCTURED-LOCATION;VALUE=URI;X-ADDRESS=Fernbank Museum of Natural History 767 Clifton Rd. NE Atlanta;X-APPLE-RADIUS=500;X-TITLE=767 Clifton Rd. NE:geo:-84.3277485,33.7739166
END:VEVENT
BEGIN:VEVENT
DTSTART;TZID=America/New_York:20230122T170000
DTEND;TZID=America/New_York:20230122T200000
DTSTAMP:20260424T005536
CREATED:20230118T143945Z
LAST-MODIFIED:20230118T143945Z
UID:10006737-1674406800-1674417600@www.atlantaparent.com
SUMMARY:Lanterns on the Lawn
DESCRIPTION:Enjoy live performances by traditional Chinese drummers and lion dancers\, authentic cuisine\, more than 300 Chinese lanterns\, live music and giveaways. Free admission.
URL:https://www.atlantaparent.com/event/lanterns-on-the-lawn/
LOCATION:Ashford Lane\, 4500 Olde Perimeter Way\, Atlanta
ATTACH;FMTTYPE=image/jpeg:https://www.atlantaparent.com/wp-content/uploads/2023/01/Lanters-on-The-Lawn-1.jpeg
GEO:33.9310997;-84.3415516
X-APPLE-STRUCTURED-LOCATION;VALUE=URI;X-ADDRESS=Ashford Lane 4500 Olde Perimeter Way Atlanta;X-APPLE-RADIUS=500;X-TITLE=4500 Olde Perimeter Way:geo:-84.3415516,33.9310997
END:VEVENT
BEGIN:VEVENT
DTSTART;VALUE=DATE:20230126
DTEND;VALUE=DATE:20230306
DTSTAMP:20260424T005536
CREATED:20221207T192113Z
LAST-MODIFIED:20221207T192113Z
UID:10006706-1674691200-1678060799@www.atlantaparent.com
SUMMARY:All Smiles
DESCRIPTION:This delightful show explores how smiles are different and how people show their emotions in different ways. Jan. 26-March 5. See website for showtimes. $10; ages 6-17\, $5; ages 5 and younger\, free. \n 
URL:https://www.atlantaparent.com/event/all-smiles/
LOCATION:Alliance Theatre\, 1280 Peachtree Street\, Atlanta
END:VEVENT
BEGIN:VEVENT
DTSTART;VALUE=DATE:20230127
DTEND;VALUE=DATE:20230130
DTSTAMP:20260424T005536
CREATED:20221219T193443Z
LAST-MODIFIED:20230130T133905Z
UID:10006717-1674777600-1675036799@www.atlantaparent.com
SUMMARY:Riverdance
DESCRIPTION:This is the 25th anniversary of Riverdance\, a celebration of energetic Irish dancing\, complete with spectacular lighting\, project\, stage and costume designs. Jan. 27\, 8 p.m.; Jan. 28\, 2 and 8 p.m.\nand Jan. 29\, 1 and 6:30 p.m. $34-$89.
URL:https://www.atlantaparent.com/event/riverdance/
LOCATION:Fox Theatre\, 660 Peachtree St. NE\, Atlanta
ATTACH;FMTTYPE=image/jpeg:https://www.atlantaparent.com/wp-content/uploads/2022/12/Riverdance-2-scaled-e1671478475520.jpg
GEO:33.772731;-84.385022
X-APPLE-STRUCTURED-LOCATION;VALUE=URI;X-ADDRESS=Fox Theatre 660 Peachtree St. NE Atlanta;X-APPLE-RADIUS=500;X-TITLE=660 Peachtree St. NE:geo:-84.385022,33.772731
END:VEVENT
END:VCALENDAR