BEGIN:VCALENDAR
VERSION:2.0
PRODID:-//NEW Atlanta Parent - ECPv6.15.11//NONSGML v1.0//EN
CALSCALE:GREGORIAN
METHOD:PUBLISH
X-ORIGINAL-URL:https://www.atlantaparent.com
X-WR-CALDESC:Events for NEW Atlanta Parent
REFRESH-INTERVAL;VALUE=DURATION:PT1H
X-Robots-Tag:noindex
X-PUBLISHED-TTL:PT1H
BEGIN:VTIMEZONE
TZID:America/New_York
BEGIN:DAYLIGHT
TZOFFSETFROM:-0500
TZOFFSETTO:-0400
TZNAME:EDT
DTSTART:20220313T070000
END:DAYLIGHT
BEGIN:STANDARD
TZOFFSETFROM:-0400
TZOFFSETTO:-0500
TZNAME:EST
DTSTART:20221106T060000
END:STANDARD
BEGIN:DAYLIGHT
TZOFFSETFROM:-0500
TZOFFSETTO:-0400
TZNAME:EDT
DTSTART:20230312T070000
END:DAYLIGHT
BEGIN:STANDARD
TZOFFSETFROM:-0400
TZOFFSETTO:-0500
TZNAME:EST
DTSTART:20231105T060000
END:STANDARD
BEGIN:DAYLIGHT
TZOFFSETFROM:-0500
TZOFFSETTO:-0400
TZNAME:EDT
DTSTART:20240310T070000
END:DAYLIGHT
BEGIN:STANDARD
TZOFFSETFROM:-0400
TZOFFSETTO:-0500
TZNAME:EST
DTSTART:20241103T060000
END:STANDARD
END:VTIMEZONE
BEGIN:VEVENT
DTSTART;VALUE=DATE:20230618
DTEND;VALUE=DATE:20230619
DTSTAMP:20260421T131146
CREATED:20210514T175603Z
LAST-MODIFIED:20230522T131859Z
UID:10004218-1687046400-1687132799@www.atlantaparent.com
SUMMARY:Father’s Day Weekend at North Georgia Wildlife Park
DESCRIPTION:Dads get free admission with paid children and adult admission. $37.99; ages 2-11\, $35.99; ages 1 and younger\, free.
URL:https://www.atlantaparent.com/event/fathers-day-weekend-at-north-georgia-zoo/
LOCATION:North Georgia Wildlife Park\, 2912 Paradise Valley Road\, Cleveland
GEO:34.6223675;-83.8656005
X-APPLE-STRUCTURED-LOCATION;VALUE=URI;X-ADDRESS=North Georgia Wildlife Park 2912 Paradise Valley Road Cleveland;X-APPLE-RADIUS=500;X-TITLE=2912 Paradise Valley Road:geo:-83.8656005,34.6223675
END:VEVENT
BEGIN:VEVENT
DTSTART;TZID=America/New_York:20230618T120000
DTEND;TZID=America/New_York:20230618T143000
DTSTAMP:20260421T131146
CREATED:20230614T183452Z
LAST-MODIFIED:20230614T183452Z
UID:10006904-1687089600-1687098600@www.atlantaparent.com
SUMMARY:Celebrate Father’s Day at Alpharetta City Center
DESCRIPTION:This city celebration will feature putt putt golf on the Town Green for a chance to win gift cards from local restaurants and retailers. Free admission.
URL:https://www.atlantaparent.com/event/celebrate-fathers-day-at-alpharetta-city-center/
LOCATION:Alpharetta City Center\, 2001 Commerce St.\, Alpharetta
GEO:34.0747893;-84.2928572
X-APPLE-STRUCTURED-LOCATION;VALUE=URI;X-ADDRESS=Alpharetta City Center 2001 Commerce St. Alpharetta;X-APPLE-RADIUS=500;X-TITLE=2001 Commerce St.:geo:-84.2928572,34.0747893
END:VEVENT
BEGIN:VEVENT
DTSTART;TZID=America/New_York:20230618T140000
DTEND;TZID=America/New_York:20230618T220000
DTSTAMP:20260421T131146
CREATED:20210601T152143Z
LAST-MODIFIED:20230614T123541Z
UID:10005847-1687096800-1687125600@www.atlantaparent.com
SUMMARY:City of South Fulton Juneteenth Celebration
DESCRIPTION:The City of South Fulton celebrates Juneteenth with captivating performances\, vibrant art\, delicious food and more.
URL:https://www.atlantaparent.com/event/forward-to-freedom-juneteenth-celebration/
LOCATION:Wolf Creek Amphitheater\, 3025 Merk Rd. SW\, South Fulton
GEO:33.6752007;-84.5672132
X-APPLE-STRUCTURED-LOCATION;VALUE=URI;X-ADDRESS=Wolf Creek Amphitheater 3025 Merk Rd. SW South Fulton;X-APPLE-RADIUS=500;X-TITLE=3025 Merk Rd. SW:geo:-84.5672132,33.6752007
END:VEVENT
BEGIN:VEVENT
DTSTART;VALUE=DATE:20230623
DTEND;VALUE=DATE:20230626
DTSTAMP:20260421T131146
CREATED:20230614T124119Z
LAST-MODIFIED:20230614T124119Z
UID:10006905-1687478400-1687737599@www.atlantaparent.com
SUMMARY:Atlanta Slingfest
DESCRIPTION:Watch riders compete\, play games\, taste breakfast with “Brunch So Hard!” and more. June 23\, 5-9:30 p.m.; June 24\, 9 a.m.-2 p.m. and June 25\, 11 a.m. Free admission.
URL:https://www.atlantaparent.com/event/atlanta-slingfest/
LOCATION:Wilkerson Mill Park\, 8095 Wilkerson Mill Rd.\, Palmetto\, 30268\, United States
GEO:33.5385586;-84.6487346
X-APPLE-STRUCTURED-LOCATION;VALUE=URI;X-ADDRESS=Wilkerson Mill Park 8095 Wilkerson Mill Rd. Palmetto 30268 United States;X-APPLE-RADIUS=500;X-TITLE=8095 Wilkerson Mill Rd.:geo:-84.6487346,33.5385586
END:VEVENT
BEGIN:VEVENT
DTSTART;VALUE=DATE:20230623
DTEND;VALUE=DATE:20230918
DTSTAMP:20260421T131146
CREATED:20230606T155506Z
LAST-MODIFIED:20230626T125013Z
UID:10006899-1687478400-1694995199@www.atlantaparent.com
SUMMARY:Samurai: Armor
DESCRIPTION:From the Collection of Ann and Gabriel Barbier-Mueller\, view more than 150 helmets\, swords and sets of armor from Japan. $18.50.
URL:https://www.atlantaparent.com/event/samurai-armor/
LOCATION:High Museum of Art\, 1280 Peachtree Street\, Atlanta
ATTACH;FMTTYPE=image/jpeg:https://www.atlantaparent.com/wp-content/uploads/2023/06/T123-scaled-e1686066889956.jpg
GEO:33.7891582;-84.3849351
X-APPLE-STRUCTURED-LOCATION;VALUE=URI;X-ADDRESS=High Museum of Art 1280 Peachtree Street Atlanta;X-APPLE-RADIUS=500;X-TITLE=1280 Peachtree Street:geo:-84.3849351,33.7891582
END:VEVENT
BEGIN:VEVENT
DTSTART;TZID=America/New_York:20230623T170000
DTEND;TZID=America/New_York:20230623T200000
DTSTAMP:20260421T131146
CREATED:20230605T161725Z
LAST-MODIFIED:20230605T161725Z
UID:10006901-1687539600-1687550400@www.atlantaparent.com
SUMMARY:Birthday Bash
DESCRIPTION:Celebrate 40 years of North Fulton Community Charities with food trucks\, a fire truck\, a k-9 unit\, ice cream\, ’80s music and more.
URL:https://www.atlantaparent.com/event/birthday-bash/
LOCATION:North Fulton Community Charities\, 11270 Elkins Rd.\, Roswell\, GA\, United States
GEO:34.0533079;-84.3357158
X-APPLE-STRUCTURED-LOCATION;VALUE=URI;X-ADDRESS=North Fulton Community Charities 11270 Elkins Rd. Roswell GA United States;X-APPLE-RADIUS=500;X-TITLE=11270 Elkins Rd.:geo:-84.3357158,34.0533079
END:VEVENT
BEGIN:VEVENT
DTSTART;TZID=America/New_York:20230624T100000
DTEND;TZID=America/New_York:20230624T120000
DTSTAMP:20260421T131146
CREATED:20230519T180906Z
LAST-MODIFIED:20230519T180906Z
UID:10006879-1687600800-1687608000@www.atlantaparent.com
SUMMARY:Whimsical Wetland Fairy Homes
DESCRIPTION:Celebrate International Fairy Day by building a whimsical home for them to visit or inhabit. Free; registration required by June 12.
URL:https://www.atlantaparent.com/event/whimsical-wetland-fairy-homes/
LOCATION:Newman Wetlands Center\, 2755 Freeman Rd.\, Hampton\, GA\, United States
GEO:33.4719875;-84.3060011
X-APPLE-STRUCTURED-LOCATION;VALUE=URI;X-ADDRESS=Newman Wetlands Center 2755 Freeman Rd. Hampton GA United States;X-APPLE-RADIUS=500;X-TITLE=2755 Freeman Rd.:geo:-84.3060011,33.4719875
END:VEVENT
BEGIN:VEVENT
DTSTART;TZID=America/New_York:20230624T190000
DTEND;TZID=America/New_York:20230624T210000
DTSTAMP:20260421T131146
CREATED:20180427T031020Z
LAST-MODIFIED:20230327T151633Z
UID:10003512-1687633200-1687640400@www.atlantaparent.com
SUMMARY:Roswell Riverside Sounds
DESCRIPTION:Food trucks and live music. Free. \n\nApril 22: Zach Person\nMay 27: Early James\nJune 24: The Deslondes\nJuly 22: Temi Neilson\nAug. 26: Jake La Botz\nSept. 23: Jackie Venson
URL:https://www.atlantaparent.com/event/roswell-riverside-sounds/2023-06-24/
LOCATION:Riverside Park\, 575 Riverside Road\, Roswell
GEO:34.0062623;-84.346725
X-APPLE-STRUCTURED-LOCATION;VALUE=URI;X-ADDRESS=Riverside Park 575 Riverside Road Roswell;X-APPLE-RADIUS=500;X-TITLE=575 Riverside Road:geo:-84.346725,34.0062623
END:VEVENT
BEGIN:VEVENT
DTSTART;TZID=America/New_York:20230625T110000
DTEND;TZID=America/New_York:20230625T160000
DTSTAMP:20260421T131146
CREATED:20230622T131100Z
LAST-MODIFIED:20230622T131100Z
UID:10006907-1687690800-1687708800@www.atlantaparent.com
SUMMARY:Something Special Sundays
DESCRIPTION:Create your own colorful collage art\, meet Kendall Rae Johnson\, Georgia’s youngest certified farmer\, and visit the three exhibitions. Free admission; pre-registration requested.
URL:https://www.atlantaparent.com/event/something-special-sundays/
LOCATION:The Breman Museum\, 1440 Spring St. NW\, Atlanta
GEO:33.7939623;-84.389666
X-APPLE-STRUCTURED-LOCATION;VALUE=URI;X-ADDRESS=The Breman Museum 1440 Spring St. NW Atlanta;X-APPLE-RADIUS=500;X-TITLE=1440 Spring St. NW:geo:-84.389666,33.7939623
END:VEVENT
BEGIN:VEVENT
DTSTART;VALUE=DATE:20230630
DTEND;VALUE=DATE:20230705
DTSTAMP:20260421T131146
CREATED:20230626T142712Z
LAST-MODIFIED:20230626T142712Z
UID:10007277-1688083200-1688515199@www.atlantaparent.com
SUMMARY:4th of July
DESCRIPTION:Enjoy hot dogs and gameplay with the whole family\, or stay late for a panoramic view of all the fireworks in Atlanta. Ages 21+ after 5 p.m. $15-$30; ages 4-12\, $7-$22; ages 3 and younger\, free.
URL:https://www.atlantaparent.com/event/4th-of-july/
LOCATION:The Roof\, Ponce City Market\, 675 Ponce De Leon Avenue\, Atlanta
GEO:33.7725173;-84.3659673
X-APPLE-STRUCTURED-LOCATION;VALUE=URI;X-ADDRESS=The Roof Ponce City Market 675 Ponce De Leon Avenue Atlanta;X-APPLE-RADIUS=500;X-TITLE=675 Ponce De Leon Avenue:geo:-84.3659673,33.7725173
END:VEVENT
BEGIN:VEVENT
DTSTART;VALUE=DATE:20230630
DTEND;VALUE=DATE:20230731
DTSTAMP:20260421T131146
CREATED:20230522T135753Z
LAST-MODIFIED:20230522T135753Z
UID:10006955-1688083200-1690761599@www.atlantaparent.com
SUMMARY:Disney’s The Little Mermaid
DESCRIPTION:Based on the animated classic film\, this fishy fable will capture your heart as you follow the story of Ariel and listen to irresistible songs. June 30-July 30. Tues.-Sat. 7 p.m. and Sat.-Sun. 2 p.m. $40-$50; ages 12 and younger\, $20-$25.
URL:https://www.atlantaparent.com/event/disneys-the-little-mermaid/
LOCATION:The Legacy Theatre\, 1175 Senoia Road\, Suite C\, Tyrone
GEO:33.489155;-84.5824515
X-APPLE-STRUCTURED-LOCATION;VALUE=URI;X-ADDRESS=The Legacy Theatre 1175 Senoia Road Suite C Tyrone;X-APPLE-RADIUS=500;X-TITLE=1175 Senoia Road\, Suite C:geo:-84.5824515,33.489155
END:VEVENT
BEGIN:VEVENT
DTSTART;VALUE=DATE:20230701
DTEND;VALUE=DATE:20230705
DTSTAMP:20260421T131146
CREATED:20250510T134332Z
LAST-MODIFIED:20250515T194353Z
UID:10001856-1688169600-1688515199@www.atlantaparent.com
SUMMARY:July 4th Star Spangled Beach Party
DESCRIPTION:This bash at Callaway Gardens includes beach activities\, mini golf\, water activities and the nightly Fireworks Extravaganza. Fireworks start at 9:15 p.m. $35.99; ages 3-11\, $26.99; ages 2 and younger\, free.
URL:https://www.atlantaparent.com/event/july-fourth-star-spangled-beach-party/
LOCATION:Callaway Gardens\, Hwy. 27\, Pine Mountain
GEO:32.8102791;-84.856305
X-APPLE-STRUCTURED-LOCATION;VALUE=URI;X-ADDRESS=Callaway Gardens Hwy. 27 Pine Mountain;X-APPLE-RADIUS=500;X-TITLE=Hwy. 27:geo:-84.856305,32.8102791
END:VEVENT
BEGIN:VEVENT
DTSTART;VALUE=DATE:20230701
DTEND;VALUE=DATE:20230724
DTSTAMP:20260421T131146
CREATED:20220614T142007Z
LAST-MODIFIED:20230710T124027Z
UID:10006413-1688169600-1690156799@www.atlantaparent.com
SUMMARY:The Incredible Book Eating Boy
DESCRIPTION:Inspired by Oliver Jeffers’ “The Incredible Book Eating Boy\,”  this musical follows Henry who loves books – but not reading them! July 1-23. See website for showtimes. $20; ages 3-17\, $10; ages 2 and younger\, free. \n 
URL:https://www.atlantaparent.com/event/the-incredible-book-eating-boy/
LOCATION:Stillwell Theater at Kennesaw State University\, 471 Bartow Ave. NW\, Kennesaw
ATTACH;FMTTYPE=image/jpeg:https://www.atlantaparent.com/wp-content/uploads/2022/06/D75_1780-scaled-e1687783323572.jpg
GEO:34.0403252;-84.5833812
X-APPLE-STRUCTURED-LOCATION;VALUE=URI;X-ADDRESS=Stillwell Theater at Kennesaw State University 471 Bartow Ave. NW Kennesaw;X-APPLE-RADIUS=500;X-TITLE=471 Bartow Ave. NW:geo:-84.5833812,34.0403252
END:VEVENT
BEGIN:VEVENT
DTSTART;TZID=America/New_York:20230701T150000
DTEND;TZID=America/New_York:20230701T150000
DTSTAMP:20260421T131146
CREATED:20230622T130422Z
LAST-MODIFIED:20230622T130422Z
UID:10006908-1688223600-1688223600@www.atlantaparent.com
SUMMARY:Wild Encounter: Goat Painting Experience
DESCRIPTION:See how the talented “VanGoat” creates unforgettable paintings. July 1\, 8\, 15\, 22 and 29\, 3:15 p.m. $75 per group of up to four people.
URL:https://www.atlantaparent.com/event/wild-encounter-goat-painting-experience/2023-07-01/
LOCATION:Zoo Atlanta\,  800 Cherokee Avenue SE\, Atlanta
ATTACH;FMTTYPE=image/jpeg:https://www.atlantaparent.com/wp-content/uploads/2023/06/GoatPaintingEncounter2-scaled-e1687439045923.jpg
GEO:33.7321624;-84.3713351
X-APPLE-STRUCTURED-LOCATION;VALUE=URI;X-ADDRESS=Zoo Atlanta  800 Cherokee Avenue SE Atlanta;X-APPLE-RADIUS=500;X-TITLE=800 Cherokee Avenue SE:geo:-84.3713351,33.7321624
END:VEVENT
BEGIN:VEVENT
DTSTART;TZID=America/New_York:20230701T160000
DTEND;TZID=America/New_York:20230701T190000
DTSTAMP:20260421T131146
CREATED:20230525T170008Z
LAST-MODIFIED:20230525T170008Z
UID:10006954-1688227200-1688238000@www.atlantaparent.com
SUMMARY:Independence Day Celebration
DESCRIPTION:Dress in red\, white and blue to enjoy patriotic fun with a magic show\, superheroes\, music\, an Independence Day flag hunt and more.
URL:https://www.atlantaparent.com/event/independence-day-celebration-3/
LOCATION:Town at Trilith\, 305 Trilith Pkwy.\, Fayetteville
GEO:33.4691729;-84.5065085
X-APPLE-STRUCTURED-LOCATION;VALUE=URI;X-ADDRESS=Town at Trilith 305 Trilith Pkwy. Fayetteville;X-APPLE-RADIUS=500;X-TITLE=305 Trilith Pkwy.:geo:-84.5065085,33.4691729
END:VEVENT
BEGIN:VEVENT
DTSTART;TZID=America/New_York:20230701T170000
DTEND;TZID=America/New_York:20230701T220000
DTSTAMP:20260421T131146
CREATED:20220630T164221Z
LAST-MODIFIED:20230626T133338Z
UID:10006439-1688230800-1688248800@www.atlantaparent.com
SUMMARY:Look Up Atlanta
DESCRIPTION:This patriotic celebration includes a special performance by Atlanta Symphony Orchestra and a huge fireworks show. $10; VIP Village\, $20-$50.
URL:https://www.atlantaparent.com/event/look-up-atlanta/
LOCATION:Centennial Olympic Park\, 265 Park Ave. W NW\, Atlanta
END:VEVENT
BEGIN:VEVENT
DTSTART;TZID=America/New_York:20230701T180000
DTEND;TZID=America/New_York:20230701T180000
DTSTAMP:20260421T131146
CREATED:20191029T040056Z
LAST-MODIFIED:20230626T165806Z
UID:10004356-1688234400-1688234400@www.atlantaparent.com
SUMMARY:KIDZ BOP Never Stop Live Tour
DESCRIPTION:The ultimate pop concert for kids includes singing and dancing along to today’s biggest hits. $18-$79+.
URL:https://www.atlantaparent.com/event/kidz-bop/
LOCATION:Ameris Bank Amphitheatre\, 2200 Encore Parkway\, Alpharetta
ATTACH;FMTTYPE=image/jpeg:https://www.atlantaparent.com/wp-content/uploads/2019/10/KIDZ-BOP-World-Tour-b.jpg
END:VEVENT
BEGIN:VEVENT
DTSTART;VALUE=DATE:20230704
DTEND;VALUE=DATE:20230705
DTSTAMP:20260421T131146
CREATED:20191023T181254Z
LAST-MODIFIED:20230517T144843Z
UID:10002430-1688428800-1688515199@www.atlantaparent.com
SUMMARY:AJC Peachtree Road Race
DESCRIPTION:Run\, watch or cheer on participants of this famous Atlanta race. Lenox Square Mall and Virtual. $70-$75.
URL:https://www.atlantaparent.com/event/thanksgiving-day-half-marathon-5k/
END:VEVENT
BEGIN:VEVENT
DTSTART;VALUE=DATE:20230704
DTEND;VALUE=DATE:20230705
DTSTAMP:20260421T131146
CREATED:20230626T190218Z
LAST-MODIFIED:20230626T190405Z
UID:10007281-1688428800-1688515199@www.atlantaparent.com
SUMMARY:Summer Party
DESCRIPTION:Join in fun farm activities\, like building farm tools\, making flowing fountains and more\, inspired by the exhibit Shaun the Sheep: Flock This Way! $15.95-$19.95.
URL:https://www.atlantaparent.com/event/summer-party-2/
LOCATION:Children’s Museum of Atlanta\, 275 Centennial Olympic Park Dr. NW\, Atlanta\, GA
END:VEVENT
BEGIN:VEVENT
DTSTART;TZID=America/New_York:20230704T100000
DTEND;TZID=America/New_York:20230704T100000
DTSTAMP:20260421T131146
CREATED:20220630T153144Z
LAST-MODIFIED:20230626T134005Z
UID:10006433-1688464800-1688464800@www.atlantaparent.com
SUMMARY:Serenbe 4th of July Parade
DESCRIPTION:Celebrate Independence Day with this parade.
URL:https://www.atlantaparent.com/event/serenbe-4th-of-july-parade/
LOCATION:Serenbe\, 9055 Selborne Lane\, Chattahoochee Hills
GEO:33.5250119;-84.737723
X-APPLE-STRUCTURED-LOCATION;VALUE=URI;X-ADDRESS=Serenbe 9055 Selborne Lane Chattahoochee Hills;X-APPLE-RADIUS=500;X-TITLE=9055 Selborne Lane:geo:-84.737723,33.5250119
END:VEVENT
BEGIN:VEVENT
DTSTART;TZID=America/New_York:20230704T100000
DTEND;TZID=America/New_York:20230704T220000
DTSTAMP:20260421T131146
CREATED:20190510T154211Z
LAST-MODIFIED:20230626T133727Z
UID:10003633-1688464800-1688508000@www.atlantaparent.com
SUMMARY:Fourth of July Festivities in Avondale Estates
DESCRIPTION:Watch the Fourth of July parade and a fireworks show.
URL:https://www.atlantaparent.com/event/avondale-estates-4th-of-july/
LOCATION:Avondale Estates\, 64 N Avondale Rd.\, Avondale Estates
GEO:33.7714939;-84.2671444
X-APPLE-STRUCTURED-LOCATION;VALUE=URI;X-ADDRESS=Avondale Estates 64 N Avondale Rd. Avondale Estates;X-APPLE-RADIUS=500;X-TITLE=64 N Avondale Rd.:geo:-84.2671444,33.7714939
END:VEVENT
BEGIN:VEVENT
DTSTART;TZID=America/New_York:20230704T140000
DTEND;TZID=America/New_York:20230704T223000
DTSTAMP:20260421T131146
CREATED:20230626T143555Z
LAST-MODIFIED:20230626T143555Z
UID:10007278-1688479200-1688509800@www.atlantaparent.com
SUMMARY:Fourth of July
DESCRIPTION:Celebrate the Fourth of July with a parade and fireworks at dusk on Riverstone Parkway.
URL:https://www.atlantaparent.com/event/fourth-of-july/
LOCATION:Downtown Canton\, 250 E Main St.\, Canton
END:VEVENT
BEGIN:VEVENT
DTSTART;TZID=America/New_York:20230704T180000
DTEND;TZID=America/New_York:20230704T180000
DTSTAMP:20260421T131146
CREATED:20230524T133425Z
LAST-MODIFIED:20230524T133425Z
UID:10006890-1688493600-1688493600@www.atlantaparent.com
SUMMARY:Fr8Auctions Fireworks Extravaganza
DESCRIPTION:See the largest pyrotechnic display on Atlanta’s Southside from Atlanta Motor Speedway and Fr8Auctions.
URL:https://www.atlantaparent.com/event/fr8auctions-fireworks-extravaganza/
LOCATION:EchoPark Speedway\, 1500 Tara Place\, Hampton
GEO:33.384517;-84.313377
X-APPLE-STRUCTURED-LOCATION;VALUE=URI;X-ADDRESS=EchoPark Speedway 1500 Tara Place Hampton;X-APPLE-RADIUS=500;X-TITLE=1500 Tara Place:geo:-84.313377,33.384517
END:VEVENT
BEGIN:VEVENT
DTSTART;VALUE=DATE:20230705
DTEND;VALUE=DATE:20230731
DTSTAMP:20260421T131146
CREATED:20190923T180719Z
LAST-MODIFIED:20230522T140607Z
UID:10004521-1688515200-1690761599@www.atlantaparent.com
SUMMARY:Wicked
DESCRIPTION:Follow the story of the witches of Oz in this musical. July 5-30. See website for showtimes. $43+.
URL:https://www.atlantaparent.com/event/wicked/
LOCATION:Fox Theatre\, 660 Peachtree St. NE\, Atlanta
ATTACH;FMTTYPE=image/jpeg:https://www.atlantaparent.com/wp-content/uploads/2019/09/Erin_Mackey_as_Glinda_in_WICKED._Photo_by_Joan_Marcus_-_0242r1-e1687784247500.jpg
GEO:33.772731;-84.385022
X-APPLE-STRUCTURED-LOCATION;VALUE=URI;X-ADDRESS=Fox Theatre 660 Peachtree St. NE Atlanta;X-APPLE-RADIUS=500;X-TITLE=660 Peachtree St. NE:geo:-84.385022,33.772731
END:VEVENT
BEGIN:VEVENT
DTSTART;TZID=America/New_York:20230708T073000
DTEND;TZID=America/New_York:20230708T130000
DTSTAMP:20260421T131146
CREATED:20230613T140841Z
LAST-MODIFIED:20230613T140841Z
UID:10006916-1688801400-1688821200@www.atlantaparent.com
SUMMARY:Ruck & BBQ Bash
DESCRIPTION:Enjoy a day of health\, fitness\, food and fun with a ruck course\, BBQ\, local musicians and more. $15-$40; spectators ages 9 and younger\, free.
URL:https://www.atlantaparent.com/event/ruck-bbq-bash/
LOCATION:Camp Southern Ground\, 100 Southern Ground Pkwy.\, Fayetteville
GEO:33.4029531;-84.5092636
X-APPLE-STRUCTURED-LOCATION;VALUE=URI;X-ADDRESS=Camp Southern Ground 100 Southern Ground Pkwy. Fayetteville;X-APPLE-RADIUS=500;X-TITLE=100 Southern Ground Pkwy.:geo:-84.5092636,33.4029531
END:VEVENT
BEGIN:VEVENT
DTSTART;TZID=America/New_York:20230709T100000
DTEND;TZID=America/New_York:20230709T150000
DTSTAMP:20260421T131146
CREATED:20230707T141225Z
LAST-MODIFIED:20230707T141225Z
UID:10007289-1688896800-1688914800@www.atlantaparent.com
SUMMARY:Kid Fishing Program
DESCRIPTION:Try your hand at fishing at scenic Sandy Point with this catch and release program. Adults are welcome to fish\, but must possess a Georgia Fishing License; kids 15 and younger do not need a license. Reservation required by calling 470-222-9049. Free admission.
URL:https://www.atlantaparent.com/event/kid-fishing-program/2023-07-09/
LOCATION:Chattahoochee River National Recreation Area\, 2361 Akers Dr.\, Atlanta\, 30339
GEO:33.8921068;-84.4526437
X-APPLE-STRUCTURED-LOCATION;VALUE=URI;X-ADDRESS=Chattahoochee River National Recreation Area 2361 Akers Dr. Atlanta 30339;X-APPLE-RADIUS=500;X-TITLE=2361 Akers Dr.:geo:-84.4526437,33.8921068
END:VEVENT
BEGIN:VEVENT
DTSTART;VALUE=DATE:20230712
DTEND;VALUE=DATE:20230731
DTSTAMP:20260421T131146
CREATED:20190619T180054Z
LAST-MODIFIED:20230522T141102Z
UID:10004217-1689120000-1690761599@www.atlantaparent.com
SUMMARY:Matilda
DESCRIPTION:Young Matilda has an astonishing wit\, intelligence and psychokinetic powers that she uses to save herself from her cruel parents and the mean headmistress\, Miss Trunchbull. July 12-30. See website for showtimes. $15-$20.
URL:https://www.atlantaparent.com/event/matilda/
LOCATION:Woodstock Arts\, 8534 Main St.\, Woodstock
GEO:34.1017163;-84.5199758
X-APPLE-STRUCTURED-LOCATION;VALUE=URI;X-ADDRESS=Woodstock Arts 8534 Main St. Woodstock;X-APPLE-RADIUS=500;X-TITLE=8534 Main St.:geo:-84.5199758,34.1017163
END:VEVENT
BEGIN:VEVENT
DTSTART;VALUE=DATE:20230713
DTEND;VALUE=DATE:20230717
DTSTAMP:20260421T131146
CREATED:20230620T141306Z
LAST-MODIFIED:20230620T141306Z
UID:10006913-1689206400-1689551999@www.atlantaparent.com
SUMMARY:The House at Pooh Corner
DESCRIPTION:Christopher Robin has decided to run away with his friends to avoid being sent away to the dark\, mysterious threat called Education. July 13-14\, 7:30 p.m.; July 15\, 11 a.m.\, 2 and 7:30 p.m. and July 16\, 2 p.m. $12.
URL:https://www.atlantaparent.com/event/the-house-at-pooh-corner/
LOCATION:Lionheart Theatre\, 10 College St NW\, Norcross
GEO:33.942457;-84.211163
X-APPLE-STRUCTURED-LOCATION;VALUE=URI;X-ADDRESS=Lionheart Theatre 10 College St NW Norcross;X-APPLE-RADIUS=500;X-TITLE=10 College St NW:geo:-84.211163,33.942457
END:VEVENT
BEGIN:VEVENT
DTSTART;VALUE=DATE:20230714
DTEND;VALUE=DATE:20230716
DTSTAMP:20260421T131146
CREATED:20210620T140224Z
LAST-MODIFIED:20230627T145606Z
UID:10002778-1689292800-1689465599@www.atlantaparent.com
SUMMARY:Stamp & Scrapbook Expo
DESCRIPTION:Attend workshops\, win prizes\, go shopping\, get crafty and more at this scrapbooking event. July 14\, 9 a.m.-6 p.m. and July 15\, 9 a.m.-5 p.m. $10; ages 12 and younger\, free; workshops and special events\, extra.
URL:https://www.atlantaparent.com/event/stamp-scrapbook-expo/
LOCATION:Gas South District\, 6400 Sugarloaf Parkway\, Duluth
ATTACH;FMTTYPE=image/jpeg:https://www.atlantaparent.com/wp-content/uploads/2017/06/creativity-center-21.jpeg
GEO:33.9913579;-84.0938603
X-APPLE-STRUCTURED-LOCATION;VALUE=URI;X-ADDRESS=Gas South District 6400 Sugarloaf Parkway Duluth;X-APPLE-RADIUS=500;X-TITLE=6400 Sugarloaf Parkway:geo:-84.0938603,33.9913579
END:VEVENT
BEGIN:VEVENT
DTSTART;TZID=America/New_York:20230715T110000
DTEND;TZID=America/New_York:20230715T130000
DTSTAMP:20260421T131146
CREATED:20230711T164016Z
LAST-MODIFIED:20230711T164016Z
UID:10007295-1689418800-1689426000@www.atlantaparent.com
SUMMARY:Popsicle Party
DESCRIPTION:Chill out with a free popsicle and a goodie bag. You can also register for Vacation Bible School and Blessing of the Backpacks.
URL:https://www.atlantaparent.com/event/popsicle-party/
LOCATION:North Springs United Methodist Church\, 7770 Roswell Rd.\, Atlanta\, GA\, United States
GEO:33.9678351;-84.362972
X-APPLE-STRUCTURED-LOCATION;VALUE=URI;X-ADDRESS=North Springs United Methodist Church 7770 Roswell Rd. Atlanta GA United States;X-APPLE-RADIUS=500;X-TITLE=7770 Roswell Rd.:geo:-84.362972,33.9678351
END:VEVENT
END:VCALENDAR