BEGIN:VCALENDAR
VERSION:2.0
PRODID:-//NEW Atlanta Parent - ECPv6.15.11//NONSGML v1.0//EN
CALSCALE:GREGORIAN
METHOD:PUBLISH
X-WR-CALNAME:NEW Atlanta Parent
X-ORIGINAL-URL:https://www.atlantaparent.com
X-WR-CALDESC:Events for NEW Atlanta Parent
REFRESH-INTERVAL;VALUE=DURATION:PT1H
X-Robots-Tag:noindex
X-PUBLISHED-TTL:PT1H
BEGIN:VTIMEZONE
TZID:America/New_York
BEGIN:DAYLIGHT
TZOFFSETFROM:-0500
TZOFFSETTO:-0400
TZNAME:EDT
DTSTART:20220313T070000
END:DAYLIGHT
BEGIN:STANDARD
TZOFFSETFROM:-0400
TZOFFSETTO:-0500
TZNAME:EST
DTSTART:20221106T060000
END:STANDARD
BEGIN:DAYLIGHT
TZOFFSETFROM:-0500
TZOFFSETTO:-0400
TZNAME:EDT
DTSTART:20230312T070000
END:DAYLIGHT
BEGIN:STANDARD
TZOFFSETFROM:-0400
TZOFFSETTO:-0500
TZNAME:EST
DTSTART:20231105T060000
END:STANDARD
BEGIN:DAYLIGHT
TZOFFSETFROM:-0500
TZOFFSETTO:-0400
TZNAME:EDT
DTSTART:20240310T070000
END:DAYLIGHT
BEGIN:STANDARD
TZOFFSETFROM:-0400
TZOFFSETTO:-0500
TZNAME:EST
DTSTART:20241103T060000
END:STANDARD
END:VTIMEZONE
BEGIN:VTIMEZONE
TZID:UTC
BEGIN:STANDARD
TZOFFSETFROM:+0000
TZOFFSETTO:+0000
TZNAME:UTC
DTSTART:20220101T000000
END:STANDARD
END:VTIMEZONE
BEGIN:VEVENT
DTSTART;TZID=America/New_York:20230128T080000
DTEND;TZID=America/New_York:20230128T153000
DTSTAMP:20260419T112105
CREATED:20230120T171326Z
LAST-MODIFIED:20230120T171326Z
UID:10006785-1674892800-1674919800@www.atlantaparent.com
SUMMARY:FOCUS' 36th Annual Education Conference
DESCRIPTION:FOCUS hosts an annual education conference for families of children with disabilities to learn about various topics\, exhibitor tables and more. $12-$50.
URL:https://www.atlantaparent.com/event/focus-36th-annual-education-conference/
LOCATION:Oak Grove United Methodist Church\, 1722 Oak Grove Rd.\, Decatur
GEO:33.8324317;-84.2904634
X-APPLE-STRUCTURED-LOCATION;VALUE=URI;X-ADDRESS=Oak Grove United Methodist Church 1722 Oak Grove Rd. Decatur;X-APPLE-RADIUS=500;X-TITLE=1722 Oak Grove Rd.:geo:-84.2904634,33.8324317
END:VEVENT
BEGIN:VEVENT
DTSTART;TZID=America/New_York:20230128T110000
DTEND;TZID=America/New_York:20230128T110000
DTSTAMP:20260419T112105
CREATED:20230120T171632Z
LAST-MODIFIED:20230120T171632Z
UID:10006790-1674903600-1674903600@www.atlantaparent.com
SUMMARY:Capoeira Open House
DESCRIPTION:Learn more about the Capoeira Decatur Family\, meet Spider-Man\, learn cool moves\, play games and more. Free admission; registration requested at info@capoeiratlanta.com.
URL:https://www.atlantaparent.com/event/capoeira-open-house/
LOCATION:Capoeira Maculelê Decatur\, 519 N. McDonough St.\, Decatur
GEO:33.7741986;-84.296231
X-APPLE-STRUCTURED-LOCATION;VALUE=URI;X-ADDRESS=Capoeira Maculelê Decatur 519 N. McDonough St. Decatur;X-APPLE-RADIUS=500;X-TITLE=519 N. McDonough St.:geo:-84.296231,33.7741986
END:VEVENT
BEGIN:VEVENT
DTSTART;TZID=America/New_York:20230128T113000
DTEND;TZID=America/New_York:20230128T113000
DTSTAMP:20260419T112105
CREATED:20220516T155211Z
LAST-MODIFIED:20221207T192544Z
UID:10006430-1674905400-1674905400@www.atlantaparent.com
SUMMARY:Squeeze the Clown
DESCRIPTION:Squeeze the Clown explores clown music\, magic and imagination with Motown soul music\, the circus and more. Jan. 28\, 11:30 a.m. $7.
URL:https://www.atlantaparent.com/event/squeeze-the-clown/
LOCATION: Aurora Theatre\, 128 East Pike St.\, Lawrenceville
END:VEVENT
BEGIN:VEVENT
DTSTART;VALUE=DATE:20230131
DTEND;VALUE=DATE:20230313
DTSTAMP:20260419T112105
CREATED:20221207T192738Z
LAST-MODIFIED:20230206T133802Z
UID:10006710-1675123200-1678665599@www.atlantaparent.com
SUMMARY:Duke Ellington’s Cat
DESCRIPTION:A cool cat has been on the road with jazz great Duke Ellington\, and when his score has been stolen\, he must find the music and get it to the Duke before his concert. Jan. 31-March 12. See website for showtimes. $22; ages 1 and younger\, free.
URL:https://www.atlantaparent.com/event/duke-ellingtons-cat/
LOCATION:Center for Puppetry Arts\, 1404 Spring Street NW\, Atlanta
ATTACH;FMTTYPE=image/jpeg:https://www.atlantaparent.com/wp-content/uploads/2022/12/Duke-Ellington_s-Cat-2008-photo-by-Brandon-Harris1-scaled-e1670441353265.jpg
GEO:33.7928692;-84.3895974
X-APPLE-STRUCTURED-LOCATION;VALUE=URI;X-ADDRESS=Center for Puppetry Arts 1404 Spring Street NW Atlanta;X-APPLE-RADIUS=500;X-TITLE=1404 Spring Street NW:geo:-84.3895974,33.7928692
END:VEVENT
BEGIN:VEVENT
DTSTART;VALUE=DATE:20230201
DTEND;VALUE=DATE:20230301
DTSTAMP:20260419T112105
CREATED:20230120T150406Z
LAST-MODIFIED:20230206T133751Z
UID:10006743-1675209600-1677628799@www.atlantaparent.com
SUMMARY:Black History Month Murals
DESCRIPTION:See large scale murals from local artists created to honor Black History Month. Free admission.
URL:https://www.atlantaparent.com/event/black-history-month-murals/
LOCATION:Brook Run Park\, 4770 N. Peachtree Rd.\, Dunwoody
ATTACH;FMTTYPE=image/jpeg:https://www.atlantaparent.com/wp-content/uploads/2023/01/dunw_mlk_service-96-scaled-e1674227040932.jpg
GEO:33.9320923;-84.3008638
X-APPLE-STRUCTURED-LOCATION;VALUE=URI;X-ADDRESS=Brook Run Park 4770 N. Peachtree Rd. Dunwoody;X-APPLE-RADIUS=500;X-TITLE=4770 N. Peachtree Rd.:geo:-84.3008638,33.9320923
END:VEVENT
BEGIN:VEVENT
DTSTART;VALUE=DATE:20230203
DTEND;VALUE=DATE:20230206
DTSTAMP:20260419T112105
CREATED:20200121T050031Z
LAST-MODIFIED:20230117T162335Z
UID:10000939-1675382400-1675641599@www.atlantaparent.com
SUMMARY:Groundhog Day Jugglers Festival
DESCRIPTION:See juggling competitions\, participate in games and workshops\, get your face painted and more. Feb. 3-5. Fri. 4-11 p.m.; Sat. 10 a.m.-11:30 p.m. and Sun. 10 a.m.-4 p.m. Free for spectators; Cabaret\, $15.
URL:https://www.atlantaparent.com/event/groundhog-day-juggling-festival/
LOCATION:Yaarab Shrine Center\, 400 Ponce De Leon Ave. NE\, Atlanta
ATTACH;FMTTYPE=image/jpeg:https://www.atlantaparent.com/wp-content/uploads/2018/12/DSC_9071-b.jpg
GEO:33.7733897;-84.3746939
X-APPLE-STRUCTURED-LOCATION;VALUE=URI;X-ADDRESS=Yaarab Shrine Center 400 Ponce De Leon Ave. NE Atlanta;X-APPLE-RADIUS=500;X-TITLE=400 Ponce De Leon Ave. NE:geo:-84.3746939,33.7733897
END:VEVENT
BEGIN:VEVENT
DTSTART;TZID=America/New_York:20230204T113000
DTEND;TZID=America/New_York:20230204T113000
DTSTAMP:20260419T112105
CREATED:20230117T163910Z
LAST-MODIFIED:20230117T163910Z
UID:10006732-1675510200-1675510200@www.atlantaparent.com
SUMMARY:Seven Stories from Seven Continents
DESCRIPTION:Master storyteller and children’s author Mama Koku travels around the world to share a popular folktale. $7.
URL:https://www.atlantaparent.com/event/seven-stories-from-seven-continents/
LOCATION: Aurora Theatre\, 128 East Pike St.\, Lawrenceville
END:VEVENT
BEGIN:VEVENT
DTSTART;VALUE=DATE:20230206
DTEND;VALUE=DATE:20230331
DTSTAMP:20260419T112105
CREATED:20220110T050026Z
LAST-MODIFIED:20230222T150013Z
UID:10000985-1675641600-1680220799@www.atlantaparent.com
SUMMARY:Daffodil Days
DESCRIPTION:Enjoy the thousands of beautiful and bright daffodils\, greenery displays\, garden experts and activities.
URL:https://www.atlantaparent.com/event/daffodil-day/
LOCATION:Oakland Cemetery\, 248 Oakland Ave. SE\, Atlanta
ATTACH;FMTTYPE=image/jpeg:https://www.atlantaparent.com/wp-content/uploads/2020/01/Daffodils-at-Oakland-White-b.jpg
GEO:33.748727;-84.3731212
X-APPLE-STRUCTURED-LOCATION;VALUE=URI;X-ADDRESS=Oakland Cemetery 248 Oakland Ave. SE Atlanta;X-APPLE-RADIUS=500;X-TITLE=248 Oakland Ave. SE:geo:-84.3731212,33.748727
END:VEVENT
BEGIN:VEVENT
DTSTART;TZID=America/New_York:20230207T180000
DTEND;TZID=America/New_York:20230207T180000
DTSTAMP:20260419T112105
CREATED:20230131T134545Z
LAST-MODIFIED:20230131T134545Z
UID:10006795-1675792800-1675792800@www.atlantaparent.com
SUMMARY:Black History Month Celebration Programs
DESCRIPTION:The City of East Point present Black History Month programs with the theme of “East Point’s Black Renaissance.” See website for locations. Free admission. \n\nStories From the Soil: Moderated by Ann Hill Bond and Christopher Swain\, this is a discussion on lynching in Fulton County. Feb. 7\, 6 p.m.\nIt’s All in the Soil: Farmers explore Black farming in urban agriculture at this panel. Feb. 15\, 6 p.m.\nFilm Screening of “Bo Legs” Documentary: This documentary chronicles the life of Marvin Arrington\, Sr.\, one of Atlanta’s most transformative political leaders. Feb. 18\, 3 p.m.\nBlack History Trivia Night: Test your knowledge of Black History. Feb. 21\, 6 p.m.
URL:https://www.atlantaparent.com/event/black-history-month-celebration-programs/2023-02-07/
LOCATION:East Point City Hall\, 2757 East Point St.\, East Point
GEO:33.6803279;-84.4406511
X-APPLE-STRUCTURED-LOCATION;VALUE=URI;X-ADDRESS=East Point City Hall 2757 East Point St. East Point;X-APPLE-RADIUS=500;X-TITLE=2757 East Point St.:geo:-84.4406511,33.6803279
END:VEVENT
BEGIN:VEVENT
DTSTART;VALUE=DATE:20230208
DTEND;VALUE=DATE:20230209
DTSTAMP:20260419T112105
CREATED:20200121T050037Z
LAST-MODIFIED:20230201T194257Z
UID:10003977-1675814400-1675900799@www.atlantaparent.com
SUMMARY:Family Free Day at Children’s Museum of Atlanta
DESCRIPTION:Enjoy free admission to the museum for a celebration of innovation and creativity. Feb. 8\, 9:30 a.m.-12:30 p.m.; 1:30-4:30 p.m. Registration required; registration opens Feb. 7.
URL:https://www.atlantaparent.com/event/family-free-day-at-childrens-museum-of-atlanta/
LOCATION:Children’s Museum of Atlanta\, 275 Centennial Olympic Park Drive\, Atlanta\, GA
ATTACH;FMTTYPE=image/jpeg:https://www.atlantaparent.com/wp-content/uploads/2019/02/CMA-family-free-day-b.jpg
GEO:33.762568;-84.3914318
X-APPLE-STRUCTURED-LOCATION;VALUE=URI;X-ADDRESS=Children’s Museum of Atlanta 275 Centennial Olympic Park Drive Atlanta GA;X-APPLE-RADIUS=500;X-TITLE=275 Centennial Olympic Park Drive:geo:-84.3914318,33.762568
END:VEVENT
BEGIN:VEVENT
DTSTART;TZID=UTC:20230208T190000
DTEND;TZID=UTC:20230209T190000
DTSTAMP:20260419T112105
CREATED:20170421T222944Z
LAST-MODIFIED:20230120T141404Z
UID:10002574-1675882800-1675969200@www.atlantaparent.com
SUMMARY:Little Shop of Stories: Author Events
DESCRIPTION:On Feb. 8\, celebrate the newest book in the City Spies series by meeting James Ponti and Laurel Snyder\, pick up your copy and more. On Feb. 9\, enjoy the release of “Wildblood” with an author talk from Lauren Blackwood and Jordan Ifueko. Feb. 8 and 9\, 7 p.m. Free admission; registration required.
URL:https://www.atlantaparent.com/event/little-golden-books-bus/
LOCATION:Little Shop of Stories\, 133 A East Court Square\, Decatur
GEO:33.7753623;-84.2957329
X-APPLE-STRUCTURED-LOCATION;VALUE=URI;X-ADDRESS=Little Shop of Stories 133 A East Court Square Decatur;X-APPLE-RADIUS=500;X-TITLE=133 A East Court Square:geo:-84.2957329,33.7753623
END:VEVENT
BEGIN:VEVENT
DTSTART;TZID=UTC:20230209T100000
DTEND;TZID=UTC:20230209T160000
DTSTAMP:20260419T112105
CREATED:20190422T221933Z
LAST-MODIFIED:20230207T160753Z
UID:10006994-1675936800-1675958400@www.atlantaparent.com
SUMMARY:Toddler Thursdays
DESCRIPTION:Designed for ages 15 months-3 years\, engage children’s creativity and explore monthly topics with related artwork\, self-guided tours and art-making activities. $16.50; ages 5 and younger\, free.
URL:https://www.atlantaparent.com/event/toddler-thursdays/2023-02-09/
LOCATION:High Museum of Art\, 1280 Peachtree St.\, Atlanta
ATTACH;FMTTYPE=image/jpeg:https://www.atlantaparent.com/wp-content/uploads/2019/04/Toddler-Thursdays-e1675785764809.jpg
GEO:33.7891582;-84.3849351
X-APPLE-STRUCTURED-LOCATION;VALUE=URI;X-ADDRESS=High Museum of Art 1280 Peachtree St. Atlanta;X-APPLE-RADIUS=500;X-TITLE=1280 Peachtree St.:geo:-84.3849351,33.7891582
END:VEVENT
BEGIN:VEVENT
DTSTART;TZID=America/New_York:20230209T170000
DTEND;TZID=America/New_York:20230209T190000
DTSTAMP:20260419T112105
CREATED:20230207T191947Z
LAST-MODIFIED:20230207T191947Z
UID:10006760-1675962000-1675969200@www.atlantaparent.com
SUMMARY:Valentine's Princess Party
DESCRIPTION:Create special memories with Expressions in Motion Dance\, photos and Valentine’s treats. Reservation required. $35 per couple.
URL:https://www.atlantaparent.com/event/valentines-princess-party/
LOCATION:North Shallowford Annex\, 4470 N. Shallowford Rd.\, Dunwoody
GEO:33.9231457;-84.3073805
X-APPLE-STRUCTURED-LOCATION;VALUE=URI;X-ADDRESS=North Shallowford Annex 4470 N. Shallowford Rd. Dunwoody;X-APPLE-RADIUS=500;X-TITLE=4470 N. Shallowford Rd.:geo:-84.3073805,33.9231457
END:VEVENT
BEGIN:VEVENT
DTSTART;VALUE=DATE:20230211
DTEND;VALUE=DATE:20230508
DTSTAMP:20260419T112105
CREATED:20230117T163158Z
LAST-MODIFIED:20230508T123817Z
UID:10006733-1676073600-1683503999@www.atlantaparent.com
SUMMARY:The Nature of Color
DESCRIPTION:D. Finnin/© AMNH \nExplore the science of color with hands-on interactives\, and on opening day\, enjoy color-themed crafts and activities. Feb. 11-May 7. $24.95; ages 3-12\, $22.95; ages 2 and younger\, free.
URL:https://www.atlantaparent.com/event/the-nature-of-color/
LOCATION:Fernbank Museum of Natural History\, 767 Clifton Rd. NE\, Atlanta
ATTACH;FMTTYPE=image/jpeg:https://www.atlantaparent.com/wp-content/uploads/2023/01/6b.-Shadow-theater_DF-scaled-e1673973046928.jpg
GEO:33.7739166;-84.3277485
X-APPLE-STRUCTURED-LOCATION;VALUE=URI;X-ADDRESS=Fernbank Museum of Natural History 767 Clifton Rd. NE Atlanta;X-APPLE-RADIUS=500;X-TITLE=767 Clifton Rd. NE:geo:-84.3277485,33.7739166
END:VEVENT
BEGIN:VEVENT
DTSTART;TZID=America/New_York:20230211T100000
DTEND;TZID=America/New_York:20230211T100000
DTSTAMP:20260419T112105
CREATED:20230131T134835Z
LAST-MODIFIED:20230131T134835Z
UID:10006802-1676109600-1676109600@www.atlantaparent.com
SUMMARY:Playhouse Family Show
DESCRIPTION:Enjoy singing\, dancing\, games and surprises as you learn how to be a good friend with this preschool show. Free; registration required.
URL:https://www.atlantaparent.com/event/playhouse-family-show/
LOCATION:North Point Community Church\, 4350 North Point Pkwy.\, Alpharetta\, GA
END:VEVENT
BEGIN:VEVENT
DTSTART;TZID=America/New_York:20230211T113000
DTEND;TZID=America/New_York:20230211T113000
DTSTAMP:20260419T112105
CREATED:20230117T164549Z
LAST-MODIFIED:20230117T164549Z
UID:10006739-1676115000-1676115000@www.atlantaparent.com
SUMMARY:Stories of the Sea: The Voyages of Sinbad
DESCRIPTION:Set sail with Mr. Damon and Sinbad the Sailor on an exciting voyage to the seven seas with the magic of shadow puppet theater. Feb. 11\, 11:30 a.m. $7.
URL:https://www.atlantaparent.com/event/stories-of-the-sea-the-voyages-of-sinbad/
LOCATION: Aurora Theatre\, 128 East Pike St.\, Lawrenceville
END:VEVENT
BEGIN:VEVENT
DTSTART;TZID=America/New_York:20230211T180000
DTEND;TZID=America/New_York:20230211T210000
DTSTAMP:20260419T112105
CREATED:20210910T130943Z
LAST-MODIFIED:20230120T163314Z
UID:10005977-1676138400-1676149200@www.atlantaparent.com
SUMMARY:Parents' Night Out: Valentine Science
DESCRIPTION:Kids will experiment with candy chemistry as they create sugar density gradients\, make a Skittles rainbow and Valentine’s oobleck. For ages 5-11. $30 per child.
URL:https://www.atlantaparent.com/event/parents-night-out-spooky-science/
LOCATION:Discover Science Center\, 2500 Old Alabama Rd.\, Roswell
GEO:34.021675;-84.2858943
X-APPLE-STRUCTURED-LOCATION;VALUE=URI;X-ADDRESS=Discover Science Center 2500 Old Alabama Rd. Roswell;X-APPLE-RADIUS=500;X-TITLE=2500 Old Alabama Rd.:geo:-84.2858943,34.021675
END:VEVENT
BEGIN:VEVENT
DTSTART;TZID=America/New_York:20230212T143000
DTEND;TZID=America/New_York:20230212T170000
DTSTAMP:20260419T112105
CREATED:20230120T164003Z
LAST-MODIFIED:20230120T164003Z
UID:10006745-1676212200-1676221200@www.atlantaparent.com
SUMMARY:Family Fancy Pants Dance
DESCRIPTION:Dance around the world with Irish\, Argentinian and Polish music\, along with games and activities for ages 5-12. Register by Feb. 7. $30; additional child\, $5; additional adult\, $10. \n 
URL:https://www.atlantaparent.com/event/family-fancy-pants-dance/
LOCATION:Custer Park Sports and Fitness Center\, 545 Kenneth E. Marcus Way\, Marietta
GEO:33.9632193;-84.5357505
X-APPLE-STRUCTURED-LOCATION;VALUE=URI;X-ADDRESS=Custer Park Sports and Fitness Center 545 Kenneth E. Marcus Way Marietta;X-APPLE-RADIUS=500;X-TITLE=545 Kenneth E. Marcus Way:geo:-84.5357505,33.9632193
END:VEVENT
BEGIN:VEVENT
DTSTART;TZID=America/New_York:20230214T180000
DTEND;TZID=America/New_York:20230214T220000
DTSTAMP:20260419T112106
CREATED:20201021T154138Z
LAST-MODIFIED:20230120T163759Z
UID:10005449-1676397600-1676412000@www.atlantaparent.com
SUMMARY:Valentine's Day Drive-In
DESCRIPTION:Watch “Shrek” and “So I Married an Axe Murderer” on the big screen from the comfort of your car. Registration opens Jan. 30. Free admission.
URL:https://www.atlantaparent.com/event/drive-in-movie-series/
LOCATION:Lawrenceville Depot District\, 394 N. Clayton St.\, Lawrenceville
GEO:33.9601116;-83.9879011
X-APPLE-STRUCTURED-LOCATION;VALUE=URI;X-ADDRESS=Lawrenceville Depot District 394 N. Clayton St. Lawrenceville;X-APPLE-RADIUS=500;X-TITLE=394 N. Clayton St.:geo:-83.9879011,33.9601116
END:VEVENT
BEGIN:VEVENT
DTSTART;TZID=America/New_York:20230214T183000
DTEND;TZID=America/New_York:20230214T193000
DTSTAMP:20260419T112106
CREATED:20220117T170229Z
LAST-MODIFIED:20230120T170152Z
UID:10006190-1676399400-1676403000@www.atlantaparent.com
SUMMARY:Dance by the Water
DESCRIPTION:This dance class with an aquatic view will show you how to dance while watching manta rays and whale sharks. Reservation required. $25. Doors open at 6 p.m.
URL:https://www.atlantaparent.com/event/dance-by-the-water-salsa/
LOCATION:Georgia Aquarium\, 225 Baker St.\, Atlanta
GEO:33.7634237;-84.394891
X-APPLE-STRUCTURED-LOCATION;VALUE=URI;X-ADDRESS=Georgia Aquarium 225 Baker St. Atlanta;X-APPLE-RADIUS=500;X-TITLE=225 Baker St.:geo:-84.394891,33.7634237
END:VEVENT
BEGIN:VEVENT
DTSTART;VALUE=DATE:20230217
DTEND;VALUE=DATE:20230221
DTSTAMP:20260419T112106
CREATED:20260118T050006Z
LAST-MODIFIED:20260210T181540Z
UID:10000855-1676592000-1676937599@www.atlantaparent.com
SUMMARY:Great Backyard Bird Count
DESCRIPTION:Watch\, learn about\, count and celebrate birds at this annual event. Feb. 13-14\, 9 a.m.-3 p.m. $10; ages 3-17\, $5; ages 2 and younger\, free.
URL:https://www.atlantaparent.com/event/great-backyard-bird-count-2/
LOCATION:Smith-Gilbert Gardens\, 2382 Pine Mountain Rd.\, Kennesaw
ATTACH;FMTTYPE=image/jpeg:https://www.atlantaparent.com/wp-content/uploads/2019/01/Bird-walksmith-gilbert-gardens-b.jpg
GEO:34.0094229;-84.6309314
X-APPLE-STRUCTURED-LOCATION;VALUE=URI;X-ADDRESS=Smith-Gilbert Gardens 2382 Pine Mountain Rd. Kennesaw;X-APPLE-RADIUS=500;X-TITLE=2382 Pine Mountain Rd.:geo:-84.6309314,34.0094229
END:VEVENT
BEGIN:VEVENT
DTSTART;VALUE=DATE:20230218
DTEND;VALUE=DATE:20230918
DTSTAMP:20260419T112106
CREATED:20230117T165511Z
LAST-MODIFIED:20230220T132710Z
UID:10006738-1676678400-1694995199@www.atlantaparent.com
SUMMARY:Trolls: Save the Humans by Thomas Dambo
DESCRIPTION:See six enormous folklore-inspired sculptures built from reclaimed materials to blend art\, nature and sustainability. $24.95-$27.95; ages 3-12\, $21.95-$24.95; ages 2 and younger\, free.
URL:https://www.atlantaparent.com/event/trolls-save-the-humans-by-thomas-dambo/
LOCATION:Atlanta Botanical Garden\, 1345 Piedmont Ave.\, Atlanta
ATTACH;FMTTYPE=image/jpeg:https://www.atlantaparent.com/wp-content/uploads/2023/01/Little-Elina-Bernheim-Forest-Kentucky-e1673974423534.jpg
GEO:33.7900091;-84.3738585
X-APPLE-STRUCTURED-LOCATION;VALUE=URI;X-ADDRESS=Atlanta Botanical Garden 1345 Piedmont Ave. Atlanta;X-APPLE-RADIUS=500;X-TITLE=1345 Piedmont Ave.:geo:-84.3738585,33.7900091
END:VEVENT
BEGIN:VEVENT
DTSTART;TZID=America/New_York:20230223T190000
DTEND;TZID=America/New_York:20230225T190000
DTSTAMP:20260419T112106
CREATED:20230208T133243Z
LAST-MODIFIED:20230208T133243Z
UID:10006765-1677178800-1677351600@www.atlantaparent.com
SUMMARY:Fiddler on the Roof
DESCRIPTION:Chamblee High School presents a heartwarming story of fathers and daughters\, husbands and wives\, and life\, love and laughter. Feb. 23-25\, 7 p.m. and Feb. 25\, 2 p.m. $10-$15.
URL:https://www.atlantaparent.com/event/fiddler-on-the-roof-2/
LOCATION:Chamblee High School\, 3688 Chamblee Dunwoody Rd.\, Chamblee
GEO:33.897819;-84.307338
X-APPLE-STRUCTURED-LOCATION;VALUE=URI;X-ADDRESS=Chamblee High School 3688 Chamblee Dunwoody Rd. Chamblee;X-APPLE-RADIUS=500;X-TITLE=3688 Chamblee Dunwoody Rd.:geo:-84.307338,33.897819
END:VEVENT
BEGIN:VEVENT
DTSTART;VALUE=DATE:20230225
DTEND;VALUE=DATE:20230227
DTSTAMP:20260419T112106
CREATED:20210126T212932Z
LAST-MODIFIED:20230130T162113Z
UID:10003436-1677283200-1677455999@www.atlantaparent.com
SUMMARY:Fairy Tale Weekend Programming
DESCRIPTION:Marvel at the stories of fantasy and lore with a twist on “Little Red Riding Hood\,” making a completely new fairy tale and creating illustrations for a story. Reservation required. $19.95; ages 11 months and younger\, free.
URL:https://www.atlantaparent.com/event/tell-fairy-tale-day/
LOCATION:Children’s Museum of Atlanta\, 275 Centennial Olympic Park Drive\, Atlanta\, GA
ATTACH;FMTTYPE=image/jpeg:https://www.atlantaparent.com/wp-content/uploads/2020/01/tell-a-fairy-tale-day-childrens-museum-scaled-e1580225760578.jpg
GEO:33.762568;-84.3914318
X-APPLE-STRUCTURED-LOCATION;VALUE=URI;X-ADDRESS=Children’s Museum of Atlanta 275 Centennial Olympic Park Drive Atlanta GA;X-APPLE-RADIUS=500;X-TITLE=275 Centennial Olympic Park Drive:geo:-84.3914318,33.762568
END:VEVENT
BEGIN:VEVENT
DTSTART;TZID=America/New_York:20230225T070000
DTEND;TZID=America/New_York:20230225T070000
DTSTAMP:20260419T112106
CREATED:20230123T214359Z
LAST-MODIFIED:20230123T214359Z
UID:10006752-1677308400-1677308400@www.atlantaparent.com
SUMMARY:Paladin Pacer 5K and Fun Run
DESCRIPTION:Run or walk on Pinecrest Academy’s 68-acre campus for a fun trail race\, and participate in a costume contest. $20.
URL:https://www.atlantaparent.com/event/paladin-pacer-5k-and-fun-run/
LOCATION:Pinecrest Academy\, 955 Peachtree Pkwy.\, Cumming
GEO:34.1363959;-84.1698083
X-APPLE-STRUCTURED-LOCATION;VALUE=URI;X-ADDRESS=Pinecrest Academy 955 Peachtree Pkwy. Cumming;X-APPLE-RADIUS=500;X-TITLE=955 Peachtree Pkwy.:geo:-84.1698083,34.1363959
END:VEVENT
BEGIN:VEVENT
DTSTART;TZID=America/New_York:20230225T093000
DTEND;TZID=America/New_York:20230225T170000
DTSTAMP:20260419T112106
CREATED:20230120T151814Z
LAST-MODIFIED:20230120T151814Z
UID:10006747-1677317400-1677344400@www.atlantaparent.com
SUMMARY:African American History Month Celebration
DESCRIPTION:See historical presentations and artifact displays for Black History Month. $10; ages 3-17\, $5; ages 2 and younger\, free.
URL:https://www.atlantaparent.com/event/african-american-history-month-celebration/
LOCATION:Southern Museum\, 2829 Cherokee St.\, Kennesaw
GEO:34.0242075;-84.6142383
X-APPLE-STRUCTURED-LOCATION;VALUE=URI;X-ADDRESS=Southern Museum 2829 Cherokee St. Kennesaw;X-APPLE-RADIUS=500;X-TITLE=2829 Cherokee St.:geo:-84.6142383,34.0242075
END:VEVENT
BEGIN:VEVENT
DTSTART;TZID=America/New_York:20230225T120000
DTEND;TZID=America/New_York:20230225T160000
DTSTAMP:20260419T112106
CREATED:20210118T152914Z
LAST-MODIFIED:20230217T163651Z
UID:10005586-1677326400-1677340800@www.atlantaparent.com
SUMMARY:Family Scavenger Hunt
DESCRIPTION:Go on a day of adventure by solving the clues in this scavenger hunt; get your first clue at the Village Green tent. $25 per family.
URL:https://www.atlantaparent.com/event/family-scavenger-hunt-2/
LOCATION:Halcyon\, 6365 Halcyon Way\, Alpharetta\, GA\, 30005
GEO:34.1106637;-84.2242307
X-APPLE-STRUCTURED-LOCATION;VALUE=URI;X-ADDRESS=Halcyon 6365 Halcyon Way Alpharetta GA 30005;X-APPLE-RADIUS=500;X-TITLE=6365 Halcyon Way:geo:-84.2242307,34.1106637
END:VEVENT
BEGIN:VEVENT
DTSTART;VALUE=DATE:20230301
DTEND;VALUE=DATE:20230402
DTSTAMP:20260419T112106
CREATED:20230306T201251Z
LAST-MODIFIED:20230306T201251Z
UID:10006784-1677628800-1680393599@www.atlantaparent.com
SUMMARY:The Many Wondrous Realities of Jasmine Starr-Kidd
DESCRIPTION:12-year-old computer genius Jasmine Starr-Kid realizes time travel is easier to figure out than trying to convince her parents to get back together\, she decides to take matters into her own hands. Recommended for ages 11 and older. March 1-April 1. See website for showtimes. $10-$45.
URL:https://www.atlantaparent.com/event/the-many-wondrous-realities-of-jasmine-starr-kidd/
LOCATION:Alliance Theatre\, 1280 Peachtree Street\, Atlanta
END:VEVENT
BEGIN:VEVENT
DTSTART;VALUE=DATE:20230304
DTEND;VALUE=DATE:20230306
DTSTAMP:20260419T112106
CREATED:20230217T160134Z
LAST-MODIFIED:20230217T160134Z
UID:10006768-1677888000-1678060799@www.atlantaparent.com
SUMMARY:Carmen & Paquita
DESCRIPTION:Presented by Gwinnett Ballet Theatre\, enjoy two short ballets to celebrate the romance of Spain. March 4\, 7:30 p.m. and March 5\, 2 p.m. $19-$29.
URL:https://www.atlantaparent.com/event/carmen-paquita/
LOCATION:Gas South District\, 6400 Sugarloaf Parkway\, Duluth
GEO:33.9913579;-84.0938603
X-APPLE-STRUCTURED-LOCATION;VALUE=URI;X-ADDRESS=Gas South District 6400 Sugarloaf Parkway Duluth;X-APPLE-RADIUS=500;X-TITLE=6400 Sugarloaf Parkway:geo:-84.0938603,33.9913579
END:VEVENT
BEGIN:VEVENT
DTSTART;TZID=America/New_York:20230305T120000
DTEND;TZID=America/New_York:20230305T180000
DTSTAMP:20260419T112106
CREATED:20230227T140148Z
LAST-MODIFIED:20230227T140148Z
UID:10006813-1678017600-1678039200@www.atlantaparent.com
SUMMARY:A Taste of Ramadan in the Arab World Artist & Artisan Bazaar
DESCRIPTION:Browse unique handmade and homemade items\, savor delicious treats\, support local artists and small business owners\, and create Ramadan crafts.
URL:https://www.atlantaparent.com/event/a-taste-of-ramadan-in-the-arab-world-artist-artisan-bazaar/
LOCATION:Alif Institute\, 3288 Marjan Drive\, Atlanta
GEO:33.8847334;-84.2645655
X-APPLE-STRUCTURED-LOCATION;VALUE=URI;X-ADDRESS=Alif Institute 3288 Marjan Drive Atlanta;X-APPLE-RADIUS=500;X-TITLE=3288 Marjan Drive:geo:-84.2645655,33.8847334
END:VEVENT
END:VCALENDAR