BEGIN:VCALENDAR
VERSION:2.0
PRODID:-//NEW Atlanta Parent - ECPv6.15.11//NONSGML v1.0//EN
CALSCALE:GREGORIAN
METHOD:PUBLISH
X-WR-CALNAME:NEW Atlanta Parent
X-ORIGINAL-URL:https://www.atlantaparent.com
X-WR-CALDESC:Events for NEW Atlanta Parent
REFRESH-INTERVAL;VALUE=DURATION:PT1H
X-Robots-Tag:noindex
X-PUBLISHED-TTL:PT1H
BEGIN:VTIMEZONE
TZID:America/New_York
BEGIN:DAYLIGHT
TZOFFSETFROM:-0500
TZOFFSETTO:-0400
TZNAME:EDT
DTSTART:20210314T070000
END:DAYLIGHT
BEGIN:STANDARD
TZOFFSETFROM:-0400
TZOFFSETTO:-0500
TZNAME:EST
DTSTART:20211107T060000
END:STANDARD
BEGIN:DAYLIGHT
TZOFFSETFROM:-0500
TZOFFSETTO:-0400
TZNAME:EDT
DTSTART:20220313T070000
END:DAYLIGHT
BEGIN:STANDARD
TZOFFSETFROM:-0400
TZOFFSETTO:-0500
TZNAME:EST
DTSTART:20221106T060000
END:STANDARD
BEGIN:DAYLIGHT
TZOFFSETFROM:-0500
TZOFFSETTO:-0400
TZNAME:EDT
DTSTART:20230312T070000
END:DAYLIGHT
BEGIN:STANDARD
TZOFFSETFROM:-0400
TZOFFSETTO:-0500
TZNAME:EST
DTSTART:20231105T060000
END:STANDARD
END:VTIMEZONE
BEGIN:VEVENT
DTSTART;VALUE=DATE:20220723
DTEND;VALUE=DATE:20220725
DTSTAMP:20260420T011126
CREATED:20220720T201706Z
LAST-MODIFIED:20220720T201706Z
UID:10006464-1658534400-1658707199@www.atlantaparent.com
SUMMARY:KultureCity - Sensory Activation Vehicle
DESCRIPTION:This nonprofit is focused on sensory inclusion\, and the event will provide a sensory room and sensory bags to those who need it. July 23\, 9 a.m.-4 p.m. and July 24\, 11 a.m.-8 p.m.
URL:https://www.atlantaparent.com/event/kulturecity-sensory-activation-vehicle/
LOCATION:Atlantic Station\, 1380 Atlantic Drive\, Atlanta
GEO:33.7927258;-84.3978715
X-APPLE-STRUCTURED-LOCATION;VALUE=URI;X-ADDRESS=Atlantic Station 1380 Atlantic Drive Atlanta;X-APPLE-RADIUS=500;X-TITLE=1380 Atlantic Drive:geo:-84.3978715,33.7927258
END:VEVENT
BEGIN:VEVENT
DTSTART;TZID=America/New_York:20220723T100000
DTEND;TZID=America/New_York:20220723T130000
DTSTAMP:20260420T011126
CREATED:20220718T151012Z
LAST-MODIFIED:20220718T151012Z
UID:10006455-1658570400-1658581200@www.atlantaparent.com
SUMMARY:Back-To-School Bash and Supply Giveaway
DESCRIPTION:Hosted by the Fulton County Sheriff’s Office\, receive a free bookbag and school supplies\, along with music\, food\, games and more. Free admission.
URL:https://www.atlantaparent.com/event/back-to-school-bash-and-supply-giveaway/
LOCATION:Trammell Crow Park\, 4980 Cascade Rd. SW\, Atlanta
GEO:33.7303869;-84.5529083
X-APPLE-STRUCTURED-LOCATION;VALUE=URI;X-ADDRESS=Trammell Crow Park 4980 Cascade Rd. SW Atlanta;X-APPLE-RADIUS=500;X-TITLE=4980 Cascade Rd. SW:geo:-84.5529083,33.7303869
END:VEVENT
BEGIN:VEVENT
DTSTART;TZID=America/New_York:20220723T110000
DTEND;TZID=America/New_York:20220723T140000
DTSTAMP:20260420T011126
CREATED:20220720T200517Z
LAST-MODIFIED:20220720T200517Z
UID:10006499-1658574000-1658584800@www.atlantaparent.com
SUMMARY:Back-to-School Bash
DESCRIPTION:This event includes free backpacks\, school supplies\, food and resources hosted by Columbia Residential\, The STEAM Academy at Carver and Variety – The Children’s Charity of Georgia.
URL:https://www.atlantaparent.com/event/back-to-school-bash-3/
LOCATION:The STEAM Academy at  Carver\, 55 McDonough Blvd. SE\, Atlanta
GEO:33.7193803;-84.3893487
X-APPLE-STRUCTURED-LOCATION;VALUE=URI;X-ADDRESS=The STEAM Academy at  Carver 55 McDonough Blvd. SE Atlanta;X-APPLE-RADIUS=500;X-TITLE=55 McDonough Blvd. SE:geo:-84.3893487,33.7193803
END:VEVENT
BEGIN:VEVENT
DTSTART;TZID=America/New_York:20220723T110000
DTEND;TZID=America/New_York:20220723T190000
DTSTAMP:20260420T011126
CREATED:20220720T201523Z
LAST-MODIFIED:20220720T201523Z
UID:10006465-1658574000-1658602800@www.atlantaparent.com
SUMMARY:Planet Oat Marketplace
DESCRIPTION:Sample the brand’s offerings and recipes at this limited-time popup experience.
URL:https://www.atlantaparent.com/event/planet-oat-marketplace/
LOCATION:Atlantic Station\, 1380 Atlantic Drive\, Atlanta
GEO:33.7927258;-84.3978715
X-APPLE-STRUCTURED-LOCATION;VALUE=URI;X-ADDRESS=Atlantic Station 1380 Atlantic Drive Atlanta;X-APPLE-RADIUS=500;X-TITLE=1380 Atlantic Drive:geo:-84.3978715,33.7927258
END:VEVENT
BEGIN:VEVENT
DTSTART;TZID=America/New_York:20220723T120000
DTEND;TZID=America/New_York:20220723T150000
DTSTAMP:20260420T011126
CREATED:20220714T193739Z
LAST-MODIFIED:20220714T193739Z
UID:10006461-1658577600-1658588400@www.atlantaparent.com
SUMMARY:"DC LEAGUE OF SUPER-PETS" Tailgate Paw-ty
DESCRIPTION:Enjoy the upcoming release of “DC LEAGUE OF SUPER-PETS” with face painting\, balloon animals\, bounce houses\, ice cream\, movie prizes and more. 
URL:https://www.atlantaparent.com/event/dc-league-of-super-pets-tailgate-paw-ty/
LOCATION:Mall of Georgia\, 3333 Buford Dr.\, Buford
GEO:34.0651493;-83.9847659
X-APPLE-STRUCTURED-LOCATION;VALUE=URI;X-ADDRESS=Mall of Georgia 3333 Buford Dr. Buford;X-APPLE-RADIUS=500;X-TITLE=3333 Buford Dr.:geo:-83.9847659,34.0651493
END:VEVENT
BEGIN:VEVENT
DTSTART;TZID=America/New_York:20220728T160000
DTEND;TZID=America/New_York:20220728T180000
DTSTAMP:20260420T011126
CREATED:20220727T125321Z
LAST-MODIFIED:20220727T125321Z
UID:10006467-1659024000-1659031200@www.atlantaparent.com
SUMMARY:Comfy-Cozy Spaces Opening
DESCRIPTION:Watch the unveiling of the new Comfy-Cozy Spaces\, a creative designed to improve the wellbeing of young children and families\, and visit with Walkaround Elmo\, enjoy food\, participate in giveaways and more.
URL:https://www.atlantaparent.com/event/comfy-cozy-spaces-opening/
LOCATION:Willow Branch Apartments\, 822 N. Indian Creek Dr.\, Clarkston
GEO:33.8002821;-84.239703
X-APPLE-STRUCTURED-LOCATION;VALUE=URI;X-ADDRESS=Willow Branch Apartments 822 N. Indian Creek Dr. Clarkston;X-APPLE-RADIUS=500;X-TITLE=822 N. Indian Creek Dr.:geo:-84.239703,33.8002821
END:VEVENT
BEGIN:VEVENT
DTSTART;TZID=America/New_York:20220729T180000
DTEND;TZID=America/New_York:20220729T180000
DTSTAMP:20260420T011126
CREATED:20220726T123022Z
LAST-MODIFIED:20220726T123022Z
UID:10006470-1659117600-1659117600@www.atlantaparent.com
SUMMARY:Back to School Bash
DESCRIPTION:Dress like you’ve been transported to the 90s for a 90s tribute band\, face painting\, obstacle course and more.
URL:https://www.atlantaparent.com/event/back-to-school-bash-4/
LOCATION:The Avenue Peachtree City\, 239 City Cir.\, Peachtree City
GEO:33.3945725;-84.5912368
X-APPLE-STRUCTURED-LOCATION;VALUE=URI;X-ADDRESS=The Avenue Peachtree City 239 City Cir. Peachtree City;X-APPLE-RADIUS=500;X-TITLE=239 City Cir.:geo:-84.5912368,33.3945725
END:VEVENT
BEGIN:VEVENT
DTSTART;TZID=America/New_York:20220729T210000
DTEND;TZID=America/New_York:20220729T210000
DTSTAMP:20260420T011126
CREATED:20220727T124828Z
LAST-MODIFIED:20220727T124828Z
UID:10006468-1659128400-1659128400@www.atlantaparent.com
SUMMARY:Midnight Pajama Party
DESCRIPTION:Taste delicious ice cream for $1 at this family-friendly pajama party for the community with music\, activities and prizes.
URL:https://www.atlantaparent.com/event/midnight-pajama-party/
LOCATION:Welcome Home Creamery and Coffee\, 22 E. Main St. N.\, Hampton
GEO:33.3934244;-84.2867952
X-APPLE-STRUCTURED-LOCATION;VALUE=URI;X-ADDRESS=Welcome Home Creamery and Coffee 22 E. Main St. N. Hampton;X-APPLE-RADIUS=500;X-TITLE=22 E. Main St. N.:geo:-84.2867952,33.3934244
END:VEVENT
BEGIN:VEVENT
DTSTART;TZID=America/New_York:20220730T100000
DTEND;TZID=America/New_York:20220730T120000
DTSTAMP:20260420T011126
CREATED:20220711T174052Z
LAST-MODIFIED:20220711T174052Z
UID:10006452-1659175200-1659182400@www.atlantaparent.com
SUMMARY:Douglas County Agri-Trail Kickoff
DESCRIPTION:Join in a day of fun with the Douglas County Community Garden with gardening tips\, food tastings\, photos and gift bags. Free admission; registration required.
URL:https://www.atlantaparent.com/event/douglas-county-agri-trail-kickoff/
LOCATION:Douglas County Community Garden\, 6770 Selman Dr.\, Douglasville
GEO:33.7433042;-84.7510954
X-APPLE-STRUCTURED-LOCATION;VALUE=URI;X-ADDRESS=Douglas County Community Garden 6770 Selman Dr. Douglasville;X-APPLE-RADIUS=500;X-TITLE=6770 Selman Dr.:geo:-84.7510954,33.7433042
END:VEVENT
BEGIN:VEVENT
DTSTART;TZID=America/New_York:20220731T093000
DTEND;TZID=America/New_York:20220731T163000
DTSTAMP:20260420T011126
CREATED:20220728T125533Z
LAST-MODIFIED:20220728T125533Z
UID:10006443-1659259800-1659285000@www.atlantaparent.com
SUMMARY:Netflix Family Summer Activity Truck
DESCRIPTION:Enjoy family content from Netflix with an appearance from Po\, giveaways and an immersive photo experience.
URL:https://www.atlantaparent.com/event/netflix-family-summer-activity-truck/
LOCATION:The Battery Atlanta\, 800 Battery Ave.\, Atlanta
END:VEVENT
BEGIN:VEVENT
DTSTART;VALUE=DATE:20220805
DTEND;VALUE=DATE:20220808
DTSTAMP:20260420T011126
CREATED:20250707T140811Z
LAST-MODIFIED:20250722T150644Z
UID:10002049-1659693600-1659888000@www.atlantaparent.com
SUMMARY:Trains\, Trucks and Tractors!
DESCRIPTION:Courtesy of The DeFeo Groupe \nExplore antique pickups\, trailer rigs\, delivery vans\, farm implements and more. Go on train rides\, meet and greet drivers and operators\, and enjoy catering from Cassie’s Kitchen. $19; ages 2-12\, $13; ages 1 and younger\, free.
URL:https://www.atlantaparent.com/event/trains-trucks-tractors/
LOCATION:Southeastern Railway Museum\, 3595 Buford Highway\, Duluth
ATTACH;FMTTYPE=image/jpeg:https://www.atlantaparent.com/wp-content/uploads/2020/07/SRM_6597-scaled-e1595861700976.jpg
GEO:33.989078;-84.1558636
X-APPLE-STRUCTURED-LOCATION;VALUE=URI;X-ADDRESS=Southeastern Railway Museum 3595 Buford Highway Duluth;X-APPLE-RADIUS=500;X-TITLE=3595 Buford Highway:geo:-84.1558636,33.989078
END:VEVENT
BEGIN:VEVENT
DTSTART;TZID=America/New_York:20220806T100000
DTEND;TZID=America/New_York:20220806T210000
DTSTAMP:20260420T011126
CREATED:20220728T134510Z
LAST-MODIFIED:20220728T134510Z
UID:10006508-1659780000-1659819600@www.atlantaparent.com
SUMMARY:The Land of Luck
DESCRIPTION:This choose-your-own-adventure experience offers immersive games\, photo opportunities and hands-on activities for the whole family to test their luck. This event celebrates the premiere of “Luck” on Apple TV+.
URL:https://www.atlantaparent.com/event/the-land-of-luck/2022-08-06/
LOCATION:Mall of Georgia\, 3333 Buford Dr.\, Buford
GEO:34.0651493;-83.9847659
X-APPLE-STRUCTURED-LOCATION;VALUE=URI;X-ADDRESS=Mall of Georgia 3333 Buford Dr. Buford;X-APPLE-RADIUS=500;X-TITLE=3333 Buford Dr.:geo:-83.9847659,34.0651493
END:VEVENT
BEGIN:VEVENT
DTSTART;TZID=America/New_York:20220806T160000
DTEND;TZID=America/New_York:20220806T160000
DTSTAMP:20260420T011126
CREATED:20220720T201152Z
LAST-MODIFIED:20220720T201152Z
UID:10006503-1659801600-1659801600@www.atlantaparent.com
SUMMARY:Old Clarkdale Park Ribbon Cutting Ceremony
DESCRIPTION:Join in the reopening of the Old Clarkdale Park with hamburgers and hot dogs\, ice cream\, children’s activities\, giveaways and a movie at 6 p.m. \n 
URL:https://www.atlantaparent.com/event/old-clarkdale-park-ribbon-cutting-ceremony/
LOCATION:Old Clarkdale Park\, 4905 Austell-Powder Springs Rd.\, Austell
GEO:33.8379481;-84.6563517
X-APPLE-STRUCTURED-LOCATION;VALUE=URI;X-ADDRESS=Old Clarkdale Park 4905 Austell-Powder Springs Rd. Austell;X-APPLE-RADIUS=500;X-TITLE=4905 Austell-Powder Springs Rd.:geo:-84.6563517,33.8379481
END:VEVENT
BEGIN:VEVENT
DTSTART;TZID=America/New_York:20220806T180000
DTEND;TZID=America/New_York:20220806T200000
DTSTAMP:20260420T011126
CREATED:20220629T124852Z
LAST-MODIFIED:20220629T124852Z
UID:10006427-1659808800-1659816000@www.atlantaparent.com
SUMMARY:Parent's Night Out / Kid's Yoga
DESCRIPTION:Drop your kids off for yoga\, fun art projects and dinner while you enjoy some time to yourself. $39.
URL:https://www.atlantaparent.com/event/parents-night-out-kids-yoga/
LOCATION:Sacred Yoga\, 77 Georgia Ave. SE\, Atlanta
GEO:33.7365771;-84.3852777
X-APPLE-STRUCTURED-LOCATION;VALUE=URI;X-ADDRESS=Sacred Yoga 77 Georgia Ave. SE Atlanta;X-APPLE-RADIUS=500;X-TITLE=77 Georgia Ave. SE:geo:-84.3852777,33.7365771
END:VEVENT
BEGIN:VEVENT
DTSTART;TZID=America/New_York:20220806T190000
DTEND;TZID=America/New_York:20220806T190000
DTSTAMP:20260420T011126
CREATED:20220721T145716Z
LAST-MODIFIED:20220721T145716Z
UID:10006463-1659812400-1659812400@www.atlantaparent.com
SUMMARY:The Little Mermen
DESCRIPTION:Listen to your favorite Disney tunes live as this band covers the songs in costume. $35; ages 10 and younger\, $12.
URL:https://www.atlantaparent.com/event/the-little-mermen/
LOCATION:Roswell Cultural Arts Center\, 950 Forrest St.\, Roswell
GEO:34.0234904;-84.3578365
X-APPLE-STRUCTURED-LOCATION;VALUE=URI;X-ADDRESS=Roswell Cultural Arts Center 950 Forrest St. Roswell;X-APPLE-RADIUS=500;X-TITLE=950 Forrest St.:geo:-84.3578365,34.0234904
END:VEVENT
BEGIN:VEVENT
DTSTART;VALUE=DATE:20220810
DTEND;VALUE=DATE:20220919
DTSTAMP:20260420T011126
CREATED:20220708T150738Z
LAST-MODIFIED:20220919T124628Z
UID:10006441-1660089600-1663545599@www.atlantaparent.com
SUMMARY:The Tortoise\, the Hare & Other Aesop’s Fables
DESCRIPTION:Gregory Montegue \nAesop’s circus is in town\, as the animals take the young audience on a cheerful glimpse through his stories. Aug. 10-Sept. 18. See website for showtimes. $22; ages 1 and younger\, free.
URL:https://www.atlantaparent.com/event/the-tortoise-the-hare-other-aesops-fables-2/
LOCATION:Center for Puppetry Arts\, 1404 Spring Street NW\, Atlanta
ATTACH;FMTTYPE=image/jpeg:https://www.atlantaparent.com/wp-content/uploads/2022/07/The-Tortoise-the-Hare-Other-Aesops-Fables_Credit_Gregory-Montegue.jpg
GEO:33.7928692;-84.3895974
X-APPLE-STRUCTURED-LOCATION;VALUE=URI;X-ADDRESS=Center for Puppetry Arts 1404 Spring Street NW Atlanta;X-APPLE-RADIUS=500;X-TITLE=1404 Spring Street NW:geo:-84.3895974,33.7928692
END:VEVENT
BEGIN:VEVENT
DTSTART;VALUE=DATE:20220813
DTEND;VALUE=DATE:20221005
DTSTAMP:20260420T011126
CREATED:20220804T175819Z
LAST-MODIFIED:20220825T195411Z
UID:10006480-1660348800-1664927999@www.atlantaparent.com
SUMMARY:"You Are Beautiful"
DESCRIPTION:This immersive photo experience with interactive exhibits is themed around body positivity and self-care for a fun art installation/experience. \nPerimeter Mall: Aug. 13-Sept. 7\nCumberland Mall: Sept. 10-Oct. 4
URL:https://www.atlantaparent.com/event/you-are-beautiful/
LOCATION:GA
END:VEVENT
BEGIN:VEVENT
DTSTART;TZID=America/New_York:20220813T100000
DTEND;TZID=America/New_York:20220813T123000
DTSTAMP:20260420T011126
CREATED:20220810T142023Z
LAST-MODIFIED:20220810T142023Z
UID:10006478-1660384800-1660393800@www.atlantaparent.com
SUMMARY:Peace\, Love & Puppets
DESCRIPTION:This fun and pun-filled show teaches kids about water conservation\, air pollution\, recycling and more by using puppets\, magic tricks and songs. Aug. 13\, 10 and 11:30 a.m. $7.
URL:https://www.atlantaparent.com/event/peace-love-puppets/
LOCATION: Aurora Theatre\, 128 East Pike St.\, Lawrenceville
END:VEVENT
BEGIN:VEVENT
DTSTART;TZID=America/New_York:20220813T180000
DTEND;TZID=America/New_York:20220813T210000
DTSTAMP:20260420T011126
CREATED:20210818T184708Z
LAST-MODIFIED:20220725T125125Z
UID:10005929-1660413600-1660424400@www.atlantaparent.com
SUMMARY:End of Summer Celebration
DESCRIPTION:Bid a farewell to summer and usher in the start of the school year at this exciting celebration. Free admission.
URL:https://www.atlantaparent.com/event/end-of-summer-celebration/
LOCATION:East Roswell Park\, 9000 Fouts Rd.\, Roswell
ATTACH;FMTTYPE=image/jpeg:https://www.atlantaparent.com/wp-content/uploads/2021/07/RAPP-46-of-66-scaled-e1657293980548.jpg
GEO:34.0006288;-84.2970382
X-APPLE-STRUCTURED-LOCATION;VALUE=URI;X-ADDRESS=East Roswell Park 9000 Fouts Rd. Roswell;X-APPLE-RADIUS=500;X-TITLE=9000 Fouts Rd.:geo:-84.2970382,34.0006288
END:VEVENT
BEGIN:VEVENT
DTSTART;TZID=America/New_York:20220814T140000
DTEND;TZID=America/New_York:20220814T170000
DTSTAMP:20260420T011126
CREATED:20220707T174349Z
LAST-MODIFIED:20220815T123230Z
UID:10006481-1660485600-1660496400@www.atlantaparent.com
SUMMARY:Ballooniversity
DESCRIPTION:Created by burton + BURTON\, see an incredible exhibit with more than 100\,000 balloons focused on “The Future is Ours” and celebrating space and exploration\, along with live entertainers. Reservation required. Free admissions; donations accepted for the Boys & Girls Clubs of Athens and Extra Special People.
URL:https://www.atlantaparent.com/event/ballooniversity/
LOCATION:The Classic Center\, 300 N. Thomas St.\, Athens
ATTACH;FMTTYPE=image/jpeg:https://www.atlantaparent.com/wp-content/uploads/2022/07/BV22_7-e1657215623673.jpg
GEO:33.9600749;-83.3726366
X-APPLE-STRUCTURED-LOCATION;VALUE=URI;X-ADDRESS=The Classic Center 300 N. Thomas St. Athens;X-APPLE-RADIUS=500;X-TITLE=300 N. Thomas St.:geo:-83.3726366,33.9600749
END:VEVENT
BEGIN:VEVENT
DTSTART;TZID=America/New_York:20220820T063000
DTEND;TZID=America/New_York:20220820T063000
DTSTAMP:20260420T011126
CREATED:20220804T150003Z
LAST-MODIFIED:20220810T181837Z
UID:10006472-1660977000-1660977000@www.atlantaparent.com
SUMMARY:Atlanta's Finest 5K
DESCRIPTION:Join the Atlanta Police Department and the Atlanta Police Foundation in support of the Crime Stoppers Greater Atlanta\, an anonymous crime tip program. $40-$50; Mile for ages 6 and older\, $15; Dash for ages 14 and younger\, free.
URL:https://www.atlantaparent.com/event/atlantas-finest-5k/
LOCATION:Pemberton Place\, 126 Ivan Allen Jr Blvd. NW\, Atlanta
ATTACH;FMTTYPE=image/jpeg:https://www.atlantaparent.com/wp-content/uploads/2022/08/3M8A0430-scaled-e1660155498952.jpg
GEO:33.7642472;-84.3940182
X-APPLE-STRUCTURED-LOCATION;VALUE=URI;X-ADDRESS=Pemberton Place 126 Ivan Allen Jr Blvd. NW Atlanta;X-APPLE-RADIUS=500;X-TITLE=126 Ivan Allen Jr Blvd. NW:geo:-84.3940182,33.7642472
END:VEVENT
BEGIN:VEVENT
DTSTART;TZID=America/New_York:20220820T190000
DTEND;TZID=America/New_York:20220820T190000
DTSTAMP:20260420T011126
CREATED:20220630T152538Z
LAST-MODIFIED:20220630T152538Z
UID:10006471-1661022000-1661022000@www.atlantaparent.com
SUMMARY:Choreography for a Cause
DESCRIPTION:This fundraiser performance showcases choreographies from Roswell Dance Starz’s students and donates to Bert’s Big Adventure Magical Moments. $25.
URL:https://www.atlantaparent.com/event/choreography-for-a-cause/
LOCATION:Roswell Cultural Arts Center\, 950 Forrest St.\, Roswell
GEO:34.0234904;-84.3578365
X-APPLE-STRUCTURED-LOCATION;VALUE=URI;X-ADDRESS=Roswell Cultural Arts Center 950 Forrest St. Roswell;X-APPLE-RADIUS=500;X-TITLE=950 Forrest St.:geo:-84.3578365,34.0234904
END:VEVENT
BEGIN:VEVENT
DTSTART;VALUE=DATE:20220827
DTEND;VALUE=DATE:20221128
DTSTAMP:20260420T011126
CREATED:20220726T124112Z
LAST-MODIFIED:20220726T124112Z
UID:10006469-1661558400-1669593599@www.atlantaparent.com
SUMMARY:Making an Impression: The Art and Craft of Ancient Engraved Gemstones
DESCRIPTION:See collections of Greek and Roman gemstones to explore the material\, production and functions of this ancient artform. $8; ages 6-17\, $6; ages 5 and younger\, free.
URL:https://www.atlantaparent.com/event/making-an-impression-the-art-and-craft-of-ancient-engraved-gemstones/
LOCATION:Michael C. Carlos Museum\, 571 South Kilgo Cir. NE\, Atlanta
END:VEVENT
BEGIN:VEVENT
DTSTART;TZID=America/New_York:20220827T090000
DTEND;TZID=America/New_York:20220827T160000
DTSTAMP:20260420T011126
CREATED:20191217T050014Z
LAST-MODIFIED:20220815T175321Z
UID:10002053-1661590800-1661616000@www.atlantaparent.com
SUMMARY:Atlanta Model Train and Railroadiana Show
DESCRIPTION:View six large working layouts on display and model items for the “modeler” and “railbuff” to relive the glory days of railroading in Georgia. $10; ages 11 and younger\, free.
URL:https://www.atlantaparent.com/event/model-train-railroadiana-show/
LOCATION:Gas South District\, 6400 Sugarloaf Parkway\, Duluth
ATTACH;FMTTYPE=image/jpeg:https://www.atlantaparent.com/wp-content/uploads/2017/07/iStock-184621662.jpg
GEO:33.9913579;-84.0938603
X-APPLE-STRUCTURED-LOCATION;VALUE=URI;X-ADDRESS=Gas South District 6400 Sugarloaf Parkway Duluth;X-APPLE-RADIUS=500;X-TITLE=6400 Sugarloaf Parkway:geo:-84.0938603,33.9913579
END:VEVENT
BEGIN:VEVENT
DTSTART;TZID=America/New_York:20220827T093000
DTEND;TZID=America/New_York:20220827T120000
DTSTAMP:20260420T011126
CREATED:20220818T190639Z
LAST-MODIFIED:20220818T190639Z
UID:10006498-1661592600-1661601600@www.atlantaparent.com
SUMMARY:Celebrate National Dog Day with PAW Patrol Live!
DESCRIPTION:Enjoy a special visit with pups Sky and Chase to take photos\, test “PAW Patrol Live!” knowledge and get artsy with themed coloring sheets. $19.95.
URL:https://www.atlantaparent.com/event/celebrate-national-dog-day-with-paw-patrol-live/
LOCATION:Children’s Museum of Atlanta\, 275 Centennial Olympic Park Dr. NW\, Atlanta\, GA
END:VEVENT
BEGIN:VEVENT
DTSTART;TZID=America/New_York:20220827T100000
DTEND;TZID=America/New_York:20220827T123000
DTSTAMP:20260420T011126
CREATED:20220810T142208Z
LAST-MODIFIED:20220810T142208Z
UID:10006477-1661594400-1661603400@www.atlantaparent.com
SUMMARY:Anansi and the Colorful Kente Cloth
DESCRIPTION:Storybook author Jerry G. White’s tale of trickster Anansi is brought to life with music and dance. Aug. 27\, 10 and 11:30 a.m. $7.
URL:https://www.atlantaparent.com/event/anansi-and-the-colorful-kente-cloth/
LOCATION: Aurora Theatre\, 128 East Pike St.\, Lawrenceville
END:VEVENT
BEGIN:VEVENT
DTSTART;TZID=America/New_York:20220827T110000
DTEND;TZID=America/New_York:20220827T120000
DTSTAMP:20260420T011126
CREATED:20220822T160052Z
LAST-MODIFIED:20220822T160052Z
UID:10006496-1661598000-1661601600@www.atlantaparent.com
SUMMARY:African Storytelling Reimagined
DESCRIPTION:Join in an interactive story time hearing a time-honored folktale from Ghana\, along with learning a famous Ghanaian dance move\, fun cultural facts and authentic artifacts.
URL:https://www.atlantaparent.com/event/african-storytelling-reimagined/
LOCATION:Nordstrom Phipps Plaza\, 3500 Peachtree Rd. NE\, Atlanta
GEO:33.8528035;-84.3622556
X-APPLE-STRUCTURED-LOCATION;VALUE=URI;X-ADDRESS=Nordstrom Phipps Plaza 3500 Peachtree Rd. NE Atlanta;X-APPLE-RADIUS=500;X-TITLE=3500 Peachtree Rd. NE:geo:-84.3622556,33.8528035
END:VEVENT
BEGIN:VEVENT
DTSTART;TZID=America/New_York:20220827T140000
DTEND;TZID=America/New_York:20220827T170000
DTSTAMP:20260420T011126
CREATED:20220729T143609Z
LAST-MODIFIED:20220729T143609Z
UID:10006522-1661608800-1661619600@www.atlantaparent.com
SUMMARY:End of Summer Bash
DESCRIPTION:Celebrate the end of summer with a kombucha garden\, light bites\, live music\, lawn games\, a book swap and more. You can also bring new school supplies for Load the Lockers benefiting the Empty Stockings Fund.
URL:https://www.atlantaparent.com/event/end-of-summer-bash/
LOCATION:The Point\, 1540 Avenue Place\, Atlanta
GEO:33.8009687;-84.3274858
X-APPLE-STRUCTURED-LOCATION;VALUE=URI;X-ADDRESS=The Point 1540 Avenue Place Atlanta;X-APPLE-RADIUS=500;X-TITLE=1540 Avenue Place:geo:-84.3274858,33.8009687
END:VEVENT
BEGIN:VEVENT
DTSTART;TZID=America/New_York:20220828T100000
DTEND;TZID=America/New_York:20220828T200000
DTSTAMP:20260420T011126
CREATED:20190721T133132Z
LAST-MODIFIED:20220708T161017Z
UID:10002044-1661680800-1661716800@www.atlantaparent.com
SUMMARY:Festival Peachtree Latino
DESCRIPTION:This multicultural event features hundreds of exhibitors\, family activities\, arts and crafts\, international foods and music. Free admission.
URL:https://www.atlantaparent.com/event/festival-peachtree-latino/
LOCATION:Piedmont Park\, 400 Park Dr NE\, Atanta\, GA\, United States
END:VEVENT
BEGIN:VEVENT
DTSTART;VALUE=DATE:20220901
DTEND;VALUE=DATE:20220902
DTSTAMP:20260420T011126
CREATED:20220826T165213Z
LAST-MODIFIED:20220826T165213Z
UID:10006549-1661990400-1662076799@www.atlantaparent.com
SUMMARY:National Gyro Day Celebration with Grecian Gyro
DESCRIPTION:Grecian Gyro invites Atlantans to celebrate National Gyro Day with a free gyro as a thank you to the community with special promotions\, including Give a Friend a Gyro on Grecian Gyro\, a complimentary Build-Your-Own gyro wrap and more.
URL:https://www.atlantaparent.com/event/national-gyro-day-celebration-with-grecian-gyro/
LOCATION:Grecian Gyro\, Multiple locations\, GA\, United States
ATTACH;FMTTYPE=image/png:https://www.atlantaparent.com/wp-content/uploads/2022/08/National-Gyro-Day-With-Grecian-Gyro.png
GEO:32.1574351;-82.907123
X-APPLE-STRUCTURED-LOCATION;VALUE=URI;X-ADDRESS=Grecian Gyro Multiple locations GA United States;X-APPLE-RADIUS=500;X-TITLE=Multiple locations:geo:-82.907123,32.1574351
END:VEVENT
END:VCALENDAR