BEGIN:VCALENDAR
VERSION:2.0
PRODID:-//NEW Atlanta Parent - ECPv6.15.11//NONSGML v1.0//EN
CALSCALE:GREGORIAN
METHOD:PUBLISH
X-WR-CALNAME:NEW Atlanta Parent
X-ORIGINAL-URL:https://www.atlantaparent.com
X-WR-CALDESC:Events for NEW Atlanta Parent
REFRESH-INTERVAL;VALUE=DURATION:PT1H
X-Robots-Tag:noindex
X-PUBLISHED-TTL:PT1H
BEGIN:VTIMEZONE
TZID:America/New_York
BEGIN:DAYLIGHT
TZOFFSETFROM:-0500
TZOFFSETTO:-0400
TZNAME:EDT
DTSTART:20180311T070000
END:DAYLIGHT
BEGIN:STANDARD
TZOFFSETFROM:-0400
TZOFFSETTO:-0500
TZNAME:EST
DTSTART:20181104T060000
END:STANDARD
BEGIN:DAYLIGHT
TZOFFSETFROM:-0500
TZOFFSETTO:-0400
TZNAME:EDT
DTSTART:20190310T070000
END:DAYLIGHT
BEGIN:STANDARD
TZOFFSETFROM:-0400
TZOFFSETTO:-0500
TZNAME:EST
DTSTART:20191103T060000
END:STANDARD
BEGIN:DAYLIGHT
TZOFFSETFROM:-0500
TZOFFSETTO:-0400
TZNAME:EDT
DTSTART:20200308T070000
END:DAYLIGHT
BEGIN:STANDARD
TZOFFSETFROM:-0400
TZOFFSETTO:-0500
TZNAME:EST
DTSTART:20201101T060000
END:STANDARD
BEGIN:DAYLIGHT
TZOFFSETFROM:-0500
TZOFFSETTO:-0400
TZNAME:EDT
DTSTART:20210314T070000
END:DAYLIGHT
BEGIN:STANDARD
TZOFFSETFROM:-0400
TZOFFSETTO:-0500
TZNAME:EST
DTSTART:20211107T060000
END:STANDARD
BEGIN:DAYLIGHT
TZOFFSETFROM:-0500
TZOFFSETTO:-0400
TZNAME:EDT
DTSTART:20220313T070000
END:DAYLIGHT
BEGIN:STANDARD
TZOFFSETFROM:-0400
TZOFFSETTO:-0500
TZNAME:EST
DTSTART:20221106T060000
END:STANDARD
END:VTIMEZONE
BEGIN:VTIMEZONE
TZID:UTC
BEGIN:STANDARD
TZOFFSETFROM:+0000
TZOFFSETTO:+0000
TZNAME:UTC
DTSTART:20190101T000000
END:STANDARD
END:VTIMEZONE
BEGIN:VEVENT
DTSTART;VALUE=DATE:20190816
DTEND;VALUE=DATE:20210201
DTSTAMP:20260426T003442
CREATED:20190721T191919Z
LAST-MODIFIED:20200316T182618Z
UID:10004322-1565913600-1612137599@www.atlantaparent.com
SUMMARY:Any Great Change: Centennial of the 19th Amendment
DESCRIPTION:Due to cancellations to prevent the spread of coronavirus\, please verify event before you go. \nThis exhibition documents how women gained the vote and the ways they have used political power over the last century. Mon.-Sat. 10 a.m.-5:30 p.m. Sun. Noon-5:30 p.m. $21.50; ages 13-18\, $18; ages 4-12\, $9; ages 3 and younger\, free.
URL:https://www.atlantaparent.com/event/any-great-change-centennial-of-the-19th-amendment/
LOCATION:Atlanta History Center\, 130 W. Paces Ferry Rd.\, Atlanta\, GA
GEO:33.8413097;-84.3857926
X-APPLE-STRUCTURED-LOCATION;VALUE=URI;X-ADDRESS=Atlanta History Center 130 W. Paces Ferry Rd. Atlanta GA;X-APPLE-RADIUS=500;X-TITLE=130 W. Paces Ferry Rd.:geo:-84.3857926,33.8413097
END:VEVENT
BEGIN:VEVENT
DTSTART;VALUE=DATE:20200620
DTEND;VALUE=DATE:20210215
DTSTAMP:20260426T003442
CREATED:20200619T152051Z
LAST-MODIFIED:20210104T143604Z
UID:10005138-1592611200-1613347199@www.atlantaparent.com
SUMMARY:Machines in Motion
DESCRIPTION:Experience the genius of Leonardo da Vinci with this exhibit machines based on his visionary designs\, as separated by the four elements: air\, water\, land and fire. Pre-purchased tickets are required: $15.95; ages 3-17\, $11.95; ages 2 and younger\, free.
URL:https://www.atlantaparent.com/event/machines-in-motion/
LOCATION:Tellus Science Museum\, 100 Tellus Drive\, Cartersville
GEO:34.2418518;-84.7706004
X-APPLE-STRUCTURED-LOCATION;VALUE=URI;X-ADDRESS=Tellus Science Museum 100 Tellus Drive Cartersville;X-APPLE-RADIUS=500;X-TITLE=100 Tellus Drive:geo:-84.7706004,34.2418518
END:VEVENT
BEGIN:VEVENT
DTSTART;VALUE=DATE:20200717
DTEND;VALUE=DATE:20210215
DTSTAMP:20260426T003442
CREATED:20200318T013753Z
LAST-MODIFIED:20210127T164500Z
UID:10005022-1594944000-1613347199@www.atlantaparent.com
SUMMARY:Murmuration
DESCRIPTION:A soaring art installation and canopy that reflects Atlanta’s relationship with the natural world.
URL:https://www.atlantaparent.com/event/murmuration/
LOCATION:Woodruff Art Center’s Sifly Piazza\, 1280 Peachtree St. NE\, Atlanta
ATTACH;FMTTYPE=image/jpeg:https://www.atlantaparent.com/wp-content/uploads/2020/03/Murmuration-High-scaled-e1595447819597.jpeg
GEO:33.79008;-84.385671
X-APPLE-STRUCTURED-LOCATION;VALUE=URI;X-ADDRESS=Woodruff Art Center’s Sifly Piazza 1280 Peachtree St. NE Atlanta;X-APPLE-RADIUS=500;X-TITLE=1280 Peachtree St. NE:geo:-84.385671,33.79008
END:VEVENT
BEGIN:VEVENT
DTSTART;VALUE=DATE:20201003
DTEND;VALUE=DATE:20210104
DTSTAMP:20260426T003442
CREATED:20200826T202540Z
LAST-MODIFIED:20201005T113820Z
UID:10005357-1601683200-1609718399@www.atlantaparent.com
SUMMARY:Amazing Animals: Built to Survive at Fernbank Museum of Natural History
DESCRIPTION:Discover the innovations of animals’ evolution with highly interactive\, hands-on and fun activities\, which bring the amazing science of biomechanics to life. $20; ages 3-12\, $18; ages 2 and younger\, free.
URL:https://www.atlantaparent.com/event/amazing-animals-built-to-survive/
LOCATION:Fernbank Museum of Natural History\, 767 Clifton Road\, Atlanta
ATTACH;FMTTYPE=image/jpeg:https://www.atlantaparent.com/wp-content/uploads/2020/08/17.-GN91948_943d-scaled.jpg
GEO:33.7739167;-84.3277484
X-APPLE-STRUCTURED-LOCATION;VALUE=URI;X-ADDRESS=Fernbank Museum of Natural History 767 Clifton Road Atlanta;X-APPLE-RADIUS=500;X-TITLE=767 Clifton Road:geo:-84.3277484,33.7739167
END:VEVENT
BEGIN:VEVENT
DTSTART;VALUE=DATE:20201023
DTEND;VALUE=DATE:20201224
DTSTAMP:20260426T003442
CREATED:20200718T175139Z
LAST-MODIFIED:20201022T191146Z
UID:10002406-1603411200-1608767999@www.atlantaparent.com
SUMMARY:Virtual: Taste of Atlanta
DESCRIPTION:Order takeout\, delivery and dine-in from more than 200 of Atlanta’s most beloved restaurants with nine themed Restaurant Bingo cards to win prizes. Participate in classes\, cooking and mixology demos\, conversations with local chefs and more.
URL:https://www.atlantaparent.com/event/taste-of-atlanta/
END:VEVENT
BEGIN:VEVENT
DTSTART;VALUE=DATE:20201105
DTEND;VALUE=DATE:20201226
DTSTAMP:20260426T003442
CREATED:20201021T170515Z
LAST-MODIFIED:20201105T145142Z
UID:10005497-1604534400-1608940799@www.atlantaparent.com
SUMMARY:Virtual: JingleRing
DESCRIPTION:This virtual visit with Santa is a personalized experience for the whole family. On-sale Nov. 6: $19.95-$24.95.
URL:https://www.atlantaparent.com/event/jinglering/
END:VEVENT
BEGIN:VEVENT
DTSTART;VALUE=DATE:20201107
DTEND;VALUE=DATE:20210315
DTSTAMP:20260426T003442
CREATED:20201208T165927Z
LAST-MODIFIED:20201208T165927Z
UID:10005565-1604707200-1615766399@www.atlantaparent.com
SUMMARY:Dawoud Bey: An American Project
DESCRIPTION:This photography collection explores communities and stories that have been underrepresented or unseen with African American subjects and history. Reservation required. $14.50; ages 5 and younger\, free.
URL:https://www.atlantaparent.com/event/dawoud-bey-an-american-project/
LOCATION:High Museum of Art\, 1280 Peachtree Street\, Atlanta
GEO:33.7891582;-84.3849351
X-APPLE-STRUCTURED-LOCATION;VALUE=URI;X-ADDRESS=High Museum of Art 1280 Peachtree Street Atlanta;X-APPLE-RADIUS=500;X-TITLE=1280 Peachtree Street:geo:-84.3849351,33.7891582
END:VEVENT
BEGIN:VEVENT
DTSTART;VALUE=DATE:20201107
DTEND;VALUE=DATE:20211025
DTSTAMP:20260426T003442
CREATED:20201208T170203Z
LAST-MODIFIED:20201208T170203Z
UID:10005615-1604707200-1635119999@www.atlantaparent.com
SUMMARY:Out Of This World! Jewelry In The Space Age
DESCRIPTION:Explore more than 200 pieces of vintage and contemporary jewelry with celestial and Space Age designs. Reservation required. $15.95; ages 3-17\, $11.95; ages 2 and younger\, free.
URL:https://www.atlantaparent.com/event/out-of-this-world-jewelry-in-the-space-age/
LOCATION:Tellus Science Museum\, 100 Tellus Drive\, Cartersville
GEO:34.2418518;-84.7706004
X-APPLE-STRUCTURED-LOCATION;VALUE=URI;X-ADDRESS=Tellus Science Museum 100 Tellus Drive Cartersville;X-APPLE-RADIUS=500;X-TITLE=100 Tellus Drive:geo:-84.7706004,34.2418518
END:VEVENT
BEGIN:VEVENT
DTSTART;VALUE=DATE:20201124
DTEND;VALUE=DATE:20210104
DTSTAMP:20260426T003442
CREATED:20201028T183447Z
LAST-MODIFIED:20210104T141102Z
UID:10005495-1606176000-1609718399@www.atlantaparent.com
SUMMARY:Stan the Lovesick Snowman
DESCRIPTION:Based on a Hans Christian Andersen short story\, this comedic puppet production follows the friendship of Alice the dog and Stan the snowman\, as Alice explains the delights of the wintry world to Stan: ice skating\, snowball fights\, hockey and more. Tickets include a create a puppet workshop and admission to the museum. Nov. 24-Jan. 3. See website for showtimes. $20-$30.
URL:https://www.atlantaparent.com/event/very-merry-holiday-celebration/
LOCATION:Center for Puppetry Arts\, 1404 Spring Street NW\, Atlanta
ATTACH;FMTTYPE=image/jpeg:https://www.atlantaparent.com/wp-content/uploads/2020/10/StanLovesick-StanMoose-Center-for-Puppetry-Arts-scaled-e1607351693103.jpg
GEO:33.7928692;-84.3895974
X-APPLE-STRUCTURED-LOCATION;VALUE=URI;X-ADDRESS=Center for Puppetry Arts 1404 Spring Street NW Atlanta;X-APPLE-RADIUS=500;X-TITLE=1404 Spring Street NW:geo:-84.3895974,33.7928692
END:VEVENT
BEGIN:VEVENT
DTSTART;VALUE=DATE:20201127
DTEND;VALUE=DATE:20210101
DTSTAMP:20260426T003442
CREATED:20201013T185059Z
LAST-MODIFIED:20201021T171759Z
UID:10005428-1606435200-1609459199@www.atlantaparent.com
SUMMARY:A Very Terry Christmas
DESCRIPTION:Presented by the Alliance Theatre\, this virtual program explores Atlanta’s destinations\, holiday stories and songs with Broadway icon Terry Burrell. Nov. 27-Dec. 31. $20.
URL:https://www.atlantaparent.com/event/a-very-terry-christmas/
END:VEVENT
BEGIN:VEVENT
DTSTART;VALUE=DATE:20201127
DTEND;VALUE=DATE:20210101
DTSTAMP:20260426T003442
CREATED:20201123T142718Z
LAST-MODIFIED:20201123T142718Z
UID:10005538-1606435200-1609459199@www.atlantaparent.com
SUMMARY:San Francisco Ballet's Nutcracker Online
DESCRIPTION:Watch the stream\, tour the opera house\, enjoy historical highlights of the performance\, and learn choreography. Nov. 27-Dec. 31. $49.
URL:https://www.atlantaparent.com/event/san-francisco-ballets-nutcracker-online/
END:VEVENT
BEGIN:VEVENT
DTSTART;VALUE=DATE:20201129
DTEND;VALUE=DATE:20210104
DTSTAMP:20260426T003442
CREATED:20201116T143625Z
LAST-MODIFIED:20201116T143706Z
UID:10005526-1606608000-1609718399@www.atlantaparent.com
SUMMARY:Holiday Lights
DESCRIPTION:Take a stroll through the historic Manor House Ruins\, gardens and the entire resort village lit for the holiday season. Recommend calling in advance to confirm availability. Nov. 29-Jan. 3\, 9 a.m.-8 p.m. $20; ages 6-12\, $10; ages 5 and younger\, free.
URL:https://www.atlantaparent.com/event/holiday-lights/
LOCATION:Barnsley Resort\, 597 Barnsley Gardens Rd.\, Adairsville
GEO:34.3014092;-84.9842932
X-APPLE-STRUCTURED-LOCATION;VALUE=URI;X-ADDRESS=Barnsley Resort 597 Barnsley Gardens Rd. Adairsville;X-APPLE-RADIUS=500;X-TITLE=597 Barnsley Gardens Rd.:geo:-84.9842932,34.3014092
END:VEVENT
BEGIN:VEVENT
DTSTART;VALUE=DATE:20201201
DTEND;VALUE=DATE:20201226
DTSTAMP:20260426T003442
CREATED:20201023T175332Z
LAST-MODIFIED:20201023T175842Z
UID:10005474-1606780800-1608940799@www.atlantaparent.com
SUMMARY:Spend the Holidays in Liberty County
DESCRIPTION:Plan a holiday vacation to beautiful Liberty County\, a unique place where true Southern hospitality is still very much alive. With a melting pot of cultures and just the right blend of history and modern amenities\, its charm envelops and captivates. Visitors can always find something to do outdoors while enjoying the beautiful scenery\, whether it’s kayaking\, dog walking or exploring Cay Creek Wetlands. \nTravel to Liberty County for Christmas decorations and events\, historic sites\, Brewer’s Christmas Tree Farm and more.
URL:https://www.atlantaparent.com/event/spend-the-holidays-in-liberty-county/
LOCATION:Liberty County\, 208 East Court St.\, Hinesville\, GA\, 31313
ATTACH;FMTTYPE=image/jpeg:https://www.atlantaparent.com/wp-content/uploads/2019/11/IMG_20190507_220321_111-from-MM-b-e1603474861906.jpg
GEO:31.8482036;-81.5936348
X-APPLE-STRUCTURED-LOCATION;VALUE=URI;X-ADDRESS=Liberty County 208 East Court St. Hinesville GA 31313;X-APPLE-RADIUS=500;X-TITLE=208 East Court St.:geo:-81.5936348,31.8482036
END:VEVENT
BEGIN:VEVENT
DTSTART;VALUE=DATE:20201202
DTEND;VALUE=DATE:20210114
DTSTAMP:20260426T003442
CREATED:20201207T184406Z
LAST-MODIFIED:20201207T184406Z
UID:10005611-1606867200-1610582399@www.atlantaparent.com
SUMMARY:Ice Skating at Stone Mountain Mall
DESCRIPTION:Enjoy gliding across the ice at this indoor rink. Mon.-Fri. 4-8 p.m.; Sat. 1-8 p.m. and Sun. 1-6 p.m. $7-$10.
URL:https://www.atlantaparent.com/event/ice-skating-at-stone-mountain-mall/
LOCATION:Stone Mountain Mall\, 5615 Memorial Dr.\, Stone Mountain
GEO:33.799392;-84.2076228
X-APPLE-STRUCTURED-LOCATION;VALUE=URI;X-ADDRESS=Stone Mountain Mall 5615 Memorial Dr. Stone Mountain;X-APPLE-RADIUS=500;X-TITLE=5615 Memorial Dr.:geo:-84.2076228,33.799392
END:VEVENT
BEGIN:VEVENT
DTSTART;VALUE=DATE:20201204
DTEND;VALUE=DATE:20201224
DTSTAMP:20260426T003442
CREATED:20201021T181010Z
LAST-MODIFIED:20201021T181010Z
UID:10005461-1607040000-1608767999@www.atlantaparent.com
SUMMARY:Breakfast and Santa Package
DESCRIPTION:Enjoy all your breakfast favorites and visit with Saint Nick. This package includes: deluxe overnight accommodations\, holiday breakfast buffet for four and a visit with Santa for four guests. Dec. 4-5\, 11-12\, 18-19 and 20-23. $199-$249.
URL:https://www.atlantaparent.com/event/breakfast-and-santa-package/
LOCATION:Lanier Islands Resort\, 7000 Lanier Islands Pkwy.\, Buford\, GA\, 30518\, United States
GEO:34.1779005;-84.0196753
X-APPLE-STRUCTURED-LOCATION;VALUE=URI;X-ADDRESS=Lanier Islands Resort 7000 Lanier Islands Pkwy. Buford GA 30518 United States;X-APPLE-RADIUS=500;X-TITLE=7000 Lanier Islands Pkwy.:geo:-84.0196753,34.1779005
END:VEVENT
BEGIN:VEVENT
DTSTART;VALUE=DATE:20201204
DTEND;VALUE=DATE:20210102
DTSTAMP:20260426T003442
CREATED:20241114T175935Z
LAST-MODIFIED:20241119T162058Z
UID:10003309-1607040000-1609545599@www.atlantaparent.com
SUMMARY:Festival of Trees
DESCRIPTION:See trees decorated by local businesses\, and vote for your favorite by donating nonperishable groceries\, new toys or pet supplies beneath the trees.
URL:https://www.atlantaparent.com/event/festival-of-trees/
LOCATION:Lawrenceville Arts Center\, 125 North Clayton St.\, Lawrenceville
GEO:33.956993;-83.9879364
X-APPLE-STRUCTURED-LOCATION;VALUE=URI;X-ADDRESS=Lawrenceville Arts Center 125 North Clayton St. Lawrenceville;X-APPLE-RADIUS=500;X-TITLE=125 North Clayton St.:geo:-83.9879364,33.956993
END:VEVENT
BEGIN:VEVENT
DTSTART;VALUE=DATE:20201210
DTEND;VALUE=DATE:20210101
DTSTAMP:20260426T003442
CREATED:20201124T191934Z
LAST-MODIFIED:20201124T191934Z
UID:10005546-1607558400-1609459199@www.atlantaparent.com
SUMMARY:The Gift from Marietta's Theatre in the Square
DESCRIPTION:Watch a delightful holiday performance filled with singing and dancing from the comfort of your own home. Dec. 10-31. Mon.-Sat. 7:30 p.m. Sun. 2:30 p.m.
URL:https://www.atlantaparent.com/event/the-gift-from-mariettas-theatre-in-the-square/
END:VEVENT
BEGIN:VEVENT
DTSTART;VALUE=DATE:20201212
DTEND;VALUE=DATE:20210419
DTSTAMP:20260426T003442
CREATED:20201208T165344Z
LAST-MODIFIED:20201208T165344Z
UID:10005566-1607731200-1618790399@www.atlantaparent.com
SUMMARY:Bestowing Beauty: Masterpieces from Persian Lands
DESCRIPTION:Celebrate the artistic traditions of Persian civilization with carpets\, textiles\, manuscripts\, paintings\, ceramics\, jeweled objects and more. Reservation required. $14.50; ages 5 and younger\, free.
URL:https://www.atlantaparent.com/event/bestowing-beauty-masterpieces-from-persian-lands/
LOCATION:High Museum of Art\, 1280 Peachtree Street\, Atlanta
GEO:33.7891582;-84.3849351
X-APPLE-STRUCTURED-LOCATION;VALUE=URI;X-ADDRESS=High Museum of Art 1280 Peachtree Street Atlanta;X-APPLE-RADIUS=500;X-TITLE=1280 Peachtree Street:geo:-84.3849351,33.7891582
END:VEVENT
BEGIN:VEVENT
DTSTART;VALUE=DATE:20201217
DTEND;VALUE=DATE:20210102
DTSTAMP:20260426T003442
CREATED:20201004T181825Z
LAST-MODIFIED:20201020T174015Z
UID:10004568-1608163200-1609545599@www.atlantaparent.com
SUMMARY:This Wonderful Life
DESCRIPTION:Stream this adaptation of “It’s a Wonderful Life” as performed by one actor. Dec. 17-Jan. 1. $25.
URL:https://www.atlantaparent.com/event/this-wonderful-life/
LOCATION: Aurora Theatre\, 128 East Pike St.\, Lawrenceville
ATTACH;FMTTYPE=image/jpeg:https://www.atlantaparent.com/wp-content/uploads/2019/10/this-wonderful-life.jpg
END:VEVENT
BEGIN:VEVENT
DTSTART;VALUE=DATE:20201218
DTEND;VALUE=DATE:20201231
DTSTAMP:20260426T003442
CREATED:20201123T142514Z
LAST-MODIFIED:20201123T142514Z
UID:10005539-1608249600-1609372799@www.atlantaparent.com
SUMMARY:Virtual: Ballet Chicago Presents The Nutcracker
DESCRIPTION:Watch a Historic Archival Performance and restaged dances from current performers. Dec. 18-30. See website for showtimes. $26; ages 9 and younger\, $16.
URL:https://www.atlantaparent.com/event/virtual-ballet-chicago-presents-the-nutcracker/
END:VEVENT
BEGIN:VEVENT
DTSTART;VALUE=DATE:20201219
DTEND;VALUE=DATE:20201230
DTSTAMP:20260426T003442
CREATED:20201006T220122Z
LAST-MODIFIED:20201123T142328Z
UID:10000619-1608336000-1609286399@www.atlantaparent.com
SUMMARY:Virtual: Moscow Ballet's Great Russian Nutcracker
DESCRIPTION:Stream this holiday classic with dazzling costumes\, stunning sets\, creative puppets and soaring birds. Dec. 19-29. $24.99-$69.99.
URL:https://www.atlantaparent.com/event/moscow-ballets-great-russian-nutcracker/
ATTACH;FMTTYPE=image/jpeg:https://www.atlantaparent.com/wp-content/uploads/2016/11/great-russian-nutcracker-e1572879343432.jpg
END:VEVENT
BEGIN:VEVENT
DTSTART;TZID=UTC:20201224T100000
DTEND;TZID=UTC:20201224T110000
DTSTAMP:20260426T003442
CREATED:20200110T050033Z
LAST-MODIFIED:20200316T182231Z
UID:10002007-1608804000-1608807600@www.atlantaparent.com
SUMMARY:Grandma Snazzy's Storytime
DESCRIPTION:Due to cancellations to prevent the spread of coronavirus\, please verify event before you go. \nGrandma Snazzy reads every Mon.\, Thurs. and Fri. 10 a.m. Call before visiting to confirm she will be reading that day.
URL:https://www.atlantaparent.com/event/grandma-snazzys-storytime/2020-12-24/
LOCATION:Crabapple Kroger\, 12460 Crabapple Rd\, Ste. 301\, Alpharetta
GEO:34.0851933;-84.3572013
X-APPLE-STRUCTURED-LOCATION;VALUE=URI;X-ADDRESS=Crabapple Kroger 12460 Crabapple Rd Ste. 301 Alpharetta;X-APPLE-RADIUS=500;X-TITLE=12460 Crabapple Rd\, Ste. 301:geo:-84.3572013,34.0851933
END:VEVENT
BEGIN:VEVENT
DTSTART;TZID=America/New_York:20201231T090000
DTEND;TZID=America/New_York:20201231T160000
DTSTAMP:20260426T003442
CREATED:20201214T161003Z
LAST-MODIFIED:20201214T161003Z
UID:10005576-1609405200-1609430400@www.atlantaparent.com
SUMMARY:New Year's Eve at Kefi
DESCRIPTION:Ring in 2021 with play\, dance and a New Year’s countdown. Reservations required. $20. \n\n9-11 a.m.: Kids ages 6 and younger\n11:30 a.m.-1:30 p.m.: Kids ages 6 and younger\n2-4 p.m.: Kids 6 and older
URL:https://www.atlantaparent.com/event/new-years-eve-at-kefi/
LOCATION:Kefi\, 3637 Peachtree Rd NE\, Atlanta
GEO:33.852971;-84.358742
X-APPLE-STRUCTURED-LOCATION;VALUE=URI;X-ADDRESS=Kefi 3637 Peachtree Rd NE Atlanta;X-APPLE-RADIUS=500;X-TITLE=3637 Peachtree Rd NE:geo:-84.358742,33.852971
END:VEVENT
BEGIN:VEVENT
DTSTART;VALUE=DATE:20210116
DTEND;VALUE=DATE:20210510
DTSTAMP:20260426T003442
CREATED:20201208T170439Z
LAST-MODIFIED:20210510T124329Z
UID:10005572-1610755200-1620604799@www.atlantaparent.com
SUMMARY:The Pigeon Comes to Atlanta! A Mo Willems Exhibit
DESCRIPTION:Celebrate your favorite stories by having conversations as Elephant Gerald and Piggie\, dressing up Naked Mole Rat\, uncovering Knuffle Bunny\, launching foam hot dogs at The Pigeon and more. Reservation required. $12.95-$18.95; ages 11 months and younger\, free.
URL:https://www.atlantaparent.com/event/the-pigeon-comes-to-atlanta-a-mo-willems-exhibit/
LOCATION:Children’s Museum of Atlanta\, 275 Centennial Olympic Park Dr. NW\, Atlanta\, GA
ATTACH;FMTTYPE=image/jpeg:https://www.atlantaparent.com/wp-content/uploads/2020/12/180425_ChildrensMuseum_Pigeon_087-scaled-e1607447174212.jpg
END:VEVENT
BEGIN:VEVENT
DTSTART;VALUE=DATE:20210120
DTEND;VALUE=DATE:20210121
DTSTAMP:20260426T003442
CREATED:20210111T142736Z
LAST-MODIFIED:20210111T142736Z
UID:10005581-1611100800-1611187199@www.atlantaparent.com
SUMMARY:Virtual: Pearls and Pins Inauguration Read Aloud
DESCRIPTION:Join author Kesha Muhammad-Garrett for her read aloud of “If Kamala Can\,” so readers can get excited about the upcoming inauguration. Jan. 20\, 9 a.m.; 4 p.m. and 7:30 p.m. $5; signed copy of the book\, $22.99.
URL:https://www.atlantaparent.com/event/virtual-pearls-and-pins-inauguration-read-aloud/
END:VEVENT
BEGIN:VEVENT
DTSTART;VALUE=DATE:20210123
DTEND;VALUE=DATE:20210907
DTSTAMP:20260426T003442
CREATED:20210105T144821Z
LAST-MODIFIED:20210105T144821Z
UID:10005625-1611360000-1630972799@www.atlantaparent.com
SUMMARY:Zoo in You
DESCRIPTION:View the world of inner microorganisms and the microbiome to learn more about personal health with engaging\, interactive and bilingual exhibits. Reservation required. $15.95; ages 3-17\, $11.95; ages 2 and younger\, free.
URL:https://www.atlantaparent.com/event/zoo-in-you/
LOCATION:Tellus Science Museum\, 100 Tellus Drive\, Cartersville
GEO:34.2418518;-84.7706004
X-APPLE-STRUCTURED-LOCATION;VALUE=URI;X-ADDRESS=Tellus Science Museum 100 Tellus Drive Cartersville;X-APPLE-RADIUS=500;X-TITLE=100 Tellus Drive:geo:-84.7706004,34.2418518
END:VEVENT
BEGIN:VEVENT
DTSTART;VALUE=DATE:20210130
DTEND;VALUE=DATE:20210131
DTSTAMP:20260426T003442
CREATED:20210102T151806Z
LAST-MODIFIED:20210120T184524Z
UID:10005006-1611964800-1612051199@www.atlantaparent.com
SUMMARY:Virtual: Bert's Big Adventure Your Space Resolution Race
DESCRIPTION:Walk\, run or ride a distance of 1-mile\, 5K or 10K to benefit Bert’s Big Adventure\, a nonprofit that provides children with chronic and terminal illnesses an all-expenses paid trip to Disney World. $25; free for children.
URL:https://www.atlantaparent.com/event/fourth-of-july-your-space-virtual-race/
ATTACH;FMTTYPE=image/jpeg:https://www.atlantaparent.com/wp-content/uploads/2020/06/berts-big-2-scaled-e1593176215936.jpg
END:VEVENT
BEGIN:VEVENT
DTSTART;VALUE=DATE:20210130
DTEND;VALUE=DATE:20210503
DTSTAMP:20260426T003442
CREATED:20210114T214553Z
LAST-MODIFIED:20210201T135300Z
UID:10005587-1611964800-1619999999@www.atlantaparent.com
SUMMARY:Microsculpture
DESCRIPTION:Credit: Levon Biss \nThe tiny world of insects is magnified with portraits in this outdoor exhibit. Reservation required. $20; ages 3-12\, $18; ages 2 and younger\, free.
URL:https://www.atlantaparent.com/event/microsculpture/
LOCATION:Fernbank Museum of Natural History\, 767 Clifton Rd. NE\, Atlanta
ATTACH;FMTTYPE=image/jpeg:https://www.atlantaparent.com/wp-content/uploads/2021/01/2.-Jewel-Longhorned-Beetle-e1610660665531.jpg
GEO:33.7739166;-84.3277485
X-APPLE-STRUCTURED-LOCATION;VALUE=URI;X-ADDRESS=Fernbank Museum of Natural History 767 Clifton Rd. NE Atlanta;X-APPLE-RADIUS=500;X-TITLE=767 Clifton Rd. NE:geo:-84.3277485,33.7739166
END:VEVENT
BEGIN:VEVENT
DTSTART;TZID=America/New_York:20210130T103000
DTEND;TZID=America/New_York:20210130T150000
DTSTAMP:20260426T003442
CREATED:20201021T161856Z
LAST-MODIFIED:20210216T192914Z
UID:10005454-1612002600-1612018800@www.atlantaparent.com
SUMMARY:Family Art Escapes
DESCRIPTION:Three sessions allow you and your family to explore a monthly theme with an art-making activity and scavenger hunt. March: Paper Mosaics; April: Paper Lanterns; May: Fantastic Flowers. Reservation required. $14.50; ages 5 and younger\, free.
URL:https://www.atlantaparent.com/event/family-art-escapes/2021-01-30/
LOCATION:High Museum of Art\, 1280 Peachtree Street\, Atlanta
ATTACH;FMTTYPE=image/jpeg:https://www.atlantaparent.com/wp-content/uploads/2020/10/Second-Sunday-b-e1603297120543.jpg
GEO:33.7891582;-84.3849351
X-APPLE-STRUCTURED-LOCATION;VALUE=URI;X-ADDRESS=High Museum of Art 1280 Peachtree Street Atlanta;X-APPLE-RADIUS=500;X-TITLE=1280 Peachtree Street:geo:-84.3849351,33.7891582
END:VEVENT
BEGIN:VEVENT
DTSTART;TZID=America/New_York:20210130T180000
DTEND;TZID=America/New_York:20210130T210000
DTSTAMP:20260426T003442
CREATED:20210120T203814Z
LAST-MODIFIED:20210216T194821Z
UID:10005594-1612029600-1612040400@www.atlantaparent.com
SUMMARY:Museum Chills & Science Thrills
DESCRIPTION:Enjoy after-hours access to indoor exhibits and WildWoods\, themed science activities and demonstrations and more. Feb.-Freeze; March 27-Arts and Science. Reservation required. $20.
URL:https://www.atlantaparent.com/event/museum-chills-science-thrills/2021-01-30/
LOCATION:Fernbank Museum of Natural History\, 767 Clifton Road\, Atlanta
GEO:33.7739167;-84.3277484
X-APPLE-STRUCTURED-LOCATION;VALUE=URI;X-ADDRESS=Fernbank Museum of Natural History 767 Clifton Road Atlanta;X-APPLE-RADIUS=500;X-TITLE=767 Clifton Road:geo:-84.3277484,33.7739167
END:VEVENT
END:VCALENDAR