BEGIN:VCALENDAR
VERSION:2.0
PRODID:-//NEW Atlanta Parent - ECPv6.15.11//NONSGML v1.0//EN
CALSCALE:GREGORIAN
METHOD:PUBLISH
X-ORIGINAL-URL:https://www.atlantaparent.com
X-WR-CALDESC:Events for NEW Atlanta Parent
REFRESH-INTERVAL;VALUE=DURATION:PT1H
X-Robots-Tag:noindex
X-PUBLISHED-TTL:PT1H
BEGIN:VTIMEZONE
TZID:America/New_York
BEGIN:DAYLIGHT
TZOFFSETFROM:-0500
TZOFFSETTO:-0400
TZNAME:EDT
DTSTART:20250309T070000
END:DAYLIGHT
BEGIN:STANDARD
TZOFFSETFROM:-0400
TZOFFSETTO:-0500
TZNAME:EST
DTSTART:20251102T060000
END:STANDARD
BEGIN:DAYLIGHT
TZOFFSETFROM:-0500
TZOFFSETTO:-0400
TZNAME:EDT
DTSTART:20260308T070000
END:DAYLIGHT
BEGIN:STANDARD
TZOFFSETFROM:-0400
TZOFFSETTO:-0500
TZNAME:EST
DTSTART:20261101T060000
END:STANDARD
BEGIN:DAYLIGHT
TZOFFSETFROM:-0500
TZOFFSETTO:-0400
TZNAME:EDT
DTSTART:20270314T070000
END:DAYLIGHT
BEGIN:STANDARD
TZOFFSETFROM:-0400
TZOFFSETTO:-0500
TZNAME:EST
DTSTART:20271107T060000
END:STANDARD
END:VTIMEZONE
BEGIN:VTIMEZONE
TZID:UTC
BEGIN:STANDARD
TZOFFSETFROM:+0000
TZOFFSETTO:+0000
TZNAME:UTC
DTSTART:20250101T000000
END:STANDARD
END:VTIMEZONE
BEGIN:VEVENT
DTSTART;VALUE=DATE:20260422
DTEND;VALUE=DATE:20260424
DTSTAMP:20260419T202645
CREATED:20260401T173819Z
LAST-MODIFIED:20260415T150454Z
UID:10007746-1776816000-1776988799@www.atlantaparent.com
SUMMARY:The SpongeBob Musical: Youth Edition
DESCRIPTION:When the citizens of Bikini Bottom learn a volcano will soon erupt and destroy their home\, SpongeBob and his friends must work together to save their undersea world. April 22-23\, 6 p.m. $18.80.
URL:https://www.atlantaparent.com/event/the-spongebob-musical-youth-spotlight/
LOCATION:The Earl Smith Strand Theatre\, 117 N. Park Sq.\, Marietta
GEO:33.9535704;-84.5491677
X-APPLE-STRUCTURED-LOCATION;VALUE=URI;X-ADDRESS=The Earl Smith Strand Theatre 117 N. Park Sq. Marietta;X-APPLE-RADIUS=500;X-TITLE=117 N. Park Sq.:geo:-84.5491677,33.9535704
END:VEVENT
BEGIN:VEVENT
DTSTART;VALUE=DATE:20260422
DTEND;VALUE=DATE:20260427
DTSTAMP:20260419T202645
CREATED:20250129T050036Z
LAST-MODIFIED:20260210T134401Z
UID:10002433-1776816000-1777247999@www.atlantaparent.com
SUMMARY:Lemonade Days
DESCRIPTION:Amuse your family with carnival rides\, food and beverage vendors\, the popular Dunwoody Idol contest and stage performances. April 22-26. Wed.-Fri. 4-10 p.m.; Sat. 10 a.m.-10 p.m. and Sun. noon-6 p.m. Free admission; ride tickets\, $1.25 each.
URL:https://www.atlantaparent.com/event/lemonade-days/
LOCATION:Brook Run Park\, 4575 N. Shallowford Rd.\, Dunwoody
ATTACH;FMTTYPE=image/jpeg:https://www.atlantaparent.com/wp-content/uploads/2020/03/IMG_3364-lemondade-days-b-e1583430123460.jpg
GEO:33.9350292;-84.2974133
X-APPLE-STRUCTURED-LOCATION;VALUE=URI;X-ADDRESS=Brook Run Park 4575 N. Shallowford Rd. Dunwoody;X-APPLE-RADIUS=500;X-TITLE=4575 N. Shallowford Rd.:geo:-84.2974133,33.9350292
END:VEVENT
BEGIN:VEVENT
DTSTART;TZID=America/New_York:20260422T100000
DTEND;TZID=America/New_York:20260422T120000
DTSTAMP:20260419T202645
CREATED:20260315T173457Z
LAST-MODIFIED:20260316T143919Z
UID:10004036-1776852000-1776859200@www.atlantaparent.com
SUMMARY:Earth Day at Atlanta Botanical Garden
DESCRIPTION:Take part in engaging family activities to celebrate Earth Day. $27.95-$29.95; ages 3-12\, $24.95-$26.95; ages 2 and younger\, free.
URL:https://www.atlantaparent.com/event/earth-day-at-atlanta-botanical-garden/
LOCATION:Atlanta Botanical Garden\, 1345 Piedmont Ave.\, Atlanta
ATTACH;FMTTYPE=image/jpeg:https://www.atlantaparent.com/wp-content/uploads/2025/03/ABG-EarthDay2020.jpg
GEO:33.7900091;-84.3738585
X-APPLE-STRUCTURED-LOCATION;VALUE=URI;X-ADDRESS=Atlanta Botanical Garden 1345 Piedmont Ave. Atlanta;X-APPLE-RADIUS=500;X-TITLE=1345 Piedmont Ave.:geo:-84.3738585,33.7900091
END:VEVENT
END:VCALENDAR